BEGIN:VCALENDAR
VERSION:2.0
PRODID:openmensa.org
CALSCALE:GREGORIAN
METHOD:PUBLISH
URL;VALUE=URI:https://openmensa.org/ical/1856/astrid-lindgren-schule.ics
BEGIN:VEVENT
DTSTAMP:20260424T021540Z
UID:1671451
DTSTART;VALUE=DATE:20260424
DTEND;VALUE=DATE:20260424
DESCRIPTION:Menü:\n- Überbackenes Kartoffelrösti mit Speck\, Zwiebeln un
 d Kräutern\, Salat\n  * Glutenhaltiges Getreide\n  * Milch und Milcherzeu
 gnisse (einschließlich Laktose)\n  * mit Nitritpökelsalz\n  * Sellerie u
 nd Sellerieerzeugnisse\n  * Senf und Senferzeugnisse\n  * mit Süßungsmit
 tel\n  * mit Säuerungsmittel\n\nVegetarisches Menü:\n- Überbackenes Kar
 toffelrösti mit Paprika\, Brokkoli und Kräutern\, Salat\n  * Glutenhalti
 ges Getreide\n  * Milch und Milcherzeugnisse (einschließlich Laktose)\n  
 * Sellerie und Sellerieerzeugnisse\n  * Senf und Senferzeugnisse\n  * mit 
 Süßungsmittel\n  * mit Säuerungsmittel\n\n
SUMMARY:Astrid-Lindgren-Schule
END:VEVENT
BEGIN:VEVENT
DTSTAMP:20260424T021540Z
UID:1675207
DTSTART;VALUE=DATE:20260427
DTEND;VALUE=DATE:20260427
DESCRIPTION:Menü:\n- Tagesessen\n\nVegetarisches Menü:\n- Tagesessen\n\n
SUMMARY:Astrid-Lindgren-Schule
END:VEVENT
BEGIN:VEVENT
DTSTAMP:20260424T021540Z
UID:1675208
DTSTART;VALUE=DATE:20260428
DTEND;VALUE=DATE:20260428
DESCRIPTION:Menü:\n- Tagesessen\n\nVegetarisches Menü:\n- Tagesessen\n\n
SUMMARY:Astrid-Lindgren-Schule
END:VEVENT
BEGIN:VEVENT
DTSTAMP:20260424T021540Z
UID:1675209
DTSTART;VALUE=DATE:20260429
DTEND;VALUE=DATE:20260429
DESCRIPTION:Menü:\n- Tagesessen\n\nVegetarisches Menü:\n- Tagesessen\n\n
SUMMARY:Astrid-Lindgren-Schule
END:VEVENT
BEGIN:VEVENT
DTSTAMP:20260424T021540Z
UID:1675210
DTSTART;VALUE=DATE:20260430
DTEND;VALUE=DATE:20260430
DESCRIPTION:Menü:\n- Tagesessen\n\nVegetarisches Menü:\n- Tagesessen\n\n
SUMMARY:Astrid-Lindgren-Schule
END:VEVENT
END:VCALENDAR
