BEGIN:VCALENDAR
VERSION:2.0
PRODID:openmensa.org
CALSCALE:GREGORIAN
METHOD:PUBLISH
URL;VALUE=URI:https://openmensa.org/ical/1855/konrad-adenauer-schulzentrum.
 ics
BEGIN:VEVENT
DTSTAMP:20260424T021749Z
UID:1683786
DTSTART;VALUE=DATE:20260424
DTEND;VALUE=DATE:20260424
DESCRIPTION:Menü 1:\n- Putengeschnetzeltes\, Reis\, Gemüse\n  * Enthält 
 Milch und/oder daraus hergestellte Erzeugnisse (einschließlich Laktose)\n
   * Enthält Sellerie und/oder daraus hergestellte Erzeugnisse\n  * Keine 
 kennzeichnungspflichtigen Zusatzstoffe enthalten\n  * Keine vorhanden\n  *
  mit Farbstoff (§ 9 ZZulV)\n\nMenü 2 (Vegetarisch):\n- Frühlingssuppe m
 it Grießklößchen\, Kaiserbrötchen\n  * Enthält Eier und/oder daraus h
 ergestellte Erzeugnisse\n  * Enthält Glutenhaltiges Getreide (d.h. Weizen
 \, Roggen\, Gerste\, Hafer\, Dinkel\, Kamut oder Hybridstämme davon) und/
 oder daraus hergestellte Erzeugnisse\n  * Enthält Milch und/oder daraus h
 ergestellte Erzeugnisse (einschließlich Laktose)\n  * Enthält Weizen und
 /oder daraus hergestellte Erzeugnisse\n  * mit Farbstoff (§ 9 ZZulV)\n  *
  Keine kennzeichnungspflichtigen Zusatzstoffe enthalten\n\nPasta mit Gemü
 sesauce (Vegan):\n- Pasta\, Gemüsesauce\, Gemüseallerlei\n  * Enthält G
 lutenhaltiges Getreide (d.h. Weizen\, Roggen\, Gerste\, Hafer\, Dinkel\, K
 amut oder Hybridstämme davon) und/oder daraus hergestellte Erzeugnisse\n 
  * Enthält Weizen und/oder daraus hergestellte Erzeugnisse\n  * mit Farbs
 toff (§ 9 ZZulV)\n  * Enthält Sellerie und/oder daraus hergestellte Erze
 ugnisse\n  * Keine kennzeichnungspflichtigen Zusatzstoffe enthalten\n\n
SUMMARY:Konrad Adenauer Schulzentrum
END:VEVENT
END:VCALENDAR
