BEGIN:VCALENDAR
VERSION:2.0
PRODID:openmensa.org
CALSCALE:GREGORIAN
METHOD:PUBLISH
URL;VALUE=URI:https://openmensa.org/ical/1854/gymnasium-kleine-burg.ics
BEGIN:VEVENT
DTSTAMP:20260424T023343Z
UID:1675217
DTSTART;VALUE=DATE:20260427
DTEND;VALUE=DATE:20260427
DESCRIPTION:Menü 1:\n- Eisberg-Chinakohl-Möhren-Salat mit Essig-Öl-Dress
 ing\, DGE-Zertifiziert\, Paniertes Putenschnitzel mit Bratensoße an Erbse
 ngemüse und Kartoffeln\, Banane\n  * Senf und Senferzeugnisse\n  * Schwef
 eldioxid und Sulfine\n  * Glutenhaltige Getreide sowie daraus hergestellte
  Produkte\n  * Weizen\n  * Milch und Milcherzeugnisse (einschl. Laktose)\n
 \nMenü 2:\n- Eisberg-Chinakohl-Möhren-Salat mit Essig-Öl-Dressing\, Gem
 üsesuppe (Möhre\, Kartoffel\, Lauch) mit Baguette\, Banane\n  * Senf und
  Senferzeugnisse\n  * Schwefeldioxid und Sulfine\n  * Glutenhaltige Getrei
 de sowie daraus hergestellte Produkte\n  * Weizen\n  * Roggen\n\nNudelpoin
 t:\n- Käsesoße oder Pesto Rosso\n  * Milch und Milcherzeugnisse (einschl
 . Laktose)\n  * Schalenfrüchte /Nüsse sowie daraus hergestellte Erzeugni
 sse\n  * Mandel\n\nNudelpoint ohne Vorbestellung:\n- Tagesessen\n  * enth
 ält Schwefeldioxid und Sulfite\n  * Milch und Milcherzeugnisse\, enthält
  Laktose\n  * Glutenhaltiges Getreide sowie daraus hergestellte Erzeugniss
 e / d.h. Weizen\, Roggen Gerste\, Hafer\, Dinkel\n\n
SUMMARY:Gymnasium Kleine Burg
END:VEVENT
BEGIN:VEVENT
DTSTAMP:20260424T023343Z
UID:1675218
DTSTART;VALUE=DATE:20260428
DTEND;VALUE=DATE:20260428
DESCRIPTION:Menü 1:\n- Gurkensalat\, DGE-Zertifiziert\, Gemüsefrikadelle 
 (Karotten und Kohlrabi\, Lauch ) mit pikanter Tomatensoße und Bio Vollkor
 n Fusilli\, Stracciatellajoghurt\n  * Glutenhaltige Getreide sowie daraus 
 hergestellte Produkte\n  * Weizen\n  * Eier und Eierzeugnisse\n  * mit Ant
 ioxidationsmitteln\n  * Milch und Milcherzeugnisse (einschl. Laktose)\n\nM
 enü 2:\n- Gurkensalat\, Salatteller mit Gurke\, Tomate\, Eisbergsalat\, M
 öhre und Mozzarella dazu French-Dressing und ein Brötchen\, Stracciatell
 ajoghurt\n  * Glutenhaltige Getreide sowie daraus hergestellte Produkte\n 
  * Weizen\n  * Eier und Eierzeugnisse\n  * Milch und Milcherzeugnisse (ein
 schl. Laktose)\n  * Senf und Senferzeugnisse\n  * Schwefeldioxid und Sulfi
 ne\n  * Farbstoffe\n  * mit Konservierungsmitteln\n  * mit Antioxidationsm
 itteln\n\nNudelpoint:\n- Käsesoße oder Hähnchenrahmgulasch\n  * Gluten\
 n  * Weizen\n  * Milch\n\nNudelpoint ohne Vorbestellung:\n- Tagesessen\n  
 * enthält Schwefeldioxid und Sulfite\n  * Milch und Milcherzeugnisse\, en
 thält Laktose\n  * Glutenhaltiges Getreide sowie daraus hergestellte Erze
 ugnisse / d.h. Weizen\, Roggen Gerste\, Hafer\, Dinkel\n\n
SUMMARY:Gymnasium Kleine Burg
END:VEVENT
BEGIN:VEVENT
DTSTAMP:20260424T023343Z
UID:1675219
DTSTART;VALUE=DATE:20260429
DTEND;VALUE=DATE:20260429
DESCRIPTION:Menü 1:\n- Tomatensalat\, DGE-Zertifiziert\, Gebratener Eierre
 is mit Paprika\, Erbsen\, Zwiebeln und Ei\, Vanillepudding\n  * Eier und E
 ierzeugnisse\n  * Sellerie und Sellerieerzeugnisse\n  * Sesamsamen und Ses
 amerzeugnisse\n  * Milch und Milcherzeugnisse (einschl. Laktose)\n\nMenü 
 2:\n- Tomatensalat\, gefüllte Mini-Hefeklöße mit Kirschfüllung und Van
 illesoße\, Vanillepudding\n  * Gluten\n  * Weizen\n  * Milch und Milcherz
 eugnisse (einschl. Laktose)\n\nNudelpoint:\n- Käsesoße oder Tomatensoße
 \n  * Glutenhaltige Getreide sowie daraus hergestellte Produkte\n  * Eier 
 und Eierzeugnisse\n  * Milch und Milcherzeugnisse (einschl. Laktose)\n  * 
 Sellerie und Sellerieerzeugnisse\n\nNudelpoint ohne Vorbestellung:\n- Tage
 sessen\n  * enthält Schwefeldioxid und Sulfite\n  * Milch und Milcherzeug
 nisse\, enthält Laktose\n  * Glutenhaltiges Getreide sowie daraus hergest
 ellte Erzeugnisse / d.h. Weizen\, Roggen Gerste\, Hafer\, Dinkel\n\n
SUMMARY:Gymnasium Kleine Burg
END:VEVENT
BEGIN:VEVENT
DTSTAMP:20260424T023343Z
UID:1675220
DTSTART;VALUE=DATE:20260430
DTEND;VALUE=DATE:20260430
DESCRIPTION:Menü 1:\n- Eisberg-Orangensalat mit gerösteten Kernen\, DGE-Z
 ertifiziert\, Backfisch vom Seelachs mit Remoulade  und Kartoffelsalat Bay
 rische Art mit Gurke und Zwiebeln\, frisches Obst\n  * Milch\n  * Glutenha
 ltige Getreide sowie daraus hergestellte Produkte\n  * Weizen\n  * Eier un
 d Eierzeugnisse\n  * Fisch und Fischerzeugnisse\n  * Senf und Senferzeugni
 sse\n  * mit Konservierungsmitteln\n  * mit Süßungsmittel\n\nMenü 2:\n-
  Eisbergsalat-Orangensalat mit gerösteten Kernen\, Spätzlepfanne mit Mö
 hre\, Bohnen\, Paprika\, Mais und Erbsen an Kräutersoße\, frisches Obst\
 n  * Gluten\n  * Weizen\n  * Gerste\n  * Eier und Eierzeugnisse\n  * Milch
  und Milcherzeugnisse (einschl. Laktose)\n\nNudelpoint:\n- Käsesoße oder
  Käse-Lauchsoße mit Rinderhack\n  * Milch und Milcherzeugnisse (einschl.
  Laktose)\n  * Farbstoffe\n  * mit Phospat\n\nNudelpoint ohne Vorbestellun
 g:\n- Tagesessen\n  * enthält Schwefeldioxid und Sulfite\n  * Milch und M
 ilcherzeugnisse\, enthält Laktose\n  * Glutenhaltiges Getreide sowie dara
 us hergestellte Erzeugnisse / d.h. Weizen\, Roggen Gerste\, Hafer\, Dinkel
 \n\n
SUMMARY:Gymnasium Kleine Burg
END:VEVENT
END:VCALENDAR
