BEGIN:VCALENDAR
VERSION:2.0
PRODID:openmensa.org
CALSCALE:GREGORIAN
METHOD:PUBLISH
URL;VALUE=URI:https://openmensa.org/ical/1853/schule-am-teichgarten.ics
BEGIN:VEVENT
DTSTAMP:20260424T023059Z
UID:1683479
DTSTART;VALUE=DATE:20260427
DTEND;VALUE=DATE:20260427
DESCRIPTION:Menü 1:\n- Spaghetti Bolognese vom Rind mit Knoblauch\,ital.Kr
 äutern und geriebenen Hartkäse\n  * Erdnüsse und Erdnusserzeugnisse\n  
 * Soja und Sojaerzeugnisse\n  * Sellerie und Sellerieerzeugnisse\n\nMenü 
 2:\n- gefüllter Hefekloß mit Kirschfüllung und Vanillesoße\n  * Gluten
 haltiges Getreide\n  * Milch und Milcherzeugnisse (einschließlich Laktose
 )\n  * Eier und Eierzeugnisse\n  * mit Süßungsmittel\n\nBitte leer lasse
 n:\n- frische Blattsalate mit Zitronendressing\, frisches Obst\n  * Milch 
 und Milcherzeugnisse (einschließlich Laktose)\n\n
SUMMARY:Schule am Teichgarten
END:VEVENT
BEGIN:VEVENT
DTSTAMP:20260424T023059Z
UID:1683480
DTSTART;VALUE=DATE:20260428
DTEND;VALUE=DATE:20260428
DESCRIPTION:Menü 1:\n- Currywurst vom Schwein an würziger Soße mit hausg
 emachten Kartoffelecken\n  * Milch und Milcherzeugnisse (einschließlich L
 aktose)\n  * Erdnüsse und Erdnusserzeugnisse\n  * Soja und Sojaerzeugniss
 e\n  * Sellerie und Sellerieerzeugnisse\n  * Senf und Senferzeugnisse\n  *
  mit Süßungsmittel\n\nMenü 2:\n- Kartoffelsuppe mit Erbsen\,Möhren\,Se
 llerie\,Lauch dazu ein Vollkornbrötchen\n  * Glutenhaltiges Getreide\n  *
  Sesamsamen und Sesamsamenerzeugnisse\n  * Sellerie und Sellerieerzeugniss
 e\n  * Senf und Senferzeugnisse\n  * mit Geschmacksverstärker\n\nBitte le
 er lassen:\n- Grießpudding mit Kirschen\n  * Glutenhaltiges Getreide\n  *
  Milch und Milcherzeugnisse (einschließlich Laktose)\n\n
SUMMARY:Schule am Teichgarten
END:VEVENT
BEGIN:VEVENT
DTSTAMP:20260424T023059Z
UID:1683481
DTSTART;VALUE=DATE:20260429
DTEND;VALUE=DATE:20260429
DESCRIPTION:Menü 1:\n- vegetarische Frühlingsrolle an Currysoße mit Asia
 gemüse wie Bambus Sojasprossen\,Lauch und Vollkornreis\n  * Glutenhaltige
 s Getreide\n  * Eier und Eierzeugnisse\n  * Schalenfrüchte (Nüsse)\n  * 
 Soja und Sojaerzeugnisse\n  * Sellerie und Sellerieerzeugnisse\n\nMenü 2:
 \n- vegetarische Maultaschen mit Gemüsefüllung aus Karotte\,Spinat\,Sell
 erie\,in Tomatensoße gegart mit Käse überbacken\n  * Glutenhaltiges Get
 reide\n  * Milch und Milcherzeugnisse (einschließlich Laktose)\n  * Eier 
 und Eierzeugnisse\n  * Soja und Sojaerzeugnisse\n\nBitte leer lassen:\n- g
 emischter Blattsalat an Joghurt - Kräuterdressing\, Mandarinenquark\n  * 
 Glutenhaltiges Getreide\n  * Milch und Milcherzeugnisse (einschließlich L
 aktose)\n  * Eier und Eierzeugnisse\n  * Erdnüsse und Erdnusserzeugnisse\
 n  * Schalenfrüchte (Nüsse)\n  * mit Süßungsmittel\n\n
SUMMARY:Schule am Teichgarten
END:VEVENT
BEGIN:VEVENT
DTSTAMP:20260424T023059Z
UID:1683482
DTSTART;VALUE=DATE:20260430
DTEND;VALUE=DATE:20260430
DESCRIPTION:Menü 1:\n- gebratener Seelachs an Dillsoße und Kartoffeln\n\n
 Menü 2:\n- Spätzlepfanne mit Möhre\, Bohnen\, Paprika\, Mais und Erbsen
  an Kräutersoße\n  * Glutenhaltiges Getreide\n  * Milch und Milcherzeugn
 isse (einschließlich Laktose)\n  * Eier und Eierzeugnisse\n\nBitte leer l
 assen:\n- Gurkensalat\, frisches Obst\n  * Milch und Milcherzeugnisse (ein
 schließlich Laktose)\n\n
SUMMARY:Schule am Teichgarten
END:VEVENT
END:VCALENDAR
