BEGIN:VCALENDAR
VERSION:2.0
PRODID:openmensa.org
CALSCALE:GREGORIAN
METHOD:PUBLISH
URL;VALUE=URI:https://openmensa.org/ical/1852/ernst-goebel-schule.ics
BEGIN:VEVENT
DTSTAMP:20260424T023047Z
UID:1679643
DTSTART;VALUE=DATE:20260424
DTEND;VALUE=DATE:20260424
DESCRIPTION:Menü 1:\n- Menü 1\n\nMenü 2:\n- Menü 2\n\nPasta:\n- Pasta s
 olo\n\nPasta 1:\n- Pasta mit Beilage\n\n
SUMMARY:Ernst-Göbel-Schule
END:VEVENT
BEGIN:VEVENT
DTSTAMP:20260424T023047Z
UID:1683487
DTSTART;VALUE=DATE:20260427
DTEND;VALUE=DATE:20260427
DESCRIPTION:Menü 1:\n- Menü 1\n\nMenü 2:\n- Menü 2\n\nPasta:\n- Pasta s
 olo\n\nPasta 1:\n- Pasta mit Beilage\n\n
SUMMARY:Ernst-Göbel-Schule
END:VEVENT
BEGIN:VEVENT
DTSTAMP:20260424T023047Z
UID:1683488
DTSTART;VALUE=DATE:20260428
DTEND;VALUE=DATE:20260428
DESCRIPTION:Menü 1:\n- Menü 1\n\nMenü 2:\n- Menü 2\n\nPasta:\n- Pasta s
 olo\n\nPasta 1:\n- Pasta mit Beilage\n\n
SUMMARY:Ernst-Göbel-Schule
END:VEVENT
BEGIN:VEVENT
DTSTAMP:20260424T023047Z
UID:1683489
DTSTART;VALUE=DATE:20260429
DTEND;VALUE=DATE:20260429
DESCRIPTION:Menü 1:\n- Menü 1\n\nMenü 2:\n- Menü 2\n\nPasta:\n- Pasta s
 olo\n\nPasta 1:\n- Pasta mit Beilage\n\n
SUMMARY:Ernst-Göbel-Schule
END:VEVENT
BEGIN:VEVENT
DTSTAMP:20260424T023047Z
UID:1683490
DTSTART;VALUE=DATE:20260430
DTEND;VALUE=DATE:20260430
DESCRIPTION:Menü 1:\n- Menü 1\n\nMenü 2:\n- Menü 2\n\nPasta:\n- Pasta s
 olo\n\nPasta 1:\n- Pasta mit Beilage\n\n
SUMMARY:Ernst-Göbel-Schule
END:VEVENT
END:VCALENDAR
