BEGIN:VCALENDAR
VERSION:2.0
PRODID:openmensa.org
CALSCALE:GREGORIAN
METHOD:PUBLISH
URL;VALUE=URI:https://openmensa.org/ical/1851/grundschule-umkirch.ics
BEGIN:VEVENT
DTSTAMP:20260424T021750Z
UID:1671270
DTSTART;VALUE=DATE:20260424
DTEND;VALUE=DATE:20260424
DESCRIPTION:Menü 1:\n- Blattsalat mit Jogurt-Dressing\, Rohkost (Karotte\,
  Paprika und Gurke)\, Vier Gemüse-Nuggets mit Joghurtdip und Tomatenreis\
 n  * Sojabohnen\n  * Milch\n  * Sellerie\n  * Senf\n  * Schwefeldioxid und
  Sulfit\n  * mit Antioxidationsmittel\n  * geschwefelt\n  * Gluten\n  * Ge
 rste\n\n
SUMMARY:Grundschule Umkirch
END:VEVENT
BEGIN:VEVENT
DTSTAMP:20260424T021750Z
UID:1675061
DTSTART;VALUE=DATE:20260427
DTEND;VALUE=DATE:20260427
DESCRIPTION:Menü 1:\n- Blattsalat mit Jogurt-Dressing\, Rohkost (Karotte\,
  Paprika und Gurke)\, Soja-Paprika-Gulasch mit Kartoffelpürree\n  * Sojab
 ohnen\n  * Milch\n  * Sellerie\n  * Senf\n  * Schwefeldioxid und Sulfit\n 
  * mit Antioxidationsmittel\n  * geschwefelt\n  * Gluten\n\nMenü 2:\n- Bl
 attsalat mit Jogurt-Dressing\, Rohkost (Karotte\, Paprika und Gurke)\, Chi
 li sin Carne (Mais\, Rote Bohnen\, Paprika) Fusilli (Nudeln) dazu gerieben
 er Emmentaler\n  * Sojabohnen\n  * Milch\n  * Sellerie\n  * Senf\n  * Schw
 efeldioxid und Sulfit\n  * mit Antioxidationsmittel\n  * geschwefelt\n  * 
 Gluten\n  * Eier\n\n
SUMMARY:Grundschule Umkirch
END:VEVENT
BEGIN:VEVENT
DTSTAMP:20260424T021750Z
UID:1675062
DTSTART;VALUE=DATE:20260428
DTEND;VALUE=DATE:20260428
DESCRIPTION:Menü 1:\n- Blattsalat mit Jogurt-Dressing\, Rohkost (Karotte\,
  Paprika und Gurke)\, Tagesessen\, Rote Beete Burger im Burger Brötchen d
 azu Kartoffelecken und Ketchup\n  * Sojabohnen\n  * Milch\n  * Sellerie\n 
  * Senf\n  * Schwefeldioxid und Sulfit\n  * mit Antioxidationsmittel\n  * 
 geschwefelt\n  * Gluten\n  * Roggen\n  * Hafer\n\nMenü 2:\n- Blattsalat m
 it Jogurt-Dressing\, Rohkost (Karotte\, Paprika und Gurke)\, Kleines Puten
 schnitzel mit Bratensauce und Spätzle\n  * Sojabohnen\n  * Milch\n  * Sel
 lerie\n  * Senf\n  * Schwefeldioxid und Sulfit\n  * mit Antioxidationsmitt
 el\n  * geschwefelt\n  * Gluten\n  * Eier\n\n
SUMMARY:Grundschule Umkirch
END:VEVENT
BEGIN:VEVENT
DTSTAMP:20260424T021750Z
UID:1675063
DTSTART;VALUE=DATE:20260429
DTEND;VALUE=DATE:20260429
DESCRIPTION:Menü 1:\n- Blattsalat mit Jogurt-Dressing\, Gurkensalat mit Jo
 gurt\, Käsespätzle mit Emmentaler und Rahmsauce\n  * Sojabohnen\n  * Mil
 ch\n  * Sellerie\n  * Senf\n  * Schwefeldioxid und Sulfit\n  * mit Antioxi
 dationsmittel\n  * geschwefelt\n  * Gluten\n  * Eier\n\nMenü 2:\n- Blatts
 alat mit Jogurt-Dressing\, Gurkensalat mit Jogurt\, veg. Schnitzel (Erbsen
 protein) mit Rahmsauce\, Brokkoligemüse und Salzkartoffeln\n  * Sojabohne
 n\n  * Milch\n  * Sellerie\n  * Senf\n  * Schwefeldioxid und Sulfit\n  * m
 it Antioxidationsmittel\n  * geschwefelt\n  * Gluten\n\n
SUMMARY:Grundschule Umkirch
END:VEVENT
BEGIN:VEVENT
DTSTAMP:20260424T021750Z
UID:1675064
DTSTART;VALUE=DATE:20260430
DTEND;VALUE=DATE:20260430
DESCRIPTION:Menü 1:\n- Blattsalat mit Jogurt-Dressing\, Rohkost (Karotte\,
  Paprika und Gurke)\, Tomatencremesuppe mit Backerbsen und Roggen-Vollkorn
 brot\n  * Sojabohnen\n  * Milch\n  * Sellerie\n  * Senf\n  * Schwefeldioxi
 d und Sulfit\n  * mit Antioxidationsmittel\n  * geschwefelt\n  * Gluten\n 
  * Roggen\n  * Gerste\n  * Sesam\n\nMenü 2:\n- Blattsalat mit Jogurt-Dres
 sing\, Rohkost (Karotte\, Paprika und Gurke)\, kleines panierter Seelachsf
 ilet dazu gedämpfter Reis und Karottengemüse\n  * Sojabohnen\n  * Milch\
 n  * Sellerie\n  * Senf\n  * Schwefeldioxid und Sulfit\n  * mit Antioxidat
 ionsmittel\n  * geschwefelt\n  * Eier\n  * Fisch\n\n
SUMMARY:Grundschule Umkirch
END:VEVENT
END:VCALENDAR
