BEGIN:VCALENDAR
VERSION:2.0
PRODID:openmensa.org
CALSCALE:GREGORIAN
METHOD:PUBLISH
URL;VALUE=URI:https://openmensa.org/ical/1850/werkgymnasium.ics
BEGIN:VEVENT
DTSTAMP:20260424T021628Z
UID:1671006
DTSTART;VALUE=DATE:20260424
DTEND;VALUE=DATE:20260424
DESCRIPTION:Suppe:\n- Gemüsecremesuppe [V] [i]\, dazu ein Brötchen [a\, a
 1]\n\nHauptgericht:\n- Spaghetti [a\, a1\, c] mit Tomatenkäsesoße [V] [i
 ] und Beilagensalat mit Dressing [c\, j]\n\nVegetarisch:\n- Falafel-Taler 
 aus Kichererbsen [V] [a\, a1]\, Kartoffel Wedges mit Tomatensoße  [V] [i]
  und Beilagensalat mit Dressing [c\, j]\n\nSalatteller:\n- Bunter Salattel
 ler mit verschiedenen Dressings [c\, g\, j]\, dazu Hähnchen-Knusperschnit
 zel [G] [a\, a1] und ein Brötchen [a1\, a]\n\nDessert:\n- Joghurt Vanille
  [g]\n\n
SUMMARY:Werkgymnasium
END:VEVENT
BEGIN:VEVENT
DTSTAMP:20260424T021628Z
UID:1674873
DTSTART;VALUE=DATE:20260427
DTEND;VALUE=DATE:20260427
DESCRIPTION:Suppe:\n- Blumenkohlcremesuppe [a\, a1\, a3\, g] und ein Brötc
 hen [a\, a1]\n\nHauptgericht:\n- Bunte Spiralnudeln [a\, a1] mit Käsesoß
 e [V] [a\, a1\, a3\, g] und Beilagensalat mit Dressing [c\, g]\n\nVegetari
 sch:\n- Rösti Ecken mit Leipziger Allerlei in heller Rahmsoße [V] [a\, a
 1\, a3\, g] und Beilagensalat mit Dressing [c\, g]\n\nSalatteller:\n- Bunt
 er Salatteller mit verschiedenen Dressings [c\, g\, j]\, dazu Hähnchen-Kn
 usperschnitzel [G] [a\, a1] und ein Brötchen [a1\, a]\n\nDessert:\n- Scho
 ko-Milchpudding [g]\n\n
SUMMARY:Werkgymnasium
END:VEVENT
BEGIN:VEVENT
DTSTAMP:20260424T021628Z
UID:1674874
DTSTART;VALUE=DATE:20260428
DTEND;VALUE=DATE:20260428
DESCRIPTION:Suppe:\n- Grießklößchensuppe mit Gemüse [a\, a1\, c\, g\, i
 ] und einem Brötchen [a\, a1]*V\n\nHauptgericht:\n- Hähnchenbruststreife
 n in Rahmsoße [G] [a\, a1] mit Spätzle [a\, a1\, c] und Beilagensalat mi
 t Dressing\n\nVegetarisch:\n- Couscous-Pfanne mit Paprika\, Zucchini und M
 öhren [V] mit Hirtenkäsewürfel [g] und Beilagensalat mit Dressing\n\nSa
 latteller:\n- Bunter Salatteller mit verschiedenen Dressings [c\, g\, j]\,
  dazu Chicken-Nuggets [a\, a1] und ein Brötchen [a1\, a]\n\nDessert:\n- V
 anillejoghurt [g]\n\n
SUMMARY:Werkgymnasium
END:VEVENT
BEGIN:VEVENT
DTSTAMP:20260424T021628Z
UID:1674875
DTSTART;VALUE=DATE:20260429
DTEND;VALUE=DATE:20260429
DESCRIPTION:Suppe:\n- Klare Rinder-Brühe mit Nudeln*R [a\, a1\, c] und ein
 em Brötchen [a\, a1\, ]\n\nHauptgericht:\n- Alaska Seelachsfilet im Backt
 eig [F] [a\, a1\, c\, d\, j] mit Kartoffelstampf\, "hausgemacht" [g]\, Sen
 fsoße [V] [a\, a1\, a3\, g\, j] und Erbsen\n\nVegetarisch:\n- Spiralnudel
 n [a\, a1] mit Tomaten-Basilikumsoße [i]\, geriebenem Hartkäse [g] und Z
 ucchiniwürfel\n\nSalatteller:\n- Bunter Salatteller mit verschiedenen Dre
 ssings [c\, g\, j]\, dazu Falafelbällchen aus Kichererbsen  [j] und ein B
 rötchen [a1\, a]\n\n
SUMMARY:Werkgymnasium
END:VEVENT
BEGIN:VEVENT
DTSTAMP:20260424T021628Z
UID:1674876
DTSTART;VALUE=DATE:20260430
DTEND;VALUE=DATE:20260430
DESCRIPTION:Suppe:\n- Gemüsebrühe mit Backerbsen [a\, a1\,c\, g]\, dazu e
 in Brötchen [a\, a1]*V\n\nHauptgericht:\n- Gnocchi [a\, a1] mit Ratatouil
 le Gemüse aus Tomaten\, Zucchini und Aubergine\, dazu Tomatensoße (3)\n\
 nVegetarisch:\n- Langkornreis mit Champignon-Rahmsoße [a\, a1\, a3\, g] u
 nd Karotten gewürfelt\n\nSalatteller:\n- Bunter Salatteller mit verschied
 enen Dressings [c\, g\, j]\, dazu Hirtenkäse [g]\, Oliven schwarz (6) und
  ein Brötchen [a1\, a]\n\nDessert:\n- Karamellsahnepudding [g]\n\n
SUMMARY:Werkgymnasium
END:VEVENT
END:VCALENDAR
