BEGIN:VCALENDAR
VERSION:2.0
PRODID:openmensa.org
CALSCALE:GREGORIAN
METHOD:PUBLISH
URL;VALUE=URI:https://openmensa.org/ical/1848/max-windmueller-gymnasium-emd
 en.ics
BEGIN:VEVENT
DTSTAMP:20260424T025401Z
UID:1679788
DTSTART;VALUE=DATE:20260424
DTEND;VALUE=DATE:20260424
DESCRIPTION:Mittagsbuffet:\n- Buffet inkl. Dessert (min. 38% Bio Anteil)\n\
 n
SUMMARY:Max-Windmüller-Gymnasium Emden
END:VEVENT
BEGIN:VEVENT
DTSTAMP:20260424T025401Z
UID:1685303
DTSTART;VALUE=DATE:20260427
DTEND;VALUE=DATE:20260427
DESCRIPTION:Mittagsbuffet:\n- Buffet inkl. Dessert (min. 38% Bio Anteil)\n\
 n
SUMMARY:Max-Windmüller-Gymnasium Emden
END:VEVENT
BEGIN:VEVENT
DTSTAMP:20260424T025401Z
UID:1685304
DTSTART;VALUE=DATE:20260428
DTEND;VALUE=DATE:20260428
DESCRIPTION:Mittagsbuffet:\n- Buffet inkl. Dessert (min. 38% Bio Anteil)\n\
 n
SUMMARY:Max-Windmüller-Gymnasium Emden
END:VEVENT
BEGIN:VEVENT
DTSTAMP:20260424T025401Z
UID:1685305
DTSTART;VALUE=DATE:20260429
DTEND;VALUE=DATE:20260429
DESCRIPTION:Mittagsbuffet:\n- Buffet inkl. Dessert (min. 38% Bio Anteil)\n\
 n
SUMMARY:Max-Windmüller-Gymnasium Emden
END:VEVENT
BEGIN:VEVENT
DTSTAMP:20260424T025401Z
UID:1685306
DTSTART;VALUE=DATE:20260430
DTEND;VALUE=DATE:20260430
DESCRIPTION:Mittagsbuffet:\n- Buffet inkl. Dessert (min. 38% Bio Anteil)\n\
 n
SUMMARY:Max-Windmüller-Gymnasium Emden
END:VEVENT
END:VCALENDAR
