BEGIN:VCALENDAR
VERSION:2.0
PRODID:openmensa.org
CALSCALE:GREGORIAN
METHOD:PUBLISH
URL;VALUE=URI:https://openmensa.org/ical/1846/euregio-gymnasium.ics
BEGIN:VEVENT
DTSTAMP:20260424T023058Z
UID:1679970
DTSTART;VALUE=DATE:20260424
DTEND;VALUE=DATE:20260424
DESCRIPTION:Menü 1:\n- Rinderhackfleischbällchen mit Kartoffelgratin und 
 Gemüsemix "Euro" (Romanobohnen\, Karotten\, Brokkoli) (Rind)\, Kirschquar
 k\n  * Glutenhaltiges Getreide\n  * Senf\n  * Weizen\n  * Eier\n  * Milch 
 (einschließlich Laktose)\n  * Sellerie\n\nMenü 2:\n- Linseneintopf mit M
 ehrkornbaguette (Vegetarisch)\, Kirschquark\n  * Glutenhaltiges Getreide\n
   * Sesam\n  * Schwefeldioxid und Sulfite\n  * Weizen\n  * Sojabohnen\n  *
  Milch (einschließlich Laktose)\n  * Sellerie\n  * mit Antioxidationsmitt
 el\n  * geschwefelt\n\nAllergieessen:\n- Allergenfreie Alternative\n\n
SUMMARY:Euregio-Gymnasium
END:VEVENT
BEGIN:VEVENT
DTSTAMP:20260424T023058Z
UID:1679971
DTSTART;VALUE=DATE:20260427
DTEND;VALUE=DATE:20260427
DESCRIPTION:Menü 1:\n- Backfisch mit Kartoffelpüree und Erbsen-Möhren in
  Rahm (Fisch)\, Frischobst\n  * Glutenhaltiges Getreide\n  * Weizen\n  * G
 erste\n  * Fische\n  * Milch (einschließlich Laktose)\n  * mit Phosphat\n
 \nMenü 2:\n- Polenta-Spinat-Knuspertasche mit Ratatouille-Gemüsesauce un
 d Gurkensalat (Vegetarisch)\, Frischobst\n  * Glutenhaltiges Getreide\n  *
  Senf\n  * Schwefeldioxid und Sulfite\n  * Weizen\n  * Milch (einschließl
 ich Laktose)\n  * Sellerie\n  * mit Antioxidationsmittel\n  * geschwefelt\
 n\nAllergieessen:\n- Allergenfreie Alternative\n\n
SUMMARY:Euregio-Gymnasium
END:VEVENT
BEGIN:VEVENT
DTSTAMP:20260424T023058Z
UID:1679972
DTSTART;VALUE=DATE:20260428
DTEND;VALUE=DATE:20260428
DESCRIPTION:Menü 1:\n- Gyrosgeschnetzeltes in Sauce mit Reis und Blumenkoh
 l (Geflügel)\, Vanillepudding\n  * Glutenhaltiges Getreide\n  * Weizen\n 
  * Gerste\n  * Milch (einschließlich Laktose)\n  * mit Farbstoff\n\nMenü
  2:\n- Reibekuchen mit Apfelmus (Vegetarisch)\, Vanillepudding\n  * Gluten
 haltiges Getreide\n  * Weizen\n  * Eier\n  * mit Antioxidationsmittel\n  *
  Milch (einschließlich Laktose)\n  * mit Farbstoff\n\nAllergieessen:\n- A
 llergenfreie Alternative\n\n
SUMMARY:Euregio-Gymnasium
END:VEVENT
BEGIN:VEVENT
DTSTAMP:20260424T023058Z
UID:1679973
DTSTART;VALUE=DATE:20260429
DTEND;VALUE=DATE:20260429
DESCRIPTION:Menü 1:\n- Rinderfrikadelle mit Kartoffeln und Kräuterrahmsau
 ce\, dazu Blattsalat und Vinaigrette (Rind)\, Aprikosenjoghurt\n  * Gluten
 haltiges Getreide\n  * Senf\n  * Schwefeldioxid und Sulfite\n  * Weizen\n 
  * Eier\n  * Milch (einschließlich Laktose)\n  * mit Antioxidationsmittel
 \n  * geschwefelt\n\nMenü 2:\n- Falafelbällchen mit Reis\, dazu Ingwer-T
 omatensugo und Brokkoli (Vegetarisch)\, Aprikosenjoghurt\n  * Glutenhaltig
 es Getreide\n  * Schwefeldioxid und Sulfite\n  * Weizen\n  * mit Antioxida
 tionsmittel\n  * geschwefelt\n  * Milch (einschließlich Laktose)\n\nAller
 gieessen:\n- Allergenfreie Alternative\n\n
SUMMARY:Euregio-Gymnasium
END:VEVENT
BEGIN:VEVENT
DTSTAMP:20260424T023058Z
UID:1679974
DTSTART;VALUE=DATE:20260430
DTEND;VALUE=DATE:20260430
DESCRIPTION:Menü 1:\n- Hähnchenbrust mit Rahmsauce\, dazu Spiralnudeln un
 d Brokkoli (Geflügel)\, Frischobst\n  * Glutenhaltiges Getreide\n  * Weiz
 en\n  * Gerste\n  * Milch (einschließlich Laktose)\n\nMenü 2:\n- Käsesp
 ätzle mit Rahmsauce und Röstzwiebeln\, dazu Blattsalat und Joghurtdressi
 ng (Vegetarisch)\, Frischobst\n  * Glutenhaltiges Getreide\n  * Senf\n  * 
 Schwefeldioxid und Sulfite\n  * Weizen\n  * Gerste\n  * Eier\n  * Milch (e
 inschließlich Laktose)\n  * mit Antioxidationsmittel\n  * geschwefelt\n\n
 Allergieessen:\n- Allergenfreie Alternative\n\n
SUMMARY:Euregio-Gymnasium
END:VEVENT
END:VCALENDAR
