BEGIN:VCALENDAR
VERSION:2.0
PRODID:openmensa.org
CALSCALE:GREGORIAN
METHOD:PUBLISH
URL;VALUE=URI:https://openmensa.org/ical/1836/leibnizschule-wiesbaden.ics
BEGIN:VEVENT
DTSTAMP:20260424T021826Z
UID:1671534
DTSTART;VALUE=DATE:20260424
DTEND;VALUE=DATE:20260424
DESCRIPTION:Menü 1 (vegetarisch):\n- 4 vegetarische Gemüsemaultaschen\, m
 it Käse überbacken\, und einer hellen Sauce\n  * Weizen sowie Dinkel und
  Khorasan-Weizen\n  * enthält Ei\n  * enthält Sellerie\n  * enthält Mil
 ch (einschließlich Laktose)\n\nMenü 2:\n- 3 Semmelknödel\, Waldpilzrago
 ut\, Salat aus der Salatbar\n  * Weizen sowie Dinkel und Khorasan-Weizen\n
   * enthält Ei\n  * enthält Soja\n  * enthält Milch (einschließlich La
 ktose)\n  * mit Farbstoff\n  * mit Antioxidationsmittel\n\nMenü 3 (Pasta-
 Bar):\n- Verschiedene wechselnde Nudeln ( Spirelli\, Penne\, Fusilli oder 
 Spaghetti )\, Gemüsebolognese\n  * Weizen sowie Dinkel und Khorasan-Weize
 n\n\nGlutenfrei:\n- Nudeln glutenfrei\, Waldpilzragout\, Salat aus der Sal
 atbar\n  * enthält Soja\n  * enthält Milch (einschließlich Laktose)\n  
 * mit Farbstoff\n  * mit Antioxidationsmittel\n\n
SUMMARY:Leibnizschule Wiesbaden
END:VEVENT
BEGIN:VEVENT
DTSTAMP:20260424T021826Z
UID:1675285
DTSTART;VALUE=DATE:20260427
DTEND;VALUE=DATE:20260427
DESCRIPTION:Menü 1 (vegetarisch):\n- Ofenkartoffel\, Kräuterquark\, Salat
 garnitur\n  * enthält Milch (einschließlich Laktose)\n  * mit Konservier
 ungsstoff\n  * mit Antioxidationsmittel\n  * geschwefelt\n\nMenü 2:\n- Pe
 nne Nudeln\, Tomatenragout\, geriebener Goudakäse\n  * Weizen sowie Dinke
 l und Khorasan-Weizen\n  * enthält Milch (einschließlich Laktose)\n  * m
 it Farbstoff\n  * mit Konservierungsstoff\n\nMenü 3 (Pasta-Bar):\n- Versc
 hiedene wechselnde Nudeln ( Spirelli\, Penne\, Fusilli oder Spaghetti )\, 
 Tomatenpesto\n  * Weizen sowie Dinkel und Khorasan-Weizen\n  * enthält Mi
 lch (einschließlich Laktose)\n\nGlutenfrei:\n- Ofenkartoffel\, Kräuterqu
 ark\, Salatgarnitur\n  * enthält Milch (einschließlich Laktose)\n  * mit
  Konservierungsstoff\n  * mit Antioxidationsmittel\n  * geschwefelt\n\n
SUMMARY:Leibnizschule Wiesbaden
END:VEVENT
BEGIN:VEVENT
DTSTAMP:20260424T021826Z
UID:1675286
DTSTART;VALUE=DATE:20260428
DTEND;VALUE=DATE:20260428
DESCRIPTION:Menü 1 (vegetarisch):\n- Vegetarische Frühlingsrollen\, Gemü
 sereis\, Süß-Sauer Sauce\n  * Weizen sowie Dinkel und Khorasan-Weizen\n 
  * enthält Ei\n  * enthält Soja\n  * enthält Milch (einschließlich Lak
 tose)\n  * enthält Sellerie\n  * enthält Senf\n  * enthält Schwefeldiox
 id und Sulphite\n  * mit Konservierungsstoff\n  * mit Antioxidationsmittel
 \n  * geschwefelt\n\nMenü 2:\n- Gebratene Hähnchenbrust\, Geflügelsauce
 \, Muscheln Nudeln\, Salat aus der Salatbar\n  * enthält Milch (einschlie
 ßlich Laktose)\n  * enthält Sellerie\n  * mit Farbstoff\n  * mit Konserv
 ierungsstoff\n\nMenü 3 (Pasta-Bar):\n- Verschiedene wechselnde Nudeln ( S
 pirelli\, Penne\, Fusilli oder Spaghetti )\, mit einer hellen Kräutersauc
 e\n  * Weizen sowie Dinkel und Khorasan-Weizen\n  * enthält Milch (einsch
 ließlich Laktose)\n\nGlutenfrei:\n- Gebratene Hähnchenbrust\, Geflügels
 auce\, Gemüsereis\, Salat aus der Salatbar\n  * enthält Milch (einschlie
 ßlich Laktose)\n  * enthält Sellerie\n  * mit Farbstoff\n  * mit Konserv
 ierungsstoff\n\n
SUMMARY:Leibnizschule Wiesbaden
END:VEVENT
BEGIN:VEVENT
DTSTAMP:20260424T021826Z
UID:1675287
DTSTART;VALUE=DATE:20260429
DTEND;VALUE=DATE:20260429
DESCRIPTION:Menü 1 (vegetarisch):\n- Eieromelette\, Rahmspinat\, Kartoffel
 püree\n  * enthält Ei\n  * enthält Milch (einschließlich Laktose)\n  *
  enthält Schwefeldioxid und Sulphite\n\nMenü 2:\n- Schwäbische Käsesp
 ätzle\, Röstzwiebeln\, Salatgarnitur\n  * Weizen sowie Dinkel und Khoras
 an-Weizen\n  * enthält Ei\n  * mit Farbstoff\n  * mit Konservierungsstoff
 \n  * mit Antioxidationsmittel\n  * geschwefelt\n\nMenü 3 (Pasta-Bar):\n-
  Verschiedene wechselnde Nudeln ( Spirelli\, Penne\, Fusilli oder Spaghett
 i )\, mit einem grünen Pesto\n  * Weizen sowie Dinkel und Khorasan-Weizen
 \n  * enthält Soja\n  * enthält Sellerie\n  * mit Farbstoff\n  * mit Kon
 servierungsstoff\n\nGlutenfrei:\n- Eieromelette\, Rahmspinat\, Kartoffelp
 üree\n  * enthält Ei\n  * enthält Milch (einschließlich Laktose)\n  * 
 enthält Schwefeldioxid und Sulphite\n\n
SUMMARY:Leibnizschule Wiesbaden
END:VEVENT
BEGIN:VEVENT
DTSTAMP:20260424T021826Z
UID:1675288
DTSTART;VALUE=DATE:20260430
DTEND;VALUE=DATE:20260430
DESCRIPTION:Menü 1 (vegetarisch):\n- Veganes Linsenmoussaka\, Tomatensauce
 \n  * enthält Soja\n  * enthält Sellerie\n  * mit Farbstoff\n  * mit Ant
 ioxidationsmittel\n\nMenü 2:\n- Rindswurst\, Currysauce\, Kartoffelwedges
 \n  * Weizen sowie Dinkel und Khorasan-Weizen\n  * enthält Milch (einschl
 ießlich Laktose)\n  * enthält Senf\n  * enthält Schwefeldioxid und Sulp
 hite\n  * mit Farbstoff\n  * mit Antioxidationsmittel\n  * mit Säuerungsm
 ittel\n\nMenü 3 (Pasta-Bar):\n- Verschiedene wechselnde Nudeln ( Spirelli
 \, Penne\, Fusilli oder Spaghetti )\, Tomatensauce\n  * Weizen sowie Dinke
 l und Khorasan-Weizen\n  * enthält Soja\n  * enthält Sellerie\n  * mit F
 arbstoff\n  * mit Antioxidationsmittel\n\nGlutenfrei:\n- Rindswurst\, Curr
 ysauce\, Kartoffelwedges\n  * Weizen sowie Dinkel und Khorasan-Weizen\n  *
  enthält Milch (einschließlich Laktose)\n  * enthält Senf\n  * enthält
  Schwefeldioxid und Sulphite\n  * mit Farbstoff\n  * mit Antioxidationsmit
 tel\n  * mit Säuerungsmittel\n\n
SUMMARY:Leibnizschule Wiesbaden
END:VEVENT
END:VCALENDAR
