BEGIN:VCALENDAR
VERSION:2.0
PRODID:openmensa.org
CALSCALE:GREGORIAN
METHOD:PUBLISH
URL;VALUE=URI:https://openmensa.org/ical/1835/freie-waldorfschule-loerrach.
 ics
BEGIN:VEVENT
DTSTAMP:20260424T021541Z
UID:1675274
DTSTART;VALUE=DATE:20260424
DTEND;VALUE=DATE:20260424
DESCRIPTION:Tagesmenü:\n- Kleiner Salat\, Kartoffelpuffer\, Apfelkompott\,
  Dessertauswahl\n  * Eier und Eierzeugnisse\n\nTagesmenü ohne Dessert:\n-
  Kleiner Salat\, Kartoffelpuffer\, Apfelkompott\n  * Eier und Eierzeugniss
 e\n\nTagesmenü ohne Salat:\n- Kartoffelpuffer\, Apfelkompott\, Dessertaus
 wahl\n  * Eier und Eierzeugnisse\n\nTagesessen:\n- Kartoffelpuffer\, Apfel
 kompott\n  * Eier und Eierzeugnisse\n\nVegetarisch Menü:\n- Kleiner Salat
 \, Tagesempfehlung\, Dessertauswahl\n\nVegetarisch ohne Salat:\n- Tagesemp
 fehlung\, Dessertauswahl\n\nVegetarisch:\n- Tagesempfehlung\n\nVegetarisch
  Menü ohne Dessert:\n- Kleiner Salat\, Tagesempfehlung\n\nSalatteller:\n-
  Salatteller\n\nKleiner Salat:\n- Kleiner Salat\n\nMenü für die Hüte:\n
 - Tagesempfehlung\n\n
SUMMARY:Freie Waldorfschule Lörrach
END:VEVENT
BEGIN:VEVENT
DTSTAMP:20260424T021541Z
UID:1675275
DTSTART;VALUE=DATE:20260427
DTEND;VALUE=DATE:20260427
DESCRIPTION:Tagesmenü:\n- Kleiner Salat\, Vegetarisches Chilli (Vegan)\, B
 io-Langkornreis\, Sauerrahm\, Dessertauswahl\n  * Glutenhaltiges Getreide\
 n  * Milch und Milcherzeugnisse (einschließlich Laktose)\n  * Sesamsamen 
 und Sesamsamenerzeugnisse\n  * Soja und Sojaerzeugnisse\n  * Sellerie und 
 Sellerieerzeugnisse\n  * mit Süßungsmittel\n\nTagesessen:\n- Vegetarisch
 es Chilli (Vegan)\, Bio-Langkornreis\, Sauerrahm\n  * Glutenhaltiges Getre
 ide\n  * Milch und Milcherzeugnisse (einschließlich Laktose)\n  * Sesamsa
 men und Sesamsamenerzeugnisse\n  * Soja und Sojaerzeugnisse\n  * Sellerie 
 und Sellerieerzeugnisse\n  * mit Süßungsmittel\n\nVegetarisch Menü:\n- 
 Kleiner Salat\, Vegetarisches Chilli (Vegan)\, Bio-Langkornreis\, Sauerrah
 m\, Dessertauswahl\n  * Glutenhaltiges Getreide\n  * Milch und Milcherzeug
 nisse (einschließlich Laktose)\n  * Sesamsamen und Sesamsamenerzeugnisse\
 n  * Soja und Sojaerzeugnisse\n  * Sellerie und Sellerieerzeugnisse\n  * m
 it Süßungsmittel\n\nVegetarisch ohne Salat:\n- Vegetarisches Chilli (Veg
 an)\, Bio-Langkornreis\, Sauerrahm\, Dessertauswahl\n  * Glutenhaltiges Ge
 treide\n  * Milch und Milcherzeugnisse (einschließlich Laktose)\n  * Sesa
 msamen und Sesamsamenerzeugnisse\n  * Soja und Sojaerzeugnisse\n  * Seller
 ie und Sellerieerzeugnisse\n  * mit Süßungsmittel\n\nVegetarisch:\n- Veg
 etarisches Chilli (Vegan)\, Bio-Langkornreis\, Sauerrahm\n  * Glutenhaltig
 es Getreide\n  * Milch und Milcherzeugnisse (einschließlich Laktose)\n  *
  Sesamsamen und Sesamsamenerzeugnisse\n  * Soja und Sojaerzeugnisse\n  * S
 ellerie und Sellerieerzeugnisse\n  * mit Süßungsmittel\n\nVegetarisch Me
 nü ohne Dessert:\n- Kleiner Salat\, Vegetarisches Chilli (Vegan)\, Bio-La
 ngkornreis\, Sauerrahm\n  * Glutenhaltiges Getreide\n  * Milch und Milcher
 zeugnisse (einschließlich Laktose)\n  * Sesamsamen und Sesamsamenerzeugni
 sse\n  * Soja und Sojaerzeugnisse\n  * Sellerie und Sellerieerzeugnisse\n 
  * mit Süßungsmittel\n\nSalatteller:\n- Salatteller\n\nKleiner Salat:\n-
  Kleiner Salat\n\nMenü für die Hüte:\n- Tagesempfehlung\n\n
SUMMARY:Freie Waldorfschule Lörrach
END:VEVENT
BEGIN:VEVENT
DTSTAMP:20260424T021541Z
UID:1675276
DTSTART;VALUE=DATE:20260428
DTEND;VALUE=DATE:20260428
DESCRIPTION:Tagesmenü:\n- Kleiner Salat\, Gemüse-Suppen-Topf mit Kartoffe
 ln\, Vollkornbrötchen\, Dessertauswahl\n  * Sesamsamen und Sesamsamenerze
 ugnisse\n  * Sellerie und Sellerieerzeugnisse\n  * Glutenhaltiges Getreide
 \n  * Milch und Milcherzeugnisse (einschließlich Laktose)\n  * Eier und E
 ierzeugnisse\n  * Schalenfrüchte (Nüsse)\n\nTagesessen:\n- Gemüse-Suppe
 n-Topf mit Kartoffeln\, Vollkornbrötchen\n  * Sesamsamen und Sesamsamener
 zeugnisse\n  * Sellerie und Sellerieerzeugnisse\n  * Glutenhaltiges Getrei
 de\n  * Milch und Milcherzeugnisse (einschließlich Laktose)\n  * Eier und
  Eierzeugnisse\n  * Schalenfrüchte (Nüsse)\n\nVegetarisch Menü:\n- Klei
 ner Salat\, Gemüse-Suppen-Topf mit Kartoffeln\, Vollkornbrötchen\, Desse
 rtauswahl\n  * Sesamsamen und Sesamsamenerzeugnisse\n  * Sellerie und Sell
 erieerzeugnisse\n  * Glutenhaltiges Getreide\n  * Milch und Milcherzeugnis
 se (einschließlich Laktose)\n  * Eier und Eierzeugnisse\n  * Schalenfrüc
 hte (Nüsse)\n\nVegetarisch ohne Salat:\n- Gemüse-Suppen-Topf mit Kartoff
 eln\, Vollkornbrötchen\, Dessertauswahl\n  * Sesamsamen und Sesamsamenerz
 eugnisse\n  * Sellerie und Sellerieerzeugnisse\n  * Glutenhaltiges Getreid
 e\n  * Milch und Milcherzeugnisse (einschließlich Laktose)\n  * Eier und 
 Eierzeugnisse\n  * Schalenfrüchte (Nüsse)\n\nVegetarisch:\n- Gemüse-Sup
 pen-Topf mit Kartoffeln\, Vollkornbrötchen\n  * Sesamsamen und Sesamsamen
 erzeugnisse\n  * Sellerie und Sellerieerzeugnisse\n  * Glutenhaltiges Getr
 eide\n  * Milch und Milcherzeugnisse (einschließlich Laktose)\n  * Eier u
 nd Eierzeugnisse\n  * Schalenfrüchte (Nüsse)\n\nVegetarisch Menü ohne D
 essert:\n- Kleiner Salat\, Gemüse-Suppen-Topf mit Kartoffeln\, Vollkornbr
 ötchen\n  * Sesamsamen und Sesamsamenerzeugnisse\n  * Sellerie und Seller
 ieerzeugnisse\n  * Glutenhaltiges Getreide\n  * Milch und Milcherzeugnisse
  (einschließlich Laktose)\n  * Eier und Eierzeugnisse\n  * Schalenfrücht
 e (Nüsse)\n\nSalatteller:\n- Salatteller\n\nKleiner Salat:\n- Kleiner Sal
 at\n\nMenü für die Hüte:\n- Tagesempfehlung\n\n
SUMMARY:Freie Waldorfschule Lörrach
END:VEVENT
BEGIN:VEVENT
DTSTAMP:20260424T021541Z
UID:1675277
DTSTART;VALUE=DATE:20260429
DTEND;VALUE=DATE:20260429
DESCRIPTION:Tagesmenü:\n- Kleiner Salat\, Bulgur mit Falafelbällchen und 
 Dip\, Dessertauswahl\n  * Weizen\n  * Milch und Milcherzeugnisse (einschli
 eßlich Laktose)\n  * Sesamsamen und Sesamsamenerzeugnisse\n  * Sellerie u
 nd Sellerieerzeugnisse\n\nTagesessen:\n- Bulgur mit Falafelbällchen und D
 ip\n  * Weizen\n  * Milch und Milcherzeugnisse (einschließlich Laktose)\n
   * Sesamsamen und Sesamsamenerzeugnisse\n  * Sellerie und Sellerieerzeugn
 isse\n\nVegetarisch Menü:\n- Kleiner Salat\, Bulgur mit Falafelbällchen 
 und Dip\, Dessertauswahl\n  * Weizen\n  * Milch und Milcherzeugnisse (eins
 chließlich Laktose)\n  * Sesamsamen und Sesamsamenerzeugnisse\n  * Seller
 ie und Sellerieerzeugnisse\n\nVegetarisch ohne Salat:\n- Bulgur mit Falafe
 lbällchen und Dip\, Dessertauswahl\n  * Weizen\n  * Milch und Milcherzeug
 nisse (einschließlich Laktose)\n  * Sesamsamen und Sesamsamenerzeugnisse\
 n  * Sellerie und Sellerieerzeugnisse\n\nVegetarisch:\n- Bulgur mit Falafe
 lbällchen und Dip\n  * Weizen\n  * Milch und Milcherzeugnisse (einschlie
 ßlich Laktose)\n  * Sesamsamen und Sesamsamenerzeugnisse\n  * Sellerie un
 d Sellerieerzeugnisse\n\nVegetarisch Menü ohne Dessert:\n- Kleiner Salat\
 , Bulgur mit Falafelbällchen und Dip\n  * Weizen\n  * Milch und Milcherze
 ugnisse (einschließlich Laktose)\n  * Sesamsamen und Sesamsamenerzeugniss
 e\n  * Sellerie und Sellerieerzeugnisse\n\nSalatteller:\n- Salatteller\n\n
 Kleiner Salat:\n- Kleiner Salat\n\nMenü für die Hüte:\n- Tagesempfehlun
 g\n\n
SUMMARY:Freie Waldorfschule Lörrach
END:VEVENT
BEGIN:VEVENT
DTSTAMP:20260424T021541Z
UID:1675278
DTSTART;VALUE=DATE:20260430
DTEND;VALUE=DATE:20260430
DESCRIPTION:Tagesmenü:\n- Kleiner Salat\, "Mediterranes" Grillgemüse (Veg
 an)\, Kartoffelecken\, Kräuterdip\, Dessertauswahl\n\nTagesessen:\n- "Med
 iterranes" Grillgemüse (Vegan)\, Kartoffelecken\, Kräuterdip\n\nVegetari
 sch Menü:\n- Kleiner Salat\, "Mediterranes" Grillgemüse (Vegan)\, Kartof
 felecken\, Kräuterdip\, Dessertauswahl\n\nVegetarisch ohne Salat:\n- "Med
 iterranes" Grillgemüse (Vegan)\, Kartoffelecken\, Kräuterdip\, Dessertau
 swahl\n\nVegetarisch:\n- "Mediterranes" Grillgemüse (Vegan)\, Kartoffelec
 ken\, Kräuterdip\n\nVegetarisch Menü ohne Dessert:\n- Kleiner Salat\, "M
 editerranes" Grillgemüse (Vegan)\, Kartoffelecken\, Kräuterdip\n\nSalatt
 eller:\n- Salatteller\n\nKleiner Salat:\n- Kleiner Salat\n\nMenü für die
  Hüte:\n- Tagesempfehlung\n\n
SUMMARY:Freie Waldorfschule Lörrach
END:VEVENT
END:VCALENDAR
