BEGIN:VCALENDAR
VERSION:2.0
PRODID:openmensa.org
CALSCALE:GREGORIAN
METHOD:PUBLISH
URL;VALUE=URI:https://openmensa.org/ical/1833/montfort-gymnasium-tettnang.i
 cs
BEGIN:VEVENT
DTSTAMP:20260424T023343Z
UID:1683810
DTSTART;VALUE=DATE:20260427
DTEND;VALUE=DATE:20260427
DESCRIPTION:Dessert:\n- Dessert/Salat\n\nMenü1:\n- Tagesessen\n\nMenü2:\n
 - Tagesessen\n\nPastabar:\n- Tagesessen\n\nSalatbar:\n- Bunter Salatteller
  mit Topping\n\nAllergiker:\n- Allergikeressen\n\n
SUMMARY:Montfort-Gymnasium Tettnang
END:VEVENT
BEGIN:VEVENT
DTSTAMP:20260424T023343Z
UID:1683811
DTSTART;VALUE=DATE:20260428
DTEND;VALUE=DATE:20260428
DESCRIPTION:Dessert:\n- Dessert/Salat\n\nMenü1:\n- Tagesessen\n\nMenü2:\n
 - Tagesessen\n\nPastabar:\n- Tagesessen\n\nSalatbar:\n- Bunter Salatteller
  mit Topping\n\nAllergiker:\n- Allergikeressen\n\n
SUMMARY:Montfort-Gymnasium Tettnang
END:VEVENT
BEGIN:VEVENT
DTSTAMP:20260424T023343Z
UID:1683812
DTSTART;VALUE=DATE:20260429
DTEND;VALUE=DATE:20260429
DESCRIPTION:Dessert:\n- Dessert/Salat\n\nMenü1:\n- Tagesessen\n\nMenü2:\n
 - Tagesessen\n\nPastabar:\n- Tagesessen\n\nSalatbar:\n- Bunter Salatteller
  mit Topping\n\nAllergiker:\n- Allergikeressen\n\n
SUMMARY:Montfort-Gymnasium Tettnang
END:VEVENT
BEGIN:VEVENT
DTSTAMP:20260424T023343Z
UID:1683813
DTSTART;VALUE=DATE:20260430
DTEND;VALUE=DATE:20260430
DESCRIPTION:Dessert:\n- Dessert/Salat\n\nMenü1:\n- Tagesessen\n\nMenü2:\n
 - Tagesessen\n\nPastabar:\n- Tagesessen\n\nSalatbar:\n- Bunter Salatteller
  mit Topping\n\nAllergiker:\n- Allergikeressen\n\n
SUMMARY:Montfort-Gymnasium Tettnang
END:VEVENT
END:VCALENDAR
