BEGIN:VCALENDAR
VERSION:2.0
PRODID:openmensa.org
CALSCALE:GREGORIAN
METHOD:PUBLISH
URL;VALUE=URI:https://openmensa.org/ical/1832/mensa-schulzentrum-manzenberg
 .ics
BEGIN:VEVENT
DTSTAMP:20260424T025401Z
UID:1683831
DTSTART;VALUE=DATE:20260427
DTEND;VALUE=DATE:20260427
DESCRIPTION:Dessert:\n- Dessert/Salat\n\nMenü1:\n- Tagesessen\n\nMenü2:\n
 - Tagesessen\n\nSalatbar:\n- Bunter Salatteller mit Topping\n\nPastabar:\n
 - Tagesessen\n\nAllergiker:\n- Allergikeressen\n\n
SUMMARY:Mensa Schulzentrum Manzenberg
END:VEVENT
BEGIN:VEVENT
DTSTAMP:20260424T025401Z
UID:1683832
DTSTART;VALUE=DATE:20260428
DTEND;VALUE=DATE:20260428
DESCRIPTION:Dessert:\n- Dessert/Salat\n\nMenü1:\n- Tagesessen\n\nMenü2:\n
 - Tagesessen\n\nSalatbar:\n- Bunter Salatteller mit Topping\n\nPastabar:\n
 - Tagesessen\n\nAllergiker:\n- Allergikeressen\n\n
SUMMARY:Mensa Schulzentrum Manzenberg
END:VEVENT
BEGIN:VEVENT
DTSTAMP:20260424T025401Z
UID:1683833
DTSTART;VALUE=DATE:20260429
DTEND;VALUE=DATE:20260429
DESCRIPTION:Dessert:\n- Dessert/Salat\n\nMenü1:\n- Tagesessen\n\nMenü2:\n
 - Tagesessen\n\nSalatbar:\n- Bunter Salatteller mit Topping\n\nPastabar:\n
 - Tagesessen\n\nAllergiker:\n- Allergikeressen\n\n
SUMMARY:Mensa Schulzentrum Manzenberg
END:VEVENT
BEGIN:VEVENT
DTSTAMP:20260424T025401Z
UID:1683834
DTSTART;VALUE=DATE:20260430
DTEND;VALUE=DATE:20260430
DESCRIPTION:Dessert:\n- Dessert/Salat\n\nMenü1:\n- Tagesessen\n\nMenü2:\n
 - Tagesessen\n\nSalatbar:\n- Bunter Salatteller mit Topping\n\nPastabar:\n
 - Tagesessen\n\nAllergiker:\n- Allergikeressen\n\n
SUMMARY:Mensa Schulzentrum Manzenberg
END:VEVENT
END:VCALENDAR
