BEGIN:VCALENDAR
VERSION:2.0
PRODID:openmensa.org
CALSCALE:GREGORIAN
METHOD:PUBLISH
URL;VALUE=URI:https://openmensa.org/ical/1831/michael-bauer-schule.ics
BEGIN:VEVENT
DTSTAMP:20260424T021108Z
UID:1679948
DTSTART;VALUE=DATE:20260424
DTEND;VALUE=DATE:20260424
DESCRIPTION:Tagesmenü:\n- Kartoffelbrei\, Bratwurst\, Gemüse\, Dessert\n 
  * Milch und Milcherzeugnisse (einschließlich Laktose)\n  * Sellerie und 
 Sellerieerzeugnisse\n\n
SUMMARY:Michael-Bauer-Schule
END:VEVENT
BEGIN:VEVENT
DTSTAMP:20260424T021108Z
UID:1679949
DTSTART;VALUE=DATE:20260427
DTEND;VALUE=DATE:20260427
DESCRIPTION:Tagesmenü:\n- Wilde Kartoffeln\, Knoblauch-Mayonnaise\, Desser
 t\n  * Milch und Milcherzeugnisse (einschließlich Laktose)\n  * Eier und 
 Eierzeugnisse\n  * mit Farbstoff\n  * mit Konservierungsstoff\n  * mit Sä
 uerungsmittel\n\n
SUMMARY:Michael-Bauer-Schule
END:VEVENT
BEGIN:VEVENT
DTSTAMP:20260424T021108Z
UID:1679950
DTSTART;VALUE=DATE:20260428
DTEND;VALUE=DATE:20260428
DESCRIPTION:Tagesmenü:\n- Leberkäse gebacken\, Vegetarische Alternative\,
  Kartoffelsalat\, Dessert\n  * Sellerie und Sellerieerzeugnisse\n  * Senf 
 und Senferzeugnisse\n\n
SUMMARY:Michael-Bauer-Schule
END:VEVENT
BEGIN:VEVENT
DTSTAMP:20260424T021108Z
UID:1679951
DTSTART;VALUE=DATE:20260429
DTEND;VALUE=DATE:20260429
DESCRIPTION:Tagesmenü:\n- Minestrone\, Baguette\, Apfelstrudel mit Vanille
 sauce\n  * Glutenhaltiges Getreide\n  * Milch und Milcherzeugnisse (einsch
 ließlich Laktose)\n  * Eier und Eierzeugnisse\n\n
SUMMARY:Michael-Bauer-Schule
END:VEVENT
BEGIN:VEVENT
DTSTAMP:20260424T021108Z
UID:1679952
DTSTART;VALUE=DATE:20260430
DTEND;VALUE=DATE:20260430
DESCRIPTION:Tagesmenü:\n- Thai-Curry mit Gemüse\, Hähnchenbrust-Streifen
 \, Basmatireis\, Quark-Joghurtcreme\n  * Milch und Milcherzeugnisse (einsc
 hließlich Laktose)\n\n
SUMMARY:Michael-Bauer-Schule
END:VEVENT
END:VCALENDAR
