BEGIN:VCALENDAR
VERSION:2.0
PRODID:openmensa.org
CALSCALE:GREGORIAN
METHOD:PUBLISH
URL;VALUE=URI:https://openmensa.org/ical/1830/otto-hahn-schule-westhofen.ic
 s
BEGIN:VEVENT
DTSTAMP:20260424T021843Z
UID:1675225
DTSTART;VALUE=DATE:20260424
DTEND;VALUE=DATE:20260424
DESCRIPTION:Vorspeise:\n- *Tagesessen\n\nTagesessen:\n- Buntes Lachsragout 
 mit Gemüse\, Dampfkartoffeln\, Blattsalate/Dressing\n\nVegetarisch:\n- Sc
 hwäbische Käsespätzle mit Tomatensoße\, Blattsalate/Dressing\n\nNachsp
 eise:\n- Obst nach Saison\n\n
SUMMARY:Otto-Hahn-Schule Westhofen
END:VEVENT
BEGIN:VEVENT
DTSTAMP:20260424T021843Z
UID:1679930
DTSTART;VALUE=DATE:20260427
DTEND;VALUE=DATE:20260427
DESCRIPTION:Vorspeise:\n- *Tagesessen\n\nTagesessen:\n- Würstchengulasch (
 Geflügel) mit Gemüse\, Bio-Hörnchennudeln\, Blattsalate/Dressing\n\nVeg
 etarisch:\n- Gemüse-Curry-Kokos-Gulasch \, Ebly mit Kräuter\n\nNachspeis
 e:\n- Obst nach Saison\n\n
SUMMARY:Otto-Hahn-Schule Westhofen
END:VEVENT
BEGIN:VEVENT
DTSTAMP:20260424T021843Z
UID:1679931
DTSTART;VALUE=DATE:20260428
DTEND;VALUE=DATE:20260428
DESCRIPTION:Vorspeise:\n- Spinatrahmsuppe\n\nTagesessen:\n- Rigatoni mit Sc
 hinken (Pute) - Käsesoße\, Möhrensalat\n\nVegetarisch:\n- Karthäuser K
 loß Vanillesauce\n\nNachspeise:\n- * Tagesessen\n\n
SUMMARY:Otto-Hahn-Schule Westhofen
END:VEVENT
BEGIN:VEVENT
DTSTAMP:20260424T021843Z
UID:1679932
DTSTART;VALUE=DATE:20260429
DTEND;VALUE=DATE:20260429
DESCRIPTION:Vorspeise:\n- *Tagesessen\n\nTagesessen:\n- Gebackenes Seelachs
 filet\, Schnittlauchsoße\, Petersilienkartoffeln\, Blattsalate/Dressing\n
 \nVegetarisch:\n- Portion Rahmquark mit frischen Kräutern\, Petersilienka
 rtoffeln\n\nNachspeise:\n- Pudding\n\n
SUMMARY:Otto-Hahn-Schule Westhofen
END:VEVENT
BEGIN:VEVENT
DTSTAMP:20260424T021843Z
UID:1679933
DTSTART;VALUE=DATE:20260430
DTEND;VALUE=DATE:20260430
DESCRIPTION:Vorspeise:\n- *Tagesessen\n\nTagesessen:\n- Hamburger / Chicken
 \n\nVegetarisch:\n- Hamburger / vegetarisch\n\nNachspeise:\n- Mini-Berline
 r\n\n
SUMMARY:Otto-Hahn-Schule Westhofen
END:VEVENT
END:VCALENDAR
