BEGIN:VCALENDAR
VERSION:2.0
PRODID:openmensa.org
CALSCALE:GREGORIAN
METHOD:PUBLISH
URL;VALUE=URI:https://openmensa.org/ical/1827/grundschule-ramsharde.ics
BEGIN:VEVENT
DTSTAMP:20260424T021629Z
UID:1675097
DTSTART;VALUE=DATE:20260424
DTEND;VALUE=DATE:20260424
DESCRIPTION:Menü 1 immer Vegetarisch:\n- PASTA Bio Nudeln mit Linsenbologn
 aise dazu Reibekäse\n\nMenü 2:\n- Nudelauflauf mit Rinderhackfleisch und
  Käse überbacken\n\n
SUMMARY:Grundschule Ramsharde
END:VEVENT
BEGIN:VEVENT
DTSTAMP:20260424T021629Z
UID:1679821
DTSTART;VALUE=DATE:20260427
DTEND;VALUE=DATE:20260427
DESCRIPTION:Menü 1 immer Vegetarisch:\n- Pürierte Kartoffelcremesuppe  da
 zu Vollkornbrotscheibe\n\nMenü 2:\n- Pürierte Gemüsecremesuppe mit Wurs
 teinlage (Geflügel) dazu Vollkornbrotscheibe\n\n
SUMMARY:Grundschule Ramsharde
END:VEVENT
BEGIN:VEVENT
DTSTAMP:20260424T021629Z
UID:1679822
DTSTART;VALUE=DATE:20260428
DTEND;VALUE=DATE:20260428
DESCRIPTION:Menü 1 immer Vegetarisch:\n- Blumenkohlschnitzel mit Rahmgemü
 se dazu Salzkartoffeln\n\nMenü 2:\n- Hähnchenschnitzel mit Rahmgemüse d
 azu Salzkartoffeln\n\n
SUMMARY:Grundschule Ramsharde
END:VEVENT
BEGIN:VEVENT
DTSTAMP:20260424T021629Z
UID:1679823
DTSTART;VALUE=DATE:20260429
DTEND;VALUE=DATE:20260429
DESCRIPTION:Menü 1 immer Vegetarisch:\n- Pasta Bio Vollkornnudeln mit Toma
 ten- Kräutersauce dazu Reibekäse\n\nMenü 2:\n- Tagesessen\n\n
SUMMARY:Grundschule Ramsharde
END:VEVENT
BEGIN:VEVENT
DTSTAMP:20260424T021629Z
UID:1679824
DTSTART;VALUE=DATE:20260430
DTEND;VALUE=DATE:20260430
DESCRIPTION:Menü 1 immer Vegetarisch:\n- Gemüse- Klopse in Petersiliensau
 ce dazu Salzkartoffeln\n\nMenü 2:\n- Gebackenes Fischfilet mit Petersilie
 nsauce und Salzkartoffeln\n\n
SUMMARY:Grundschule Ramsharde
END:VEVENT
END:VCALENDAR
