BEGIN:VCALENDAR
VERSION:2.0
PRODID:openmensa.org
CALSCALE:GREGORIAN
METHOD:PUBLISH
URL;VALUE=URI:https://openmensa.org/ical/1826/tilman-riemenschneider-gymnas
 ium-osterode.ics
BEGIN:VEVENT
DTSTAMP:20260424T021843Z
UID:1683944
DTSTART;VALUE=DATE:20260427
DTEND;VALUE=DATE:20260427
DESCRIPTION:normales Essen:\n- Rindergulasch aus regionaler Aufzucht\, Rotk
 ohl\, Nudeln\n  * Milch und Milcherzeugnisse (einschließlich Laktose)\n  
 * Glutenhaltiges Getreide\n  * Eier und Eierzeugnisse\n\nvegetarische Alte
 rnative:\n- Kartoffelgulasch\, Rotkohl\, Nudeln\n  * Glutenhaltiges Getrei
 de\n  * Eier und Eierzeugnisse\n\n
SUMMARY:Tilman-Riemenschneider-Gymnasium Osterode
END:VEVENT
BEGIN:VEVENT
DTSTAMP:20260424T021843Z
UID:1683945
DTSTART;VALUE=DATE:20260428
DTEND;VALUE=DATE:20260428
DESCRIPTION:normales Essen:\n- geb. Camenbert\, Preiselbeersauce\, Salat\n 
  * Glutenhaltiges Getreide\n  * Eier und Eierzeugnisse\n\nvegetarische Alt
 ernative:\n- geb. Camenbert\, Preiselbeersauce\, Salat\n  * Glutenhaltiges
  Getreide\n  * Eier und Eierzeugnisse\n\n
SUMMARY:Tilman-Riemenschneider-Gymnasium Osterode
END:VEVENT
BEGIN:VEVENT
DTSTAMP:20260424T021843Z
UID:1683946
DTSTART;VALUE=DATE:20260429
DTEND;VALUE=DATE:20260429
DESCRIPTION:normales Essen:\n- Senfeier\, Kartoffeln\, Salat\n  * Milch und
  Milcherzeugnisse (einschließlich Laktose)\n  * Eier und Eierzeugnisse\n 
  * Senf und Senferzeugnisse\n\nvegetarische Alternative:\n- Senfeier\, Kar
 toffeln\, Salat\n  * Milch und Milcherzeugnisse (einschließlich Laktose)\
 n  * Eier und Eierzeugnisse\n  * Senf und Senferzeugnisse\n\n
SUMMARY:Tilman-Riemenschneider-Gymnasium Osterode
END:VEVENT
BEGIN:VEVENT
DTSTAMP:20260424T021843Z
UID:1683947
DTSTART;VALUE=DATE:20260430
DTEND;VALUE=DATE:20260430
DESCRIPTION:normales Essen:\n- Käse-Lauch Suppe\, Brötchen\n\nvegetarisch
 e Alternative:\n- Käse-Lauch Suppe\, Brötchen\n\n
SUMMARY:Tilman-Riemenschneider-Gymnasium Osterode
END:VEVENT
END:VCALENDAR
