BEGIN:VCALENDAR
VERSION:2.0
PRODID:openmensa.org
CALSCALE:GREGORIAN
METHOD:PUBLISH
URL;VALUE=URI:https://openmensa.org/ical/1823/grund-und-mittelschule-katzwa
 ng.ics
BEGIN:VEVENT
DTSTAMP:20260424T014822Z
UID:1671334
DTSTART;VALUE=DATE:20260424
DTEND;VALUE=DATE:20260424
DESCRIPTION:Menü o. Schwein Grundschule:\n- Überbackene Käsespätzle\, E
 issalat mit Jogurtdressing\n  * Gluten-Weizen\n  * Hühnereiweiß\, Eier u
 nd Eierzeugnisse\n  * Milcheiweiß\, Milch und Milcherzeugnisse (einschlie
 ßlich Laktose)\n  * Schwefeldioxid\, Schwefeldioxid und Sulfite\n  * Glut
 en\n  * Senf und Senferzeugnisse\n\nMenü vegetarisch Grundschule:\n- Übe
 rbackene Käsespätzle\, Eissalat mit Jogurtdressing\n  * Gluten-Weizen\n 
  * Hühnereiweiß\, Eier und Eierzeugnisse\n  * Milcheiweiß\, Milch und M
 ilcherzeugnisse (einschließlich Laktose)\n  * Schwefeldioxid\, Schwefeldi
 oxid und Sulfite\n  * Gluten\n  * Senf und Senferzeugnisse\n\n
SUMMARY:Grund- und Mittelschule Katzwang
END:VEVENT
BEGIN:VEVENT
DTSTAMP:20260424T014822Z
UID:1675106
DTSTART;VALUE=DATE:20260427
DTEND;VALUE=DATE:20260427
DESCRIPTION:Menü o. Schwein Grundschule:\n- Menü Grundschule\n\nMenü veg
 etarisch Grundschule:\n- Menü vegetarisch Grundschule\n\nMenü o. Schwein
  Mittelschule:\n- Menü Mittelschule\n\nMenü vegetarisch Mittelschule:\n-
  Menü vegetarisch Mittelschule\n\n
SUMMARY:Grund- und Mittelschule Katzwang
END:VEVENT
BEGIN:VEVENT
DTSTAMP:20260424T014822Z
UID:1675107
DTSTART;VALUE=DATE:20260428
DTEND;VALUE=DATE:20260428
DESCRIPTION:Menü o. Schwein Grundschule:\n- Menü Grundschule\n\nMenü veg
 etarisch Grundschule:\n- Menü vegetarisch Grundschule\n\nMenü o. Schwein
  Mittelschule:\n- Menü Mittelschule\n\nMenü vegetarisch Mittelschule:\n-
  Menü vegetarisch Mittelschule\n\n
SUMMARY:Grund- und Mittelschule Katzwang
END:VEVENT
BEGIN:VEVENT
DTSTAMP:20260424T014822Z
UID:1675108
DTSTART;VALUE=DATE:20260429
DTEND;VALUE=DATE:20260429
DESCRIPTION:Menü o. Schwein Grundschule:\n- Menü Grundschule\n\nMenü veg
 etarisch Grundschule:\n- Menü vegetarisch Grundschule\n\nMenü o. Schwein
  Mittelschule:\n- Menü Mittelschule\n\nMenü vegetarisch Mittelschule:\n-
  Menü vegetarisch Mittelschule\n\n
SUMMARY:Grund- und Mittelschule Katzwang
END:VEVENT
BEGIN:VEVENT
DTSTAMP:20260424T014822Z
UID:1675109
DTSTART;VALUE=DATE:20260430
DTEND;VALUE=DATE:20260430
DESCRIPTION:Menü o. Schwein Grundschule:\n- Menü Grundschule\n\nMenü veg
 etarisch Grundschule:\n- Menü vegetarisch Grundschule\n\nMenü o. Schwein
  Mittelschule:\n- Menü Mittelschule\n\nMenü vegetarisch Mittelschule:\n-
  Menü vegetarisch Mittelschule\n\n
SUMMARY:Grund- und Mittelschule Katzwang
END:VEVENT
END:VCALENDAR
