BEGIN:VCALENDAR
VERSION:2.0
PRODID:openmensa.org
CALSCALE:GREGORIAN
METHOD:PUBLISH
URL;VALUE=URI:https://openmensa.org/ical/1822/graf-stauffenberg-realschule-
 bamberg.ics
BEGIN:VEVENT
DTSTAMP:20260424T021719Z
UID:1675102
DTSTART;VALUE=DATE:20260427
DTEND;VALUE=DATE:20260427
DESCRIPTION:Mittagsmenü:\n- Käsespätzle mit Gurkensalat\, Naturjoghurt m
 it Müsli\n  * Weizen\n  * Eier\n  * Milch\n  * Schwefeldioxid und Sulfite
 \n  * Zuckerarten und Süßungsmittel\n  * Vollei\n  * Antioxidationsmitte
 l\n  * Hafer\n  * Erdnüsse\n  * Schalenfrüchte\n  * Milcheiweiß\n\nAlte
 rnativ:\n- Käsespätzle mit Gurkensalat\, Naturjoghurt mit Müsli\n  * We
 izen\n  * Eier\n  * Milch\n  * Schwefeldioxid und Sulfite\n  * Zuckerarten
  und Süßungsmittel\n  * Vollei\n  * Antioxidationsmittel\n  * Hafer\n  *
  Erdnüsse\n  * Schalenfrüchte\n  * Milcheiweiß\n\nMenü Vegetarisch:\n-
  Käsespätzle mit Gurkensalat\, Naturjoghurt mit Müsli\n  * Weizen\n  * 
 Eier\n  * Milch\n  * Schwefeldioxid und Sulfite\n  * Zuckerarten und Süß
 ungsmittel\n  * Vollei\n  * Antioxidationsmittel\n  * Hafer\n  * Erdnüsse
 \n  * Schalenfrüchte\n  * Milcheiweiß\n\n
SUMMARY:Graf-Stauffenberg-Realschule Bamberg
END:VEVENT
BEGIN:VEVENT
DTSTAMP:20260424T021719Z
UID:1675103
DTSTART;VALUE=DATE:20260428
DTEND;VALUE=DATE:20260428
DESCRIPTION:Mittagsmenü:\n- Hähnchen-Kräuterrahmschnitzel mit Möhren un
 d Kartoffeln\, Obst\n  * Weizen\n  * Milch\n  * Sellerie\n  * Milcheiweiß
 \n\nAlternativ:\n- Hähnchen-Kräuterrahmschnitzel mit Möhren und Kartoff
 eln\, Obst\n  * Weizen\n  * Milch\n  * Sellerie\n  * Milcheiweiß\n\nMenü
  Vegetarisch:\n- Kartoffel-Gemüse Curry\, Obst\n  * Milch\n\n
SUMMARY:Graf-Stauffenberg-Realschule Bamberg
END:VEVENT
BEGIN:VEVENT
DTSTAMP:20260424T021719Z
UID:1675104
DTSTART;VALUE=DATE:20260429
DTEND;VALUE=DATE:20260429
DESCRIPTION:Mittagsmenü:\n- Nudelsuppe mit Grießklöschen\, Grießbrei\n 
  * Eier\n  * Milch\n  * Sellerie\n\nAlternativ:\n- Nudelsuppe mit Grießkl
 öschen\, Grießbrei\n  * Eier\n  * Milch\n  * Sellerie\n\nMenü Vegetaris
 ch:\n- Nudelsuppe mit Grießklöschen\, Grießbrei\n  * Eier\n  * Milch\n 
  * Sellerie\n\n
SUMMARY:Graf-Stauffenberg-Realschule Bamberg
END:VEVENT
BEGIN:VEVENT
DTSTAMP:20260424T021719Z
UID:1675105
DTSTART;VALUE=DATE:20260430
DTEND;VALUE=DATE:20260430
DESCRIPTION:Mittagsmenü:\n- Bratwürste mit Pürree\, Müsliriegel\n  * We
 izen\n  * Milch\n  * Schweinefleisch\n  * Zuckerarten und Süßungsmittel\
 n  * Jod-Salz\n  * Milcheiweiß\n  * natürliche Konservierungsstoffe\n  *
  Schalenfrüchte\n  * Sesam\n\nAlternativ:\n- Geflügelbratwürste mit Pü
 rre\, Müsliriegel\n  * Milch\n  * Zuckerarten und Süßungsmittel\n  * Mi
 lcheiweiß\n  * Schalenfrüchte\n  * Sesam\n\nMenü Vegetarisch:\n- Gemüs
 ebratlinge\, Kartoffeln\, Gemüse\, Müsliriegel\n  * Gluten\n  * Eier\n  
 * Milch\n  * Sellerie\n  * Vollei\n  * Schalenfrüchte\n  * Sesam\n  * Zuc
 kerarten und Süßungsmittel\n\n
SUMMARY:Graf-Stauffenberg-Realschule Bamberg
END:VEVENT
END:VCALENDAR
