BEGIN:VCALENDAR
VERSION:2.0
PRODID:openmensa.org
CALSCALE:GREGORIAN
METHOD:PUBLISH
URL;VALUE=URI:https://openmensa.org/ical/1821/dientzenhofer-realschule-bran
 nenburg.ics
BEGIN:VEVENT
DTSTAMP:20260424T014509Z
UID:1675085
DTSTART;VALUE=DATE:20260427
DTEND;VALUE=DATE:20260427
DESCRIPTION:Mittagsmenü:\n- Mittagsmenü\n\nMittagsmenü vegetarisch:\n- M
 ittagsmenü vegetarisch\n\n
SUMMARY:Dientzenhofer-Realschule Brannenburg
END:VEVENT
BEGIN:VEVENT
DTSTAMP:20260424T014509Z
UID:1675086
DTSTART;VALUE=DATE:20260428
DTEND;VALUE=DATE:20260428
DESCRIPTION:Mittagsmenü:\n- Mittagsmenü\n\nMittagsmenü vegetarisch:\n- M
 ittagsmenü vegetarisch\n\n
SUMMARY:Dientzenhofer-Realschule Brannenburg
END:VEVENT
BEGIN:VEVENT
DTSTAMP:20260424T014509Z
UID:1675087
DTSTART;VALUE=DATE:20260429
DTEND;VALUE=DATE:20260429
DESCRIPTION:Mittagsmenü:\n- Mittagsmenü\n\nMittagsmenü vegetarisch:\n- M
 ittagsmenü vegetarisch\n\n
SUMMARY:Dientzenhofer-Realschule Brannenburg
END:VEVENT
BEGIN:VEVENT
DTSTAMP:20260424T014509Z
UID:1675088
DTSTART;VALUE=DATE:20260430
DTEND;VALUE=DATE:20260430
DESCRIPTION:Mittagsmenü:\n- Mittagsmenü\n\nMittagsmenü vegetarisch:\n- M
 ittagsmenü vegetarisch\n\n
SUMMARY:Dientzenhofer-Realschule Brannenburg
END:VEVENT
END:VCALENDAR
