BEGIN:VCALENDAR
VERSION:2.0
PRODID:openmensa.org
CALSCALE:GREGORIAN
METHOD:PUBLISH
URL;VALUE=URI:https://openmensa.org/ical/1820/kinderhaus-st-josef.ics
BEGIN:VEVENT
DTSTAMP:20260424T023211Z
UID:1671405
DTSTART;VALUE=DATE:20260424
DTEND;VALUE=DATE:20260424
DESCRIPTION:Kinderkrippen Menü:\n- Knusperfisch mit Remoulade und Kartoffe
 ln\, Salat\n  * Gluten-Weizen\n  * Hühnereiweiß\, Eier und Eierzeugnisse
 \n  * Fisch und Fischerzeugnisse\n  * Milcheiweiß\, Milch und Milcherzeug
 nisse (einschließlich Laktose)\n\nKinderkrippe Mittagsgericht ohne Schwei
 n:\n- Knusperfisch mit Remoulade und Kartoffeln\, Salat\n  * Gluten-Weizen
 \n  * Hühnereiweiß\, Eier und Eierzeugnisse\n  * Fisch und Fischerzeugni
 sse\n  * Milcheiweiß\, Milch und Milcherzeugnisse (einschließlich Laktos
 e)\n\nKinderkrippe Mittagsgericht vegetarisch:\n- Panierte Champignons mit
  Kartoffeln und Remoulade\, Salat\n  * Gluten\n  * Hühnereiweiß\, Eier u
 nd Eierzeugnisse\n  * Milcheiweiß\, Milch und Milcherzeugnisse (einschlie
 ßlich Laktose)\n  * Sellerie und Sellerieerzeugnisse\n\nKindergarten Men
 ü:\n- Knusperfisch mit Remoulade und Kartoffeln\, Salat\n  * Gluten-Weize
 n\n  * Hühnereiweiß\, Eier und Eierzeugnisse\n  * Fisch und Fischerzeugn
 isse\n  * Milcheiweiß\, Milch und Milcherzeugnisse (einschließlich Lakto
 se)\n\nKindergarten Mittagsgericht ohne Schwein:\n- Knusperfisch mit Remou
 lade und Kartoffeln\, Salat\n  * Gluten-Weizen\n  * Hühnereiweiß\, Eier 
 und Eierzeugnisse\n  * Fisch und Fischerzeugnisse\n  * Milcheiweiß\, Milc
 h und Milcherzeugnisse (einschließlich Laktose)\n\nKindergarten Mittagsge
 richt vegetarisch:\n- Panierte Champignons mit Kartoffeln und Remoulade\, 
 Salat\n  * Gluten\n  * Hühnereiweiß\, Eier und Eierzeugnisse\n  * Milche
 iweiß\, Milch und Milcherzeugnisse (einschließlich Laktose)\n  * Selleri
 e und Sellerieerzeugnisse\n\nHort Menü:\n- Knusperfisch mit Remoulade und
  Kartoffeln\, Salat\n  * Gluten-Weizen\n  * Hühnereiweiß\, Eier und Eier
 zeugnisse\n  * Fisch und Fischerzeugnisse\n  * Milcheiweiß\, Milch und Mi
 lcherzeugnisse (einschließlich Laktose)\n\nMittagsgericht ohne Schweinefl
 eisch Hort:\n- Knusperfisch mit Remoulade und Kartoffeln\, Salat\n  * Glut
 en-Weizen\n  * Hühnereiweiß\, Eier und Eierzeugnisse\n  * Fisch und Fisc
 herzeugnisse\n  * Milcheiweiß\, Milch und Milcherzeugnisse (einschließli
 ch Laktose)\n\n
SUMMARY:Kinderhaus St. Josef
END:VEVENT
BEGIN:VEVENT
DTSTAMP:20260424T023211Z
UID:1675162
DTSTART;VALUE=DATE:20260427
DTEND;VALUE=DATE:20260427
DESCRIPTION:Kinderkrippen Menü:\n- Farfalle-Nudeln mit Spinat-Käse-Soße\
 , Salat\n  * Gluten-Weizen\n  * Milcheiweiß\, Milch und Milcherzeugnisse 
 (einschließlich Laktose)\n\nKinderkrippe Mittagsgericht ohne Schwein:\n- 
 Farfalle-Nudeln mit Spinat-Käse-Soße\, Salat\n  * Gluten-Weizen\n  * Mil
 cheiweiß\, Milch und Milcherzeugnisse (einschließlich Laktose)\n\nKinder
 krippe Mittagsgericht vegetarisch:\n- Farfalle-Nudeln mit Spinat-Käse-So
 ße\, Salat\n  * Gluten-Weizen\n  * Milcheiweiß\, Milch und Milcherzeugni
 sse (einschließlich Laktose)\n\nKindergarten Menü:\n- Farfalle-Nudeln mi
 t Spinat-Käse-Soße\, Salat\n  * Gluten-Weizen\n  * Milcheiweiß\, Milch 
 und Milcherzeugnisse (einschließlich Laktose)\n\nKindergarten Mittagsgeri
 cht ohne Schwein:\n- Farfalle-Nudeln mit Spinat-Käse-Soße\, Salat\n  * G
 luten-Weizen\n  * Milcheiweiß\, Milch und Milcherzeugnisse (einschließli
 ch Laktose)\n\nKindergarten Mittagsgericht vegetarisch:\n- Farfalle-Nudeln
  mit Spinat-Käse-Soße\, Salat\n  * Gluten-Weizen\n  * Milcheiweiß\, Mil
 ch und Milcherzeugnisse (einschließlich Laktose)\n\nHort Menü:\n- Farfal
 le-Nudeln mit Spinat-Käse-Soße\, Salat\n  * Gluten-Weizen\n  * Milcheiwe
 iß\, Milch und Milcherzeugnisse (einschließlich Laktose)\n\nMittagsgeric
 ht ohne Schweinefleisch Hort:\n- Farfalle-Nudeln mit Spinat-Käse-Soße\, 
 Salat\n  * Gluten-Weizen\n  * Milcheiweiß\, Milch und Milcherzeugnisse (e
 inschließlich Laktose)\n\n
SUMMARY:Kinderhaus St. Josef
END:VEVENT
BEGIN:VEVENT
DTSTAMP:20260424T023211Z
UID:1675163
DTSTART;VALUE=DATE:20260428
DTEND;VALUE=DATE:20260428
DESCRIPTION:Kinderkrippen Menü:\n- Hühnerfrikassee mit Reis\, Salat\n  * 
 glutenhaltiges Getreide\n  * Hühnereiweiß\, Eier und Eierzeugnisse\n  * 
 Milcheiweiß\, Milch und Milcherzeugnisse (einschließlich Laktose)\n\nKin
 derkrippe Mittagsgericht ohne Schwein:\n- Hühnerfrikassee mit Reis\, Sala
 t\n  * glutenhaltiges Getreide\n  * Hühnereiweiß\, Eier und Eierzeugniss
 e\n  * Milcheiweiß\, Milch und Milcherzeugnisse (einschließlich Laktose)
 \n\nKinderkrippe Mittagsgericht vegetarisch:\n- Kichererbsenfrikassee mit 
 Reis\, Salat\n  * glutenhaltiges Getreide\n  * Hühnereiweiß\, Eier und E
 ierzeugnisse\n  * Milcheiweiß\, Milch und Milcherzeugnisse (einschließli
 ch Laktose)\n\nKindergarten Menü:\n- Hühnerfrikassee mit Reis\, Salat\n 
  * glutenhaltiges Getreide\n  * Hühnereiweiß\, Eier und Eierzeugnisse\n 
  * Milcheiweiß\, Milch und Milcherzeugnisse (einschließlich Laktose)\n\n
 Kindergarten Mittagsgericht ohne Schwein:\n- Hühnerfrikassee mit Reis\, S
 alat\n  * glutenhaltiges Getreide\n  * Hühnereiweiß\, Eier und Eierzeugn
 isse\n  * Milcheiweiß\, Milch und Milcherzeugnisse (einschließlich Lakto
 se)\n\nKindergarten Mittagsgericht vegetarisch:\n- Kichererbsenfrikassee m
 it Reis\, Salat\n  * glutenhaltiges Getreide\n  * Hühnereiweiß\, Eier un
 d Eierzeugnisse\n  * Milcheiweiß\, Milch und Milcherzeugnisse (einschlie
 ßlich Laktose)\n\nHort Menü:\n- Hühnerfrikassee mit Reis\, Salat\n  * g
 lutenhaltiges Getreide\n  * Hühnereiweiß\, Eier und Eierzeugnisse\n  * M
 ilcheiweiß\, Milch und Milcherzeugnisse (einschließlich Laktose)\n\nMitt
 agsgericht ohne Schweinefleisch Hort:\n- Hühnerfrikassee mit Reis\, Salat
 \n  * glutenhaltiges Getreide\n  * Hühnereiweiß\, Eier und Eierzeugnisse
 \n  * Milcheiweiß\, Milch und Milcherzeugnisse (einschließlich Laktose)\
 n\n
SUMMARY:Kinderhaus St. Josef
END:VEVENT
BEGIN:VEVENT
DTSTAMP:20260424T023211Z
UID:1675164
DTSTART;VALUE=DATE:20260429
DTEND;VALUE=DATE:20260429
DESCRIPTION:Kinderkrippen Menü:\n- Schweineschnitzel Natur mit Buttermais 
 und Kartoffeln\n  * glutenhaltiges Getreide\n\nKinderkrippe Mittagsgericht
  ohne Schwein:\n- Hähnchenschnitzel Natur mit Buttermais und Kartoffeln\n
 \nKinderkrippe Mittagsgericht vegetarisch:\n- Auberginen-Schnitzel Natur m
 it Buttermais und Kartoffeln\n\nKindergarten Menü:\n- Schweineschnitzel N
 atur mit Buttermais und Kartoffeln\n  * glutenhaltiges Getreide\n\nKinderg
 arten Mittagsgericht ohne Schwein:\n- Hähnchenschnitzel Natur mit Butterm
 ais und Kartoffeln\n\nKindergarten Mittagsgericht vegetarisch:\n- Aubergin
 en-Schnitzel Natur mit Buttermais und Kartoffeln\n\nHort Menü:\n- Schwein
 eschnitzel Natur mit Buttermais und Kartoffeln\n  * glutenhaltiges Getreid
 e\n\nMittagsgericht ohne Schweinefleisch Hort:\n- Hähnchenschnitzel Natur
  mit Buttermais und Kartoffeln\n\n
SUMMARY:Kinderhaus St. Josef
END:VEVENT
BEGIN:VEVENT
DTSTAMP:20260424T023211Z
UID:1675165
DTSTART;VALUE=DATE:20260430
DTEND;VALUE=DATE:20260430
DESCRIPTION:Kinderkrippen Menü:\n- Milchreis mit Apfelmus\n  * Milcheiwei
 ß\, Milch und Milcherzeugnisse (einschließlich Laktose)\n  * Antioxidati
 onsmittel\n\nKinderkrippe Mittagsgericht ohne Schwein:\n- Milchreis mit Ap
 felmus\n  * Milcheiweiß\, Milch und Milcherzeugnisse (einschließlich Lak
 tose)\n  * Antioxidationsmittel\n\nKinderkrippe Mittagsgericht vegetarisch
 :\n- Milchreis mit Apfelmus\n  * Milcheiweiß\, Milch und Milcherzeugnisse
  (einschließlich Laktose)\n  * Antioxidationsmittel\n\nKindergarten Menü
 :\n- Milchreis mit Apfelmus\n  * Milcheiweiß\, Milch und Milcherzeugnisse
  (einschließlich Laktose)\n  * Antioxidationsmittel\n\nKindergarten Mitta
 gsgericht ohne Schwein:\n- Milchreis mit Apfelmus\n  * Milcheiweiß\, Milc
 h und Milcherzeugnisse (einschließlich Laktose)\n  * Antioxidationsmittel
 \n\nKindergarten Mittagsgericht vegetarisch:\n- Milchreis mit Apfelmus\n  
 * Milcheiweiß\, Milch und Milcherzeugnisse (einschließlich Laktose)\n  *
  Antioxidationsmittel\n\nHort Menü:\n- Milchreis mit Apfelmus\n  * Milche
 iweiß\, Milch und Milcherzeugnisse (einschließlich Laktose)\n  * Antioxi
 dationsmittel\n\nMittagsgericht ohne Schweinefleisch Hort:\n- Milchreis mi
 t Apfelmus\n  * Milcheiweiß\, Milch und Milcherzeugnisse (einschließlich
  Laktose)\n  * Antioxidationsmittel\n\n
SUMMARY:Kinderhaus St. Josef
END:VEVENT
END:VCALENDAR
