BEGIN:VCALENDAR
VERSION:2.0
PRODID:openmensa.org
CALSCALE:GREGORIAN
METHOD:PUBLISH
URL;VALUE=URI:https://openmensa.org/ical/1819/grundschule-grossgruendlach.i
 cs
BEGIN:VEVENT
DTSTAMP:20260424T012824Z
UID:1671373
DTSTART;VALUE=DATE:20260424
DTEND;VALUE=DATE:20260424
DESCRIPTION:Normal:\n- Geb. Fischfilet mit Kräuterkartoffeln und Soße\, G
 urkensalat\n  * Gluten\n  * glutenhaltiges Getreide\n  * Hühnereiweiß\, 
 Eier und Eierzeugnisse\n  * Fisch und Fischerzeugnisse\n  * Milcheiweiß\,
  Milch und Milcherzeugnisse (einschließlich Laktose)\n\nAlternativ:\n- Kr
 äuterkartoffeltaschen mit Soße\, Gurkensalat\n  * Gluten\n  * glutenhalt
 iges Getreide\n  * Hühnereiweiß\, Eier und Eierzeugnisse\n  * Milcheiwei
 ß\, Milch und Milcherzeugnisse (einschließlich Laktose)\n\n
SUMMARY:Grundschule Großgründlach
END:VEVENT
BEGIN:VEVENT
DTSTAMP:20260424T012824Z
UID:1675134
DTSTART;VALUE=DATE:20260427
DTEND;VALUE=DATE:20260427
DESCRIPTION:Normal:\n- Rahmspinat mit Rührei und Kartoffeln\, Dessert\n  *
  Gluten\n  * glutenhaltiges Getreide\n  * Fisch und Fischerzeugnisse\n  * 
 Milcheiweiß\, Milch und Milcherzeugnisse (einschließlich Laktose)\n\nAlt
 ernativ:\n- Rahmspinat mit Rührei und Kartoffeln\, Dessert\n  * Gluten\n 
  * glutenhaltiges Getreide\n  * Fisch und Fischerzeugnisse\n  * Milcheiwei
 ß\, Milch und Milcherzeugnisse (einschließlich Laktose)\n\n
SUMMARY:Grundschule Großgründlach
END:VEVENT
BEGIN:VEVENT
DTSTAMP:20260424T012824Z
UID:1675135
DTSTART;VALUE=DATE:20260428
DTEND;VALUE=DATE:20260428
DESCRIPTION:Normal:\n- Gebr. Hühnerbrust mit Pommes\, Tomaten-Gurkensalat\
 n  * Gluten\n  * glutenhaltiges Getreide\n  * Hühnereiweiß\, Eier und Ei
 erzeugnisse\n  * Milcheiweiß\, Milch und Milcherzeugnisse (einschließlic
 h Laktose)\n\nAlternativ:\n- Gemüseschnitzel mit Pommes\, Tomaten-Gurkens
 alat\n\n
SUMMARY:Grundschule Großgründlach
END:VEVENT
BEGIN:VEVENT
DTSTAMP:20260424T012824Z
UID:1675136
DTSTART;VALUE=DATE:20260429
DTEND;VALUE=DATE:20260429
DESCRIPTION:Normal:\n- Putenschinkennudeln mit Tomatensoße\, Karottensalat
 \n  * Gluten\n  * glutenhaltiges Getreide\n  * Hühnereiweiß\, Eier und E
 ierzeugnisse\n  * Milcheiweiß\, Milch und Milcherzeugnisse (einschließli
 ch Laktose)\n\nAlternativ:\n- Nudeln mit Tomatensoße\, Karottensalat\n  *
  Gluten\n  * glutenhaltiges Getreide\n  * Hühnereiweiß\, Eier und Eierze
 ugnisse\n  * Milcheiweiß\, Milch und Milcherzeugnisse (einschließlich La
 ktose)\n\n
SUMMARY:Grundschule Großgründlach
END:VEVENT
BEGIN:VEVENT
DTSTAMP:20260424T012824Z
UID:1675137
DTSTART;VALUE=DATE:20260430
DTEND;VALUE=DATE:20260430
DESCRIPTION:Normal:\n- Suppe\, Dampfnudeln mit Dessertsoße Vanille\n  * Gl
 uten\n  * glutenhaltiges Getreide\n  * Milcheiweiß\, Milch und Milcherzeu
 gnisse (einschließlich Laktose)\n\nAlternativ:\n- Suppe\, Dampfnudeln mit
  Dessertsoße Vanille\n  * Gluten\n  * glutenhaltiges Getreide\n  * Milche
 iweiß\, Milch und Milcherzeugnisse (einschließlich Laktose)\n\n
SUMMARY:Grundschule Großgründlach
END:VEVENT
END:VCALENDAR
