BEGIN:VCALENDAR
VERSION:2.0
PRODID:openmensa.org
CALSCALE:GREGORIAN
METHOD:PUBLISH
URL;VALUE=URI:https://openmensa.org/ical/1818/evangelisches-montessori-kind
 erhaus-roettenbach.ics
BEGIN:VEVENT
DTSTAMP:20260424T021908Z
UID:1671429
DTSTART;VALUE=DATE:20260424
DTEND;VALUE=DATE:20260424
DESCRIPTION:Kindergarten Menü:\n- Cannelloni gefüllt mit Blattspinat & Ri
 cotta\, mit Käse überbacken\, Salat mit Dressing\n  * Weizen (wie Dinkel
 und Khorasan-Weizen)\n  * Eier\n  * Milch (einschließlich Laktose)\n  * S
 ellerie\n  * mit Milcheiweiß\n\nKinderkrippen Menü:\n- Cannelloni gefül
 lt mit Blattspinat & Ricotta\, mit Käse überbacken\, Salat mit Dressing\
 n  * Weizen (wie Dinkelund Khorasan-Weizen)\n  * Eier\n  * Milch (einschli
 eßlich Laktose)\n  * Sellerie\n  * mit Milcheiweiß\n\nHort Menü:\n- Can
 nelloni gefüllt mit Blattspinat & Ricotta\, mit Käse überbacken\, Salat
  mit Dressing\n  * Weizen (wie Dinkelund Khorasan-Weizen)\n  * Eier\n  * M
 ilch (einschließlich Laktose)\n  * Sellerie\n  * mit Milcheiweiß\n\nKind
 ergarten Menü Laktosefrei:\n- Mittagsgericht laktosefrei\n\n
SUMMARY:Evangelisches Montessori-Kinderhaus Röttenbach
END:VEVENT
BEGIN:VEVENT
DTSTAMP:20260424T021908Z
UID:1675190
DTSTART;VALUE=DATE:20260427
DTEND;VALUE=DATE:20260427
DESCRIPTION:Kindergarten Menü:\n- Gefüllte Pasta in Tomatensoße mit Pest
 o & Piselli\, Fruchtjoghurt vom Bauernhof "ROSA Kuh"\n  * glutenhaltiges G
 etreide\n  * Milch (einschließlich Laktose)\n  * mit Milcheiweiß\n  * mi
 t Zuckerarten und Süßungsmitteln\n  * mit Zuckeraustauschstoffen\n  * mi
 t Süßungsmitteln\n\nKinderkrippen Menü:\n- Gefüllte Pasta in Tomatenso
 ße mit Pesto & Piselli\, Fruchtjoghurt vom Bauernhof "ROSA Kuh"\n  * glut
 enhaltiges Getreide\n  * Milch (einschließlich Laktose)\n  * mit Milcheiw
 eiß\n  * mit Zuckerarten und Süßungsmitteln\n  * mit Zuckeraustauschsto
 ffen\n  * mit Süßungsmitteln\n\nHort Menü:\n- Gefüllte Pasta in Tomate
 nsoße mit Pesto & Piselli\, Fruchtjoghurt vom Bauernhof "ROSA Kuh"\n  * g
 lutenhaltiges Getreide\n  * Milch (einschließlich Laktose)\n  * mit Milch
 eiweiß\n  * mit Zuckerarten und Süßungsmitteln\n  * mit Zuckeraustausch
 stoffen\n  * mit Süßungsmitteln\n\nKindergarten Menü Laktosefrei:\n- Mi
 ttagsgericht laktosefrei\n\n
SUMMARY:Evangelisches Montessori-Kinderhaus Röttenbach
END:VEVENT
BEGIN:VEVENT
DTSTAMP:20260424T021908Z
UID:1675191
DTSTART;VALUE=DATE:20260428
DTEND;VALUE=DATE:20260428
DESCRIPTION:Kindergarten Menü:\n- Hähnchenschnitzel Wiener Art\, Kartoffe
 lsalat\, Dessert\n  * Weizen (wie Dinkelund Khorasan-Weizen)\n  * Eier\n  
 * Milch (einschließlich Laktose)\n  * mit Zuckerarten und Süßungsmittel
 n\n  * mit Zuckeraustauschstoffen\n  * mit Milcheiweiß\n  * mit Süßungs
 mitteln\n\nKinderkrippen Menü:\n- Hähnchenschnitzel Wiener Art\, Kartoff
 elsalat\, Dessert\n  * Weizen (wie Dinkelund Khorasan-Weizen)\n  * Eier\n 
  * Milch (einschließlich Laktose)\n  * mit Zuckerarten und Süßungsmitte
 ln\n  * mit Zuckeraustauschstoffen\n  * mit Milcheiweiß\n  * mit Süßung
 smitteln\n\nHort Menü:\n- Hähnchenschnitzel Wiener Art\, Kartoffelsalat\
 , Dessert\n  * Weizen (wie Dinkelund Khorasan-Weizen)\n  * Eier\n  * Milch
  (einschließlich Laktose)\n  * mit Zuckerarten und Süßungsmitteln\n  * 
 mit Zuckeraustauschstoffen\n  * mit Milcheiweiß\n  * mit Süßungsmitteln
 \n\nKindergarten Menü Laktosefrei:\n- Mittagsgericht laktosefrei\n\n
SUMMARY:Evangelisches Montessori-Kinderhaus Röttenbach
END:VEVENT
BEGIN:VEVENT
DTSTAMP:20260424T021908Z
UID:1675192
DTSTART;VALUE=DATE:20260429
DTEND;VALUE=DATE:20260429
DESCRIPTION:Kindergarten Menü:\n- Käsespätzle mit Röstzwiebeln\, Salat 
 mit Dressing\n  * glutenhaltiges Getreide\n  * Eier\n  * Milch (einschlie
 ßlich Laktose)\n  * mit Milcheiweiß\n\nKinderkrippen Menü:\n- Käsespä
 tzle mit Röstzwiebeln\, Salat mit Dressing\n  * glutenhaltiges Getreide\n
   * Eier\n  * Milch (einschließlich Laktose)\n  * mit Milcheiweiß\n\nHor
 t Menü:\n- Käsespätzle mit Röstzwiebeln\, Salat mit Dressing\n  * glut
 enhaltiges Getreide\n  * Eier\n  * Milch (einschließlich Laktose)\n  * mi
 t Milcheiweiß\n\nKindergarten Menü Laktosefrei:\n- Mittagsgericht laktos
 efrei\n\n
SUMMARY:Evangelisches Montessori-Kinderhaus Röttenbach
END:VEVENT
BEGIN:VEVENT
DTSTAMP:20260424T021908Z
UID:1675193
DTSTART;VALUE=DATE:20260430
DTEND;VALUE=DATE:20260430
DESCRIPTION:Kindergarten Menü:\n- Ei mit Rahmspinat\, Salzkartoffeln\n  * 
 Eier\n  * Milch (einschließlich Laktose)\n  * mit Milcheiweiß\n\nKinderk
 rippen Menü:\n- Ei mit Rahmspinat\, Salzkartoffeln\n  * Eier\n  * Milch (
 einschließlich Laktose)\n  * mit Milcheiweiß\n\nHort Menü:\n- Ei mit Ra
 hmspinat\, Salzkartoffeln\n  * Eier\n  * Milch (einschließlich Laktose)\n
   * mit Milcheiweiß\n\nKindergarten Menü Laktosefrei:\n- Mittagsgericht 
 laktosefrei\n\n
SUMMARY:Evangelisches Montessori-Kinderhaus Röttenbach
END:VEVENT
END:VCALENDAR
