BEGIN:VCALENDAR
VERSION:2.0
PRODID:openmensa.org
CALSCALE:GREGORIAN
METHOD:PUBLISH
URL;VALUE=URI:https://openmensa.org/ical/1816/mittelschule-st-leonhard.ics
BEGIN:VEVENT
DTSTAMP:20260424T013115Z
UID:1675172
DTSTART;VALUE=DATE:20260427
DTEND;VALUE=DATE:20260427
DESCRIPTION:Mittagsgericht:\n- Mittagsgericht 1\n\nvegetarische Alternative
 :\n- vegetarische Alternative\n\n
SUMMARY:Mittelschule St. Leonhard
END:VEVENT
BEGIN:VEVENT
DTSTAMP:20260424T013115Z
UID:1675173
DTSTART;VALUE=DATE:20260428
DTEND;VALUE=DATE:20260428
DESCRIPTION:Mittagsgericht:\n- Mittagsgericht 1\n\nvegetarische Alternative
 :\n- vegetarische Alternative\n\n
SUMMARY:Mittelschule St. Leonhard
END:VEVENT
BEGIN:VEVENT
DTSTAMP:20260424T013115Z
UID:1675174
DTSTART;VALUE=DATE:20260429
DTEND;VALUE=DATE:20260429
DESCRIPTION:Mittagsgericht:\n- Mittagsgericht 1\n\nvegetarische Alternative
 :\n- vegetarische Alternative\n\n
SUMMARY:Mittelschule St. Leonhard
END:VEVENT
BEGIN:VEVENT
DTSTAMP:20260424T013115Z
UID:1675175
DTSTART;VALUE=DATE:20260430
DTEND;VALUE=DATE:20260430
DESCRIPTION:Mittagsgericht:\n- Mittagsgericht 1\n\nvegetarische Alternative
 :\n- vegetarische Alternative\n\n
SUMMARY:Mittelschule St. Leonhard
END:VEVENT
END:VCALENDAR
