BEGIN:VCALENDAR
VERSION:2.0
PRODID:openmensa.org
CALSCALE:GREGORIAN
METHOD:PUBLISH
URL;VALUE=URI:https://openmensa.org/ical/1815/staatliche-realschule-feucht.
 ics
BEGIN:VEVENT
DTSTAMP:20260424T021703Z
UID:1675129
DTSTART;VALUE=DATE:20260427
DTEND;VALUE=DATE:20260427
DESCRIPTION:Mittagsgericht mit Schwein:\n- Mittagsgericht\n\nMittagsgericht
  ohne Schweinefleisch:\n- Mittagsgericht\n\nvegetarische Alternative:\n- M
 ittagsgericht\n\n
SUMMARY:Staatliche Realschule Feucht
END:VEVENT
BEGIN:VEVENT
DTSTAMP:20260424T021703Z
UID:1675130
DTSTART;VALUE=DATE:20260428
DTEND;VALUE=DATE:20260428
DESCRIPTION:Mittagsgericht mit Schwein:\n- Mittagsgericht\n\nMittagsgericht
  ohne Schweinefleisch:\n- Mittagsgericht\n\nvegetarische Alternative:\n- M
 ittagsgericht\n\n
SUMMARY:Staatliche Realschule Feucht
END:VEVENT
BEGIN:VEVENT
DTSTAMP:20260424T021703Z
UID:1675131
DTSTART;VALUE=DATE:20260429
DTEND;VALUE=DATE:20260429
DESCRIPTION:Mittagsgericht mit Schwein:\n- Mittagsgericht\n\nMittagsgericht
  ohne Schweinefleisch:\n- Mittagsgericht\n\nvegetarische Alternative:\n- M
 ittagsgericht\n\n
SUMMARY:Staatliche Realschule Feucht
END:VEVENT
BEGIN:VEVENT
DTSTAMP:20260424T021703Z
UID:1675132
DTSTART;VALUE=DATE:20260430
DTEND;VALUE=DATE:20260430
DESCRIPTION:Mittagsgericht mit Schwein:\n- Mittagsgericht\n\nMittagsgericht
  ohne Schweinefleisch:\n- Mittagsgericht\n\nvegetarische Alternative:\n- M
 ittagsgericht\n\n
SUMMARY:Staatliche Realschule Feucht
END:VEVENT
END:VCALENDAR
