BEGIN:VCALENDAR
VERSION:2.0
PRODID:openmensa.org
CALSCALE:GREGORIAN
METHOD:PUBLISH
URL;VALUE=URI:https://openmensa.org/ical/1814/grund-und-mittelschule-feucht
 -kinderhort-st-jakob.ics
BEGIN:VEVENT
DTSTAMP:20260424T022729Z
UID:1671382
DTSTART;VALUE=DATE:20260424
DTEND;VALUE=DATE:20260424
DESCRIPTION:Mittagsgericht:\n- Cannelloni mit Rindfleischfüllung\, Tomaten
 soße\n  * Gluten\n  * glutenhaltiges Getreide\n  * Gluten-Weizen\n  * Glu
 ten-Dinkel\n  * Milcheiweiß\, Milch und Milcherzeugnisse (einschließlich
  Laktose)\n  * Sellerie und Sellerieerzeugnisse\n\nMenü Vegetarisch:\n- G
 emüsestrudel mit weißer Soße und  Kartoffeln\n  * Gluten\n  * Gluten-We
 izen\n  * Milcheiweiß\, Milch und Milcherzeugnisse (einschließlich Lakto
 se)\n  * Sellerie und Sellerieerzeugnisse\n\n
SUMMARY:Grund- und Mittelschule Feucht / Kinderhort St. Jakob
END:VEVENT
BEGIN:VEVENT
DTSTAMP:20260424T022729Z
UID:1675143
DTSTART;VALUE=DATE:20260427
DTEND;VALUE=DATE:20260427
DESCRIPTION:Mittagsgericht:\n- Chili con Carne vom Rind\, Stangenweißbrot\
 n  * Gluten\n  * glutenhaltiges Getreide\n\nMenü Vegetarisch:\n- Tomaten-
 Creme-Suppe\, Kaiserschmarrn ohne Rosinen\, Apfelmus\n  * Gluten\n  * Hüh
 nereiweiß\, Eier und Eierzeugnisse\n  * Milcheiweiß\, Milch und Milcherz
 eugnisse (einschließlich Laktose)\n  * Antioxidationsmittel\n\n
SUMMARY:Grund- und Mittelschule Feucht / Kinderhort St. Jakob
END:VEVENT
BEGIN:VEVENT
DTSTAMP:20260424T022729Z
UID:1675144
DTSTART;VALUE=DATE:20260428
DTEND;VALUE=DATE:20260428
DESCRIPTION:Mittagsgericht:\n- Putenschnitzel\, Rahmsoße\, Spätzle\, Sala
 t\, Dressing\n  * Gluten\n  * glutenhaltiges Getreide\n  * Milcheiweiß\, 
 Milch und Milcherzeugnisse (einschließlich Laktose)\n  * Hühnereiweiß\,
  Eier und Eierzeugnisse\n\nMenü Vegetarisch:\n- Vegetarische Frühlingsro
 lle\n  * Gluten\n  * glutenhaltiges Getreide\n  * Gluten-Weizen\n  * Hühn
 ereiweiß\, Eier und Eierzeugnisse\n  * Soja und Sojaerzeugnisse\n  * Milc
 heiweiß\, Milch und Milcherzeugnisse (einschließlich Laktose)\n  * Selle
 rie und Sellerieerzeugnisse\n\n
SUMMARY:Grund- und Mittelschule Feucht / Kinderhort St. Jakob
END:VEVENT
BEGIN:VEVENT
DTSTAMP:20260424T022729Z
UID:1675145
DTSTART;VALUE=DATE:20260429
DTEND;VALUE=DATE:20260429
DESCRIPTION:Mittagsgericht:\n- Hot Dog mit Putenwiener\, Röstzwiebeln\, Di
 llchips\, dazu Ketchup\, Duo Schoko/Vanillepudding\n  * Gluten\n  * gluten
 haltiges Getreide\n  * Sellerie und Sellerieerzeugnisse\n  * Senf und Senf
 erzeugnisse\n  * Farbstoff\n  * Konservierungsstoff\n  * Milcheiweiß\, Mi
 lch und Milcherzeugnisse (einschließlich Laktose)\n\nMenü Vegetarisch:\n
 - Germknödel natur\, Schokoladensoße\, Duo Schoko/Vanillepudding\n  * Gl
 uten\n  * glutenhaltiges Getreide\n  * Gluten-Weizen\n  * Milcheiweiß\, M
 ilch und Milcherzeugnisse (einschließlich Laktose)\n  * Farbstoff\n\n
SUMMARY:Grund- und Mittelschule Feucht / Kinderhort St. Jakob
END:VEVENT
BEGIN:VEVENT
DTSTAMP:20260424T022729Z
UID:1675146
DTSTART;VALUE=DATE:20260430
DTEND;VALUE=DATE:20260430
DESCRIPTION:Mittagsgericht:\n- Schweinebraten\, Soße\, Blaukraut\, Kloß\n
   * Senf und Senferzeugnisse\n  * Gluten\n  * Gluten-Weizen\n  * Gluten-Ro
 ggen\n  * Schwefeldioxid\, Schwefeldioxid und Sulfite\n  * Konservierungss
 toff\n  * geschwefelt\n\nMenü Vegetarisch:\n- Gemüselasagne\, Tomatenso
 ße\, Salat\, Dressing\n  * Gluten\n  * glutenhaltiges Getreide\n  * Glute
 n-Weizen\n  * Milcheiweiß\, Milch und Milcherzeugnisse (einschließlich L
 aktose)\n  * Sellerie und Sellerieerzeugnisse\n\n
SUMMARY:Grund- und Mittelschule Feucht / Kinderhort St. Jakob
END:VEVENT
END:VCALENDAR
