BEGIN:VCALENDAR
VERSION:2.0
PRODID:openmensa.org
CALSCALE:GREGORIAN
METHOD:PUBLISH
URL;VALUE=URI:https://openmensa.org/ical/1813/gymnasium-fridericianum.ics
BEGIN:VEVENT
DTSTAMP:20260424T014709Z
UID:1675195
DTSTART;VALUE=DATE:20260427
DTEND;VALUE=DATE:20260427
DESCRIPTION:Mittagsgericht 1:\n- Schweineschnitzel paniert\, Pommes frites 
 (Backofenfrites\, Wellenschnitt)\n  * Gluten\n  * Gluten-Weizen\n  * Hühn
 ereiweiß\, Eier und Eierzeugnisse\n  * Schweinefleisch\n  * vegetarisch\n
 \nMittagsgericht 2 (veg.):\n- Champignontopf mit Sahnesoße\, Semmelknöde
 l\n  * Gluten\n  * Gluten-Weizen\n  * Milcheiweiß\, Milch und Milcherzeug
 nisse (einschließlich Laktose)\n  * Sellerie und Sellerieerzeugnisse\n  *
  vegetarisch\n  * Hühnereiweiß\, Eier und Eierzeugnisse\n\nBeilagensalat
 :\n- Beilagensalat\n\nObst:\n- Obst\n\nSchnitzelsandwich:\n- Schnitzelsand
 wich\n  * Gluten\n  * Gluten-Weizen\n  * Hühnereiweiß\, Eier und Eierzeu
 gnisse\n  * Soja und Sojaerzeugnisse\n  * Milcheiweiß\, Milch und Milcher
 zeugnisse (einschließlich Laktose)\n  * Sesam und Sesamerzeugnisse\n\nFr
 ühlingsrollen:\n- asiatische Frühlingsröllchen gefüllt\, Beilage: haus
 gemachte Chili-Marmelade\n  * Gluten\n  * glutenhaltiges Getreide\n  * Glu
 ten-Weizen\n  * Soja und Sojaerzeugnisse\n  * Sesam und Sesamerzeugnisse\n
 \nPizza vegetarisch:\n- Holzofenpizza Tomate-Mozzarella\, belegt mit Tomat
 ensoße\, Mozzarella\, Cherrytomaten und Pesto Genovese\n  * Gluten-Weizen
 \n  * Milcheiweiß\, Milch und Milcherzeugnisse (einschließlich Laktose)\
 n\nNudelbox:\n- Nudelbox\, Fruchtige Tomatensoße verfeinert mit Kräutern
 \n  * Gluten-Weizen\n  * Hühnereiweiß\, Eier und Eierzeugnisse\n  * Sell
 erie und Sellerieerzeugnisse\n\nTomate-Mozzarella-Baguette:\n- Tomate-Mozz
 arella-Baguette\n  * Gluten-Weizen\n  * Soja und Sojaerzeugnisse\n  * Milc
 heiweiß\, Milch und Milcherzeugnisse (einschließlich Laktose)\n  * Sesam
  und Sesamerzeugnisse\n  * Tomatenprodukte\n  * Säuerungsmittel / Säurun
 gsregulatoren\n\nBratwurstbrötchen:\n- Brötchen mit 3 Rostbratwürstchen
 \n  * Gluten-Weizen\n  * Gluten-Gerste\n  * Soja und Sojaerzeugnisse\n  * 
 Milcheiweiß\, Milch und Milcherzeugnisse (einschließlich Laktose)\n  * S
 esam und Sesamerzeugnisse\n\nLaugenbreze mit Käse überbacken:\n- Laugenb
 reze mit Käse überbacken\n  * Gluten\n  * glutenhaltiges Getreide\n  * G
 luten-Weizen\n  * Gluten-Gerste\n  * Milcheiweiß\, Milch und Milcherzeugn
 isse (einschließlich Laktose)\n  * Säuerungsmittel / Säurungsregulatore
 n\n\nCookie:\n- Cookie\n  * Gluten\n  * Hühnereiweiß\, Eier und Eierzeug
 nisse\n  * Soja und Sojaerzeugnisse\n  * Milcheiweiß\, Milch und Milcherz
 eugnisse (einschließlich Laktose)\n  * Emulgatoren\n\nDonut:\n- Donut\n  
 * Gluten\n  * Hühnereiweiß\, Eier und Eierzeugnisse\n  * Milcheiweiß\, 
 Milch und Milcherzeugnisse (einschließlich Laktose)\n  * Schalenfrüchte 
 und Schalenfrüchteerzeugnisse\n  * Antioxidationsmittel\n  * Emulgatoren\
 n  * Farbstoff\n  * Stabilisatoren\n\nMuffin:\n- Muffin\n  * Gluten-Weizen
 \n  * Hühnereiweiß\, Eier und Eierzeugnisse\n  * Soja und Sojaerzeugniss
 e\n  * Milcheiweiß\, Milch und Milcherzeugnisse (einschließlich Laktose)
 \n  * Sesam und Sesamerzeugnisse\n  * Lupinen und Lupinenerzeugnisse\n  * 
 Emulgatoren\n  * Verdickungsmittel\n\n
SUMMARY:Gymnasium Fridericianum
END:VEVENT
BEGIN:VEVENT
DTSTAMP:20260424T014709Z
UID:1675196
DTSTART;VALUE=DATE:20260428
DTEND;VALUE=DATE:20260428
DESCRIPTION:Mittagsgericht 1:\n- Puten-Hacksteak\, Djuvec-Reis (bunter Gem
 üsereis)\, Tomatensoße mild und fruchtig\n  * Gluten-Weizen\n  * vegetar
 isch\n  * Gluten\n  * Milcheiweiß\, Milch und Milcherzeugnisse (einschlie
 ßlich Laktose)\n  * Sellerie und Sellerieerzeugnisse\n  * Senf und Senfer
 zeugnisse\n  * Sesam und Sesamerzeugnisse\n\nMittagsgericht 2 (veg.):\n- S
 paghetti\, Tomatensoße mild und fruchtig\n  * Gluten\n  * Gluten-Weizen\n
   * vegetarisch\n  * Milcheiweiß\, Milch und Milcherzeugnisse (einschlie
 ßlich Laktose)\n  * Sellerie und Sellerieerzeugnisse\n  * Senf und Senfer
 zeugnisse\n  * Sesam und Sesamerzeugnisse\n\nBeilagensalat:\n- Beilagensal
 at\n\nObst:\n- Obst\n\nSchnitzelsandwich:\n- Schnitzelsandwich\n  * Gluten
 \n  * Gluten-Weizen\n  * Hühnereiweiß\, Eier und Eierzeugnisse\n  * Soja
  und Sojaerzeugnisse\n  * Milcheiweiß\, Milch und Milcherzeugnisse (einsc
 hließlich Laktose)\n  * Sesam und Sesamerzeugnisse\n\nFrühlingsrollen:\n
 - asiatische Frühlingsröllchen gefüllt\, Beilage: hausgemachte Chili-Ma
 rmelade\n  * Gluten\n  * glutenhaltiges Getreide\n  * Gluten-Weizen\n  * S
 oja und Sojaerzeugnisse\n  * Sesam und Sesamerzeugnisse\n\nPizza:\n- Holzo
 fenpizza Salami\, belegt mit Tomatensoße\, Mozzarella\, Salami und Gouda-
 Käse\n  * Gluten-Weizen\n  * Milcheiweiß\, Milch und Milcherzeugnisse (e
 inschließlich Laktose)\n  * Antioxidationsmittel\n  * Nitritpökelsalz un
 d Nitrat\n\nKaiser to go:\n- Kaiserschmarrn ohne Rosinen\, Apfelmus\n  * G
 luten-Weizen\n  * Hühnereiweiß\, Eier und Eierzeugnisse\n  * Milcheiwei
 ß\, Milch und Milcherzeugnisse (einschließlich Laktose)\n  * vegetarisch
 \n  * Antioxidationsmittel\n\nTomate-Mozzarella-Baguette:\n- Tomate-Mozzar
 ella-Baguette\n  * Gluten-Weizen\n  * Soja und Sojaerzeugnisse\n  * Milche
 iweiß\, Milch und Milcherzeugnisse (einschließlich Laktose)\n  * Sesam u
 nd Sesamerzeugnisse\n  * Tomatenprodukte\n  * Säuerungsmittel / Säurungs
 regulatoren\n\nBratwurstbrötchen:\n- Brötchen mit 3 Rostbratwürstchen\n
   * Gluten-Weizen\n  * Gluten-Gerste\n  * Soja und Sojaerzeugnisse\n  * Mi
 lcheiweiß\, Milch und Milcherzeugnisse (einschließlich Laktose)\n  * Ses
 am und Sesamerzeugnisse\n\nLaugenbreze mit Käse überbacken:\n- Laugenbre
 ze mit Käse überbacken\n  * Gluten\n  * glutenhaltiges Getreide\n  * Glu
 ten-Weizen\n  * Gluten-Gerste\n  * Milcheiweiß\, Milch und Milcherzeugnis
 se (einschließlich Laktose)\n  * Säuerungsmittel / Säurungsregulatoren\
 n\nCookie:\n- Cookie\n  * Gluten\n  * Hühnereiweiß\, Eier und Eierzeugni
 sse\n  * Soja und Sojaerzeugnisse\n  * Milcheiweiß\, Milch und Milcherzeu
 gnisse (einschließlich Laktose)\n  * Emulgatoren\n\nDonut:\n- Donut\n  * 
 Gluten\n  * Hühnereiweiß\, Eier und Eierzeugnisse\n  * Milcheiweiß\, Mi
 lch und Milcherzeugnisse (einschließlich Laktose)\n  * Schalenfrüchte un
 d Schalenfrüchteerzeugnisse\n  * Antioxidationsmittel\n  * Emulgatoren\n 
  * Farbstoff\n  * Stabilisatoren\n\nMuffin:\n- Muffin\n  * Gluten-Weizen\n
   * Hühnereiweiß\, Eier und Eierzeugnisse\n  * Soja und Sojaerzeugnisse\
 n  * Milcheiweiß\, Milch und Milcherzeugnisse (einschließlich Laktose)\n
   * Sesam und Sesamerzeugnisse\n  * Lupinen und Lupinenerzeugnisse\n  * Em
 ulgatoren\n  * Verdickungsmittel\n\n
SUMMARY:Gymnasium Fridericianum
END:VEVENT
BEGIN:VEVENT
DTSTAMP:20260424T014709Z
UID:1675197
DTSTART;VALUE=DATE:20260429
DTEND;VALUE=DATE:20260429
DESCRIPTION:Mittagsgericht 1:\n- Fischnuggets: Seelachsstücke paniert und 
 vorgebacken\, Kartoffelgratin\n  * Gluten-Weizen\n  * Fisch und Fischerzeu
 gnisse\n  * Hühnereiweiß\, Eier und Eierzeugnisse\n  * Milcheiweiß\, Mi
 lch und Milcherzeugnisse (einschließlich Laktose)\n  * Sellerie und Selle
 rieerzeugnisse\n  * vegetarisch\n\nMittagsgericht 2 (veg.):\n- Bio Milchre
 is\, Sauerkirschen\n  * Milcheiweiß\, Milch und Milcherzeugnisse (einschl
 ießlich Laktose)\n  * vegetarisch\n\nBeilagensalat:\n- Beilagensalat\n\nO
 bst:\n- Obst\n\nSchnitzelsandwich:\n- Schnitzelsandwich\n  * Gluten\n  * G
 luten-Weizen\n  * Hühnereiweiß\, Eier und Eierzeugnisse\n  * Soja und So
 jaerzeugnisse\n  * Milcheiweiß\, Milch und Milcherzeugnisse (einschließl
 ich Laktose)\n  * Sesam und Sesamerzeugnisse\n\nFrühlingsrollen:\n- asiat
 ische Frühlingsröllchen gefüllt\, Beilage: hausgemachte Chili-Marmelade
 \n  * Gluten\n  * glutenhaltiges Getreide\n  * Gluten-Weizen\n  * Soja und
  Sojaerzeugnisse\n  * Sesam und Sesamerzeugnisse\n\nPizza vegetarisch:\n- 
 Holzofenpizza Tomate-Mozzarella\, belegt mit Tomatensoße\, Mozzarella\, C
 herrytomaten und Pesto Genovese\n  * Gluten-Weizen\n  * Milcheiweiß\, Mil
 ch und Milcherzeugnisse (einschließlich Laktose)\n\nNudelbox:\n- Nudelbox
 \, Rinderhackfleischsoße "Bologneser Art" verfeinert mit Karotten- u. Sel
 leriewürfeln\n  * Gluten-Weizen\n  * Hühnereiweiß\, Eier und Eierzeugni
 sse\n  * Sellerie und Sellerieerzeugnisse\n  * mit Rindfleisch\n\nTomate-M
 ozzarella-Baguette:\n- Tomate-Mozzarella-Baguette\n  * Gluten-Weizen\n  * 
 Soja und Sojaerzeugnisse\n  * Milcheiweiß\, Milch und Milcherzeugnisse (e
 inschließlich Laktose)\n  * Sesam und Sesamerzeugnisse\n  * Tomatenproduk
 te\n  * Säuerungsmittel / Säurungsregulatoren\n\nBratwurstbrötchen:\n- 
 Brötchen mit 3 Rostbratwürstchen\n  * Gluten-Weizen\n  * Gluten-Gerste\n
   * Soja und Sojaerzeugnisse\n  * Milcheiweiß\, Milch und Milcherzeugniss
 e (einschließlich Laktose)\n  * Sesam und Sesamerzeugnisse\n\nLaugenbreze
  mit Käse überbacken:\n- Laugenbreze mit Käse überbacken\n  * Gluten\n
   * glutenhaltiges Getreide\n  * Gluten-Weizen\n  * Gluten-Gerste\n  * Mil
 cheiweiß\, Milch und Milcherzeugnisse (einschließlich Laktose)\n  * Säu
 erungsmittel / Säurungsregulatoren\n\nCookie:\n- Cookie\n  * Gluten\n  * 
 Hühnereiweiß\, Eier und Eierzeugnisse\n  * Soja und Sojaerzeugnisse\n  *
  Milcheiweiß\, Milch und Milcherzeugnisse (einschließlich Laktose)\n  * 
 Emulgatoren\n\nDonut:\n- Donut\n  * Gluten\n  * Hühnereiweiß\, Eier und 
 Eierzeugnisse\n  * Milcheiweiß\, Milch und Milcherzeugnisse (einschließl
 ich Laktose)\n  * Schalenfrüchte und Schalenfrüchteerzeugnisse\n  * Anti
 oxidationsmittel\n  * Emulgatoren\n  * Farbstoff\n  * Stabilisatoren\n\nMu
 ffin:\n- Muffin\n  * Gluten-Weizen\n  * Hühnereiweiß\, Eier und Eierzeug
 nisse\n  * Soja und Sojaerzeugnisse\n  * Milcheiweiß\, Milch und Milcherz
 eugnisse (einschließlich Laktose)\n  * Sesam und Sesamerzeugnisse\n  * Lu
 pinen und Lupinenerzeugnisse\n  * Emulgatoren\n  * Verdickungsmittel\n\n
SUMMARY:Gymnasium Fridericianum
END:VEVENT
BEGIN:VEVENT
DTSTAMP:20260424T014709Z
UID:1675198
DTSTART;VALUE=DATE:20260430
DTEND;VALUE=DATE:20260430
DESCRIPTION:Mittagsgericht 1:\n- Mini-Rinderfrikadellen mit Fond\, Bandnude
 ln\, Bio Rahmsoße\n  * Gluten\n  * Gluten-Weizen\n  * Hühnereiweiß\, Ei
 er und Eierzeugnisse\n  * Sellerie und Sellerieerzeugnisse\n  * mit Rindfl
 eisch\n  * Milcheiweiß\, Milch und Milcherzeugnisse (einschließlich Lakt
 ose)\n\nMittagsgericht 2 (veg.):\n- BIO Kartoffelauflauf mit Gemüse\, Kar
 otten\, Erbsen und Gewürze\, mit Käse garniert\n  * Gluten-Weizen\n  * M
 ilcheiweiß\, Milch und Milcherzeugnisse (einschließlich Laktose)\n  * ve
 getarisch\n\nBeilagensalat:\n- Beilagensalat\n\nObst:\n- Obst\n\nSchnitzel
 sandwich:\n- Schnitzelsandwich\n  * Gluten\n  * Gluten-Weizen\n  * Hühner
 eiweiß\, Eier und Eierzeugnisse\n  * Soja und Sojaerzeugnisse\n  * Milche
 iweiß\, Milch und Milcherzeugnisse (einschließlich Laktose)\n  * Sesam u
 nd Sesamerzeugnisse\n\nFrühlingsrollen:\n- asiatische Frühlingsröllchen
  gefüllt\, Beilage: hausgemachte Chili-Marmelade\n  * Gluten\n  * glutenh
 altiges Getreide\n  * Gluten-Weizen\n  * Soja und Sojaerzeugnisse\n  * Ses
 am und Sesamerzeugnisse\n\nPizza:\n- Holzofenpizza Salami\, belegt mit Tom
 atensoße\, Mozzarella\, Salami und Gouda-Käse\n  * Gluten-Weizen\n  * Mi
 lcheiweiß\, Milch und Milcherzeugnisse (einschließlich Laktose)\n  * Ant
 ioxidationsmittel\n  * Nitritpökelsalz und Nitrat\n\nKaiser to go:\n- Kai
 serschmarrn ohne Rosinen\, Apfelmus\n  * Gluten-Weizen\n  * Hühnereiweiß
 \, Eier und Eierzeugnisse\n  * Milcheiweiß\, Milch und Milcherzeugnisse (
 einschließlich Laktose)\n  * vegetarisch\n  * Antioxidationsmittel\n\nTom
 ate-Mozzarella-Baguette:\n- Tomate-Mozzarella-Baguette\n  * Gluten-Weizen\
 n  * Soja und Sojaerzeugnisse\n  * Milcheiweiß\, Milch und Milcherzeugnis
 se (einschließlich Laktose)\n  * Sesam und Sesamerzeugnisse\n  * Tomatenp
 rodukte\n  * Säuerungsmittel / Säurungsregulatoren\n\nBratwurstbrötchen
 :\n- Brötchen mit 3 Rostbratwürstchen\n  * Gluten-Weizen\n  * Gluten-Ger
 ste\n  * Soja und Sojaerzeugnisse\n  * Milcheiweiß\, Milch und Milcherzeu
 gnisse (einschließlich Laktose)\n  * Sesam und Sesamerzeugnisse\n\nLaugen
 breze mit Käse überbacken:\n- Laugenbreze mit Käse überbacken\n  * Glu
 ten\n  * glutenhaltiges Getreide\n  * Gluten-Weizen\n  * Gluten-Gerste\n  
 * Milcheiweiß\, Milch und Milcherzeugnisse (einschließlich Laktose)\n  *
  Säuerungsmittel / Säurungsregulatoren\n\nCookie:\n- Cookie\n  * Gluten\
 n  * Hühnereiweiß\, Eier und Eierzeugnisse\n  * Soja und Sojaerzeugnisse
 \n  * Milcheiweiß\, Milch und Milcherzeugnisse (einschließlich Laktose)\
 n  * Emulgatoren\n\nDonut:\n- Donut\n  * Gluten\n  * Hühnereiweiß\, Eier
  und Eierzeugnisse\n  * Milcheiweiß\, Milch und Milcherzeugnisse (einschl
 ießlich Laktose)\n  * Schalenfrüchte und Schalenfrüchteerzeugnisse\n  *
  Antioxidationsmittel\n  * Emulgatoren\n  * Farbstoff\n  * Stabilisatoren\
 n\nMuffin:\n- Muffin\n  * Gluten-Weizen\n  * Hühnereiweiß\, Eier und Eie
 rzeugnisse\n  * Soja und Sojaerzeugnisse\n  * Milcheiweiß\, Milch und Mil
 cherzeugnisse (einschließlich Laktose)\n  * Sesam und Sesamerzeugnisse\n 
  * Lupinen und Lupinenerzeugnisse\n  * Emulgatoren\n  * Verdickungsmittel\
 n\n
SUMMARY:Gymnasium Fridericianum
END:VEVENT
END:VCALENDAR
