BEGIN:VCALENDAR
VERSION:2.0
PRODID:openmensa.org
CALSCALE:GREGORIAN
METHOD:PUBLISH
URL;VALUE=URI:https://openmensa.org/ical/1812/gymnasium-suederelbe.ics
BEGIN:VEVENT
DTSTAMP:20260424T021828Z
UID:1671424
DTSTART;VALUE=DATE:20260424
DTEND;VALUE=DATE:20260424
DESCRIPTION:Gesund und Lecker Nahrung für die Konzentration:\n- Salatbuffe
 t  mit hausgemachtem  Dressing\, Cremige Blumenkohl Suppe dazu Mehrkornbr
 ötchen\, Frisches Obst\n\nVegetarisches für den Gaumen:\n- Salatbuffet  
 mit hausgemachtem  Dressing\, Kartoffelgratin  mit Spinat  mit Hirtenkäse
   überbacken\, Frisches Obst\n\nSalat:\n- Tagesessen\n\n
SUMMARY:Gymnasium Süderelbe
END:VEVENT
BEGIN:VEVENT
DTSTAMP:20260424T021828Z
UID:1675176
DTSTART;VALUE=DATE:20260427
DTEND;VALUE=DATE:20260427
DESCRIPTION:Gesund und Lecker Nahrung für die Konzentration:\n- Tagesessen
 \n\nVegetarisches für den Gaumen:\n- Tagesessen\n\nSalat:\n- Tagesessen\n
 \n
SUMMARY:Gymnasium Süderelbe
END:VEVENT
BEGIN:VEVENT
DTSTAMP:20260424T021828Z
UID:1675177
DTSTART;VALUE=DATE:20260428
DTEND;VALUE=DATE:20260428
DESCRIPTION:Gesund und Lecker Nahrung für die Konzentration:\n- Tagesessen
 \n\nVegetarisches für den Gaumen:\n- Tagesessen\n\nSalat:\n- Tagesessen\n
 \n
SUMMARY:Gymnasium Süderelbe
END:VEVENT
BEGIN:VEVENT
DTSTAMP:20260424T021828Z
UID:1675178
DTSTART;VALUE=DATE:20260429
DTEND;VALUE=DATE:20260429
DESCRIPTION:Gesund und Lecker Nahrung für die Konzentration:\n- Tagesessen
 \n\nVegetarisches für den Gaumen:\n- Tagesessen\n\nSalat:\n- Tagesessen\n
 \n
SUMMARY:Gymnasium Süderelbe
END:VEVENT
BEGIN:VEVENT
DTSTAMP:20260424T021828Z
UID:1675179
DTSTART;VALUE=DATE:20260430
DTEND;VALUE=DATE:20260430
DESCRIPTION:Gesund und Lecker Nahrung für die Konzentration:\n- Tagesessen
 \n\nVegetarisches für den Gaumen:\n- Tagesessen\n\nSalat:\n- Tagesessen\n
 \n
SUMMARY:Gymnasium Süderelbe
END:VEVENT
END:VCALENDAR
