BEGIN:VCALENDAR
VERSION:2.0
PRODID:openmensa.org
CALSCALE:GREGORIAN
METHOD:PUBLISH
URL;VALUE=URI:https://openmensa.org/ical/1809/johannes-gutenberg-schule-ger
 nsheim.ics
BEGIN:VEVENT
DTSTAMP:20260424T023217Z
UID:1675185
DTSTART;VALUE=DATE:20260424
DTEND;VALUE=DATE:20260424
DESCRIPTION:Vollkost:\n- Gemüsecremesuppe\, Milchreis mit Zimt und Zucker\
 , Karottensalat\, Obst\n  * Glutenhaltiges Getreide\n  * Sellerie\n  * Mil
 ch (einschließlich Laktose)\n\nVegetarisch:\n- Kartoffel Rösti\, Kräute
 r Dip\, Karottensalat\, Obst\n  * Eier\n  * Milch (einschließlich Laktose
 )\n\nSalatteller:\n- Salatteller mit Brötchen\n  * Dinkel\n  * Eier\n  * 
 Fisch\n  * Glutenhaltiges Getreide\n  * Weizen\n  * Roggen\n  * Krebstiere
 \n  * Milch (einschließlich Laktose)\n  * Senf\n\n
SUMMARY:Johannes-Gutenberg-Schule Gernsheim
END:VEVENT
BEGIN:VEVENT
DTSTAMP:20260424T023217Z
UID:1675186
DTSTART;VALUE=DATE:20260427
DTEND;VALUE=DATE:20260427
DESCRIPTION:Vollkost:\n- Chili con Carne\, Reis\, Fruchtjoghurt - Erdbeere\
 n  * Sellerie\n  * Senf\n  * Soja\n  * Milch (einschließlich Laktose)\n\n
 Vegetarisch:\n- Kartoffelgratin mit 3 Käse\, Tomaten  Mais Salat\, Frucht
 joghurt - Erdbeere\n  * Milch (einschließlich Laktose)\n\nSalatteller:\n-
  Salatteller mit Brötchen\n  * Dinkel\n  * Eier\n  * Fisch\n  * Glutenhal
 tiges Getreide\n  * Weizen\n  * Roggen\n  * Krebstiere\n  * Milch (einschl
 ießlich Laktose)\n  * Senf\n\n
SUMMARY:Johannes-Gutenberg-Schule Gernsheim
END:VEVENT
BEGIN:VEVENT
DTSTAMP:20260424T023217Z
UID:1675187
DTSTART;VALUE=DATE:20260428
DTEND;VALUE=DATE:20260428
DESCRIPTION:Vollkost:\n- Gemüseeintopf\, Brötchen\, Obst\n  * Sellerie\n 
  * Senf\n  * mit Geschmacksverstärker\n  * Eier\n  * Glutenhaltiges Getre
 ide\n  * Weizen\n  * Milch (einschließlich Laktose)\n\nVegetarisch:\n- Nu
 delsuppe\, Kaiserschmarrn\, Apfelmus\, Karottensalat\, Obst\n  * Eier\n  *
  Glutenhaltiges Getreide\n  * Weizen\n  * Sellerie\n  * mit Geschmacksvers
 tärker\n  * Milch (einschließlich Laktose)\n  * Schalenfrüchte\n  * Soj
 a\n\nSalatteller:\n- Salatteller mit Brötchen\n  * Dinkel\n  * Eier\n  * 
 Fisch\n  * Glutenhaltiges Getreide\n  * Weizen\n  * Roggen\n  * Krebstiere
 \n  * Milch (einschließlich Laktose)\n  * Senf\n\n
SUMMARY:Johannes-Gutenberg-Schule Gernsheim
END:VEVENT
BEGIN:VEVENT
DTSTAMP:20260424T023217Z
UID:1675188
DTSTART;VALUE=DATE:20260429
DTEND;VALUE=DATE:20260429
DESCRIPTION:Vollkost:\n- Pizza Salami\, Fruchtjoghurt - Pfirsich Maracuja\n
   * Eier\n  * Glutenhaltiges Getreide\n  * Weizen\n  * Gerste\n  * Milch (
 einschließlich Laktose)\n  * Sellerie\n\nVegetarisch:\n- Pizza Margherita
 \, Früchtequark - Pfirsich Maracuja\n  * Eier\n  * Glutenhaltiges Getreid
 e\n  * Weizen\n  * Gerste\n  * Milch (einschließlich Laktose)\n  * Seller
 ie\n\nSalatteller:\n- Salatteller mit Brötchen\n  * Dinkel\n  * Eier\n  *
  Fisch\n  * Glutenhaltiges Getreide\n  * Weizen\n  * Roggen\n  * Krebstier
 e\n  * Milch (einschließlich Laktose)\n  * Senf\n\n
SUMMARY:Johannes-Gutenberg-Schule Gernsheim
END:VEVENT
BEGIN:VEVENT
DTSTAMP:20260424T023217Z
UID:1675189
DTSTART;VALUE=DATE:20260430
DTEND;VALUE=DATE:20260430
DESCRIPTION:Vollkost:\n- Bio Penne\, Bolognese\, Gurkensalat\, Obst\n  * Gl
 utenhaltiges Getreide\n  * Weizen\n  * Sellerie\n  * Senf\n  * Milch (eins
 chließlich Laktose)\n\nVegetarisch:\n- Salzkartoffeln\, Grünesoße\, Ei\
 , Obst\n  * Eier\n  * Milch (einschließlich Laktose)\n\nSalatteller:\n- S
 alatteller mit Brötchen\n  * Dinkel\n  * Eier\n  * Fisch\n  * Glutenhalti
 ges Getreide\n  * Weizen\n  * Roggen\n  * Krebstiere\n  * Milch (einschlie
 ßlich Laktose)\n  * Senf\n\n
SUMMARY:Johannes-Gutenberg-Schule Gernsheim
END:VEVENT
END:VCALENDAR
