BEGIN:VCALENDAR
VERSION:2.0
PRODID:openmensa.org
CALSCALE:GREGORIAN
METHOD:PUBLISH
URL;VALUE=URI:https://openmensa.org/ical/1807/grundschule-bramfeld.ics
BEGIN:VEVENT
DTSTAMP:20260424T021612Z
UID:1671410
DTSTART;VALUE=DATE:20260424
DTEND;VALUE=DATE:20260424
DESCRIPTION:Menü 1:\n- Backfisch mit  gestovten Erbsen mit "Freeflowbüffe
 t"\n  * Eier\n  * Weizen\n  * Milch (einschließlich Laktose)\n  * Senf\n\
 nMenü Alternativ Vegetarisch:\n- Veggie Backfisch\n\nSalat:\n- Frischer S
 alat aus der Salatbar\n  * Milch (einschließlich Laktose)\n\nDessert:\n- 
 Obst oder Knabbergemüse\n\n
SUMMARY:Grundschule Bramfeld
END:VEVENT
BEGIN:VEVENT
DTSTAMP:20260424T021612Z
UID:1675167
DTSTART;VALUE=DATE:20260427
DTEND;VALUE=DATE:20260427
DESCRIPTION:Menü 1:\n- Currywurst" Geflügelbratwurst in pikanter  Soße m
 it Reis und "Freeflowbüffet"\n\nMenü Alternativ Vegetarisch:\n- Veggie C
 urrywurst\n  * Weizen\n\nSalat:\n- Frischer Salat aus der Salatbar\n  * Mi
 lch (einschließlich Laktose)\n\nDessert:\n- Berliner mit Mehrfruchtfüllu
 ng\n  * Eier\n  * Weizen\n  * Milch (einschließlich Laktose)\n\n
SUMMARY:Grundschule Bramfeld
END:VEVENT
BEGIN:VEVENT
DTSTAMP:20260424T021612Z
UID:1675168
DTSTART;VALUE=DATE:20260428
DTEND;VALUE=DATE:20260428
DESCRIPTION:Menü 1:\n- Rührei mit Kartoffelstampf  Rahmspinat und "Freefl
 owbüffet"\n  * Eier\n  * Weizen\n  * Milch (einschließlich Laktose)\n  *
  Senf\n\nMenü Alternativ Vegetarisch:\n- Tagesessen Alternativ Vegetarisc
 h\n\nSalat:\n- Frischer Salat aus der Salatbar\n  * Milch (einschließlich
  Laktose)\n\nDessert:\n- Obst oder Knabbergemüse\n\n
SUMMARY:Grundschule Bramfeld
END:VEVENT
BEGIN:VEVENT
DTSTAMP:20260424T021612Z
UID:1675169
DTSTART;VALUE=DATE:20260429
DTEND;VALUE=DATE:20260429
DESCRIPTION:Menü 1:\n- Hähnchen - Cordon bleu und Schwenkkartoffeln "Free
 flowbüffet"\n  * Eier\n  * Weizen\n\nMenü Alternativ Vegetarisch:\n- Gem
 üseschnitzel  und "Freeflowbüffet"\n  * Hafer\n  * Dinkel\n  * Weizen\n\
 nSalat:\n- Frischer Salat aus der Salatbar\n  * Milch (einschließlich Lak
 tose)\n\nDessert:\n- Quarkcreme\n  * Milch (einschließlich Laktose)\n\n
SUMMARY:Grundschule Bramfeld
END:VEVENT
BEGIN:VEVENT
DTSTAMP:20260424T021612Z
UID:1675170
DTSTART;VALUE=DATE:20260430
DTEND;VALUE=DATE:20260430
DESCRIPTION:Menü 1:\n- Gnocchi in Käsesoße mit  Hartkäse und "Freeflowb
 üffet"\n\nMenü Alternativ Vegetarisch:\n- Tagesessen Alternativ Vegetari
 sch\n\nSalat:\n- Frischer Salat aus der Salatbar\n  * Milch (einschließli
 ch Laktose)\n\nDessert:\n- Obst oder Knabbergemüse\n\n
SUMMARY:Grundschule Bramfeld
END:VEVENT
END:VCALENDAR
