BEGIN:VCALENDAR
VERSION:2.0
PRODID:openmensa.org
CALSCALE:GREGORIAN
METHOD:PUBLISH
URL;VALUE=URI:https://openmensa.org/ical/1806/irena-sendler-schule.ics
BEGIN:VEVENT
DTSTAMP:20260424T021538Z
UID:1671366
DTSTART;VALUE=DATE:20260424
DTEND;VALUE=DATE:20260424
DESCRIPTION:Menü 1:\n- Fischfilet "Müllerinen Art" mit Buttergemüse und 
 Heidekartoffeln\n\nMenü 2 vegetarisch:\n- Gekochte Eier in leichter Senfs
 auce mit Kartoffelstampf\n  * Milch (einschließlich Laktose)\n\nSalat:\n-
  Frischer Salat aus der Salatbar\n  * Milch (einschließlich Laktose)\n\nD
 essert:\n- Handobst\n\n
SUMMARY:Irena-Sendler-Schule
END:VEVENT
BEGIN:VEVENT
DTSTAMP:20260424T021538Z
UID:1675157
DTSTART;VALUE=DATE:20260427
DTEND;VALUE=DATE:20260427
DESCRIPTION:Menü 1:\n- Tagesessen\n\nMenü 2 vegetarisch:\n- Tagesessen Al
 ternativ Vegetarisch\n\nSalat:\n- Frischer Salat aus der Salatbar\n  * Mil
 ch (einschließlich Laktose)\n\n
SUMMARY:Irena-Sendler-Schule
END:VEVENT
BEGIN:VEVENT
DTSTAMP:20260424T021538Z
UID:1675158
DTSTART;VALUE=DATE:20260428
DTEND;VALUE=DATE:20260428
DESCRIPTION:Menü 1:\n- Tagesessen\n\nMenü 2 vegetarisch:\n- Tagesessen Al
 ternativ Vegetarisch\n\nSalat:\n- Frischer Salat aus der Salatbar\n  * Mil
 ch (einschließlich Laktose)\n\n
SUMMARY:Irena-Sendler-Schule
END:VEVENT
BEGIN:VEVENT
DTSTAMP:20260424T021538Z
UID:1675159
DTSTART;VALUE=DATE:20260429
DTEND;VALUE=DATE:20260429
DESCRIPTION:Menü 1:\n- Tagesessen\n\nMenü 2 vegetarisch:\n- Tagesessen Al
 ternativ Vegetarisch\n\nSalat:\n- Frischer Salat aus der Salatbar\n  * Mil
 ch (einschließlich Laktose)\n\n
SUMMARY:Irena-Sendler-Schule
END:VEVENT
BEGIN:VEVENT
DTSTAMP:20260424T021538Z
UID:1675160
DTSTART;VALUE=DATE:20260430
DTEND;VALUE=DATE:20260430
DESCRIPTION:Menü 1:\n- Tagesessen\n\nMenü 2 vegetarisch:\n- Tagesessen Al
 ternativ Vegetarisch\n\nSalat:\n- Frischer Salat aus der Salatbar\n  * Mil
 ch (einschließlich Laktose)\n\n
SUMMARY:Irena-Sendler-Schule
END:VEVENT
END:VCALENDAR
