BEGIN:VCALENDAR
VERSION:2.0
PRODID:openmensa.org
CALSCALE:GREGORIAN
METHOD:PUBLISH
URL;VALUE=URI:https://openmensa.org/ical/1805/mittelschule-cadolzburg.ics
BEGIN:VEVENT
DTSTAMP:20260424T023335Z
UID:1675111
DTSTART;VALUE=DATE:20260427
DTEND;VALUE=DATE:20260427
DESCRIPTION:Mittagsgericht ohne Schweinefleisch:\n- Mini-Rinderfrikadellen 
 mit Fond\, Salzkartoffeln ohne Petersilie\, Bratensoße vom Rind\, Dessert
 \n  * Gluten-Weizen\n  * Hühnereiweiß\, Eier und Eierzeugnisse\n  * Sell
 erie und Sellerieerzeugnisse\n\n
SUMMARY:Mittelschule Cadolzburg
END:VEVENT
BEGIN:VEVENT
DTSTAMP:20260424T023335Z
UID:1675112
DTSTART;VALUE=DATE:20260428
DTEND;VALUE=DATE:20260428
DESCRIPTION:Mittagsgericht ohne Schweinefleisch:\n- Hähnchengyros mit Jogh
 urtsoße\, Langkornreis\, Obst der Saison\n  * Milcheiweiß\, Milch und Mi
 lcherzeugnisse (einschließlich Laktose)\n\n
SUMMARY:Mittelschule Cadolzburg
END:VEVENT
BEGIN:VEVENT
DTSTAMP:20260424T023335Z
UID:1675113
DTSTART;VALUE=DATE:20260429
DTEND;VALUE=DATE:20260429
DESCRIPTION:Mittagsgericht ohne Schweinefleisch:\n- Hähnchenbrustfilet nat
 ur\, Bauernspätzle\, Jägerrahmsoße\, Rohkost\n  * Gluten-Weizen\n  * Mi
 lcheiweiß\, Milch und Milcherzeugnisse (einschließlich Laktose)\n  * Sel
 lerie und Sellerieerzeugnisse\n\n
SUMMARY:Mittelschule Cadolzburg
END:VEVENT
BEGIN:VEVENT
DTSTAMP:20260424T023335Z
UID:1675114
DTSTART;VALUE=DATE:20260430
DTEND;VALUE=DATE:20260430
DESCRIPTION:Mittagsgericht ohne Schweinefleisch:\n- Rindfleischsuppe mit Ri
 ndfleischeinlagen und Fadennudeln\, Kaiserschmarrn ohne Rosinen\, zerklein
 erter\, goldgelb gebackener Eierpfannkuchen\, Apfelmus\n  * Gluten-Weizen\
 n  * Hühnereiweiß\, Eier und Eierzeugnisse\n  * Milcheiweiß\, Milch und
  Milcherzeugnisse (einschließlich Laktose)\n  * Antioxidationsmittel\n\n
SUMMARY:Mittelschule Cadolzburg
END:VEVENT
END:VCALENDAR
