BEGIN:VCALENDAR
VERSION:2.0
PRODID:openmensa.org
CALSCALE:GREGORIAN
METHOD:PUBLISH
URL;VALUE=URI:https://openmensa.org/ical/1804/gymnasium-herzogenaurach.ics
BEGIN:VEVENT
DTSTAMP:20260424T023333Z
UID:1675098
DTSTART;VALUE=DATE:20260427
DTEND;VALUE=DATE:20260427
DESCRIPTION:Menü 1:\n- Lasagne (Nudelteigplatten mit Hackfleischsoße\, ü
 berbacken mit mildem Käse)\n  * Gluten\n  * Gluten-Weizen\n  * Milcheiwei
 ß\, Milch und Milcherzeugnisse (einschließlich Laktose)\n  * Sellerie un
 d Sellerieerzeugnisse\n  * Schweinefleisch\n\nMenü 2:\n- Nougat-Pfannkuch
 en mit cremiger Nougat-Füllung\, Vanillesoße\n  * Gluten-Weizen\n  * Hü
 hnereiweiß\, Eier und Eierzeugnisse\n  * Soja und Sojaerzeugnisse\n  * Mi
 lcheiweiß\, Milch und Milcherzeugnisse (einschließlich Laktose)\n  * Has
 elnuss\n  * Gluten\n  * vegetarisch\n\nNachtisch:\n- Donut\n  * Gluten\n  
 * Hühnereiweiß\, Eier und Eierzeugnisse\n  * Milcheiweiß\, Milch und Mi
 lcherzeugnisse (einschließlich Laktose)\n  * Schalenfrüchte und Schalenf
 rüchteerzeugnisse\n  * Antioxidationsmittel\n  * Emulgatoren\n  * Farbsto
 ff\n  * Stabilisatoren\n\nSchnitzelsandwich:\n- Schnitzelsandwich\n  * Glu
 ten\n  * Gluten-Weizen\n  * Hühnereiweiß\, Eier und Eierzeugnisse\n  * S
 oja und Sojaerzeugnisse\n  * Milcheiweiß\, Milch und Milcherzeugnisse (ei
 nschließlich Laktose)\n  * Sesam und Sesamerzeugnisse\n\nNudelbox:\n- Nud
 elbox\, Fruchtige Tomatensoße verfeinert mit Kräutern\n  * Gluten-Weizen
 \n  * Hühnereiweiß\, Eier und Eierzeugnisse\n  * Sellerie und Sellerieer
 zeugnisse\n\nKaiser to go:\n- Kaiserschmarrn ohne Rosinen\, Apfelmus\n  * 
 Gluten-Weizen\n  * Hühnereiweiß\, Eier und Eierzeugnisse\n  * Milcheiwei
 ß\, Milch und Milcherzeugnisse (einschließlich Laktose)\n  * vegetarisch
 \n  * Antioxidationsmittel\n\nSalami-Käse-Baguette:\n- Salami-Käse-Bague
 tte\n  * Gluten\n  * glutenhaltiges Getreide\n  * Gluten-Weizen\n  * Soja 
 und Sojaerzeugnisse\n  * Milcheiweiß\, Milch und Milcherzeugnisse (einsch
 ließlich Laktose)\n  * Sesam und Sesamerzeugnisse\n  * Antioxidationsmitt
 el\n  * Konservierungsstoff\n  * Stabilisatoren\n  * geschwärzt\n\nSchink
 en-Käse-Baguette:\n- Schinken-Käse-Baguette\n  * Gluten\n  * glutenhalti
 ges Getreide\n  * Gluten-Weizen\n  * Soja und Sojaerzeugnisse\n  * Milchei
 weiß\, Milch und Milcherzeugnisse (einschließlich Laktose)\n  * Sesam un
 d Sesamerzeugnisse\n  * Antioxidationsmittel\n  * Konservierungsstoff\n  *
  Stabilisatoren\n  * Verdickungsmittel\n\nKäse-Baguette:\n- Käse-Baguett
 e\n  * Gluten\n  * glutenhaltiges Getreide\n  * Gluten-Weizen\n  * Milchei
 weiß\, Milch und Milcherzeugnisse (einschließlich Laktose)\n\nLaugenbrez
 e mit Käse überbacken:\n- Laugenbreze mit Käse überbacken\n  * Gluten\
 n  * glutenhaltiges Getreide\n  * Gluten-Weizen\n  * Gluten-Gerste\n  * Mi
 lcheiweiß\, Milch und Milcherzeugnisse (einschließlich Laktose)\n  * Sä
 uerungsmittel / Säurungsregulatoren\n\nTomate-Mozzarella-Baguette:\n- Tom
 ate-Mozzarella-Baguette\n  * Gluten-Weizen\n  * Soja und Sojaerzeugnisse\n
   * Milcheiweiß\, Milch und Milcherzeugnisse (einschließlich Laktose)\n 
  * Sesam und Sesamerzeugnisse\n  * Tomatenprodukte\n  * Säuerungsmittel /
  Säurungsregulatoren\n\nCookie:\n- Cookie\n  * Gluten\n  * Hühnereiweiß
 \, Eier und Eierzeugnisse\n  * Soja und Sojaerzeugnisse\n  * Milcheiweiß\
 , Milch und Milcherzeugnisse (einschließlich Laktose)\n  * Emulgatoren\n\
 n
SUMMARY:Gymnasium Herzogenaurach
END:VEVENT
BEGIN:VEVENT
DTSTAMP:20260424T023333Z
UID:1675099
DTSTART;VALUE=DATE:20260428
DTEND;VALUE=DATE:20260428
DESCRIPTION:Menü 1:\n- Fischnuggets: Seelachsstücke paniert und vorgeback
 en\, Kartoffelpüree\, Helle Kräutersoße\n  * Gluten-Weizen\n  * Fisch u
 nd Fischerzeugnisse\n  * Milcheiweiß\, Milch und Milcherzeugnisse (einsch
 ließlich Laktose)\n  * vegetarisch\n  * Gluten\n  * Sellerie und Sellerie
 erzeugnisse\n  * Senf und Senferzeugnisse\n\nMenü 2:\n- BIO Vegetarische 
 Snackbällchen aus Gemüse\, Reis und Tofu\, Kartoffelpüree\, Helle Kräu
 tersoße\n  * Gluten-Weizen\n  * Gluten-Dinkel\n  * Soja und Sojaerzeugnis
 se\n  * Milcheiweiß\, Milch und Milcherzeugnisse (einschließlich Laktose
 )\n  * vegetarisch\n  * Gluten\n  * Sellerie und Sellerieerzeugnisse\n  * 
 Senf und Senferzeugnisse\n\nNachtisch:\n- Donut\n  * Gluten\n  * Hühnerei
 weiß\, Eier und Eierzeugnisse\n  * Milcheiweiß\, Milch und Milcherzeugni
 sse (einschließlich Laktose)\n  * Schalenfrüchte und Schalenfrüchteerze
 ugnisse\n  * Antioxidationsmittel\n  * Emulgatoren\n  * Farbstoff\n  * Sta
 bilisatoren\n\nNachtisch alternativ:\n- Wackelpudding 001\n  * Farbstoff\n
   * Säuerungsmittel / Säurungsregulatoren\n\nSchnitzelsandwich:\n- Schni
 tzelsandwich\n  * Gluten\n  * Gluten-Weizen\n  * Hühnereiweiß\, Eier und
  Eierzeugnisse\n  * Soja und Sojaerzeugnisse\n  * Milcheiweiß\, Milch und
  Milcherzeugnisse (einschließlich Laktose)\n  * Sesam und Sesamerzeugniss
 e\n\nNudelbox:\n- Nudelbox\, Rinderhackfleischsoße "Bologneser Art" verfe
 inert mit Karotten- u. Selleriewürfeln\n  * Gluten-Weizen\n  * Hühnereiw
 eiß\, Eier und Eierzeugnisse\n  * Sellerie und Sellerieerzeugnisse\n  * m
 it Rindfleisch\n\nKaiser to go:\n- Kaiserschmarrn ohne Rosinen\, Apfelmus\
 n  * Gluten-Weizen\n  * Hühnereiweiß\, Eier und Eierzeugnisse\n  * Milch
 eiweiß\, Milch und Milcherzeugnisse (einschließlich Laktose)\n  * vegeta
 risch\n  * Antioxidationsmittel\n\nSalami-Käse-Baguette:\n- Salami-Käse-
 Baguette\n  * Gluten\n  * glutenhaltiges Getreide\n  * Gluten-Weizen\n  * 
 Soja und Sojaerzeugnisse\n  * Milcheiweiß\, Milch und Milcherzeugnisse (e
 inschließlich Laktose)\n  * Sesam und Sesamerzeugnisse\n  * Antioxidation
 smittel\n  * Konservierungsstoff\n  * Stabilisatoren\n  * geschwärzt\n\nS
 chinken-Käse-Baguette:\n- Schinken-Käse-Baguette\n  * Gluten\n  * gluten
 haltiges Getreide\n  * Gluten-Weizen\n  * Soja und Sojaerzeugnisse\n  * Mi
 lcheiweiß\, Milch und Milcherzeugnisse (einschließlich Laktose)\n  * Ses
 am und Sesamerzeugnisse\n  * Antioxidationsmittel\n  * Konservierungsstoff
 \n  * Stabilisatoren\n  * Verdickungsmittel\n\nKäse-Baguette:\n- Käse-Ba
 guette\n  * Gluten\n  * glutenhaltiges Getreide\n  * Gluten-Weizen\n  * Mi
 lcheiweiß\, Milch und Milcherzeugnisse (einschließlich Laktose)\n\nLauge
 nbreze mit Käse überbacken:\n- Laugenbreze mit Käse überbacken\n  * Gl
 uten\n  * glutenhaltiges Getreide\n  * Gluten-Weizen\n  * Gluten-Gerste\n 
  * Milcheiweiß\, Milch und Milcherzeugnisse (einschließlich Laktose)\n  
 * Säuerungsmittel / Säurungsregulatoren\n\nTomate-Mozzarella-Baguette:\n
 - Tomate-Mozzarella-Baguette\n  * Gluten-Weizen\n  * Soja und Sojaerzeugni
 sse\n  * Milcheiweiß\, Milch und Milcherzeugnisse (einschließlich Laktos
 e)\n  * Sesam und Sesamerzeugnisse\n  * Tomatenprodukte\n  * Säuerungsmit
 tel / Säurungsregulatoren\n\nCookie:\n- Cookie\n  * Gluten\n  * Hühnerei
 weiß\, Eier und Eierzeugnisse\n  * Soja und Sojaerzeugnisse\n  * Milcheiw
 eiß\, Milch und Milcherzeugnisse (einschließlich Laktose)\n  * Emulgator
 en\n\n
SUMMARY:Gymnasium Herzogenaurach
END:VEVENT
BEGIN:VEVENT
DTSTAMP:20260424T023333Z
UID:1675100
DTSTART;VALUE=DATE:20260429
DTEND;VALUE=DATE:20260429
DESCRIPTION:Menü 1:\n- Mini-Rinderfrikadellen mit Fond\, Wellen-Spätzle\,
  Jägerrahmsoße\n  * Gluten\n  * Gluten-Weizen\n  * Hühnereiweiß\, Eier
  und Eierzeugnisse\n  * Sellerie und Sellerieerzeugnisse\n  * mit Rindflei
 sch\n  * glutenhaltiges Getreide\n  * Milcheiweiß\, Milch und Milcherzeug
 nisse (einschließlich Laktose)\n  * vegetarisch\n\nMenü 2:\n- Linseneint
 opf mit Gemüse\, Weizenbrötchen\, Schnittbrötchen aus Weizenteig\n  * S
 ellerie und Sellerieerzeugnisse\n  * vegetarisch\n  * Gluten-Weizen\n  * G
 luten-Roggen\n  * Gluten-Gerste\n  * Soja und Sojaerzeugnisse\n  * Milchei
 weiß\, Milch und Milcherzeugnisse (einschließlich Laktose)\n\nNachtisch:
 \n- Donut\n  * Gluten\n  * Hühnereiweiß\, Eier und Eierzeugnisse\n  * Mi
 lcheiweiß\, Milch und Milcherzeugnisse (einschließlich Laktose)\n  * Sch
 alenfrüchte und Schalenfrüchteerzeugnisse\n  * Antioxidationsmittel\n  *
  Emulgatoren\n  * Farbstoff\n  * Stabilisatoren\n\nSchnitzelsandwich:\n- S
 chnitzelsandwich\n  * Gluten\n  * Gluten-Weizen\n  * Hühnereiweiß\, Eier
  und Eierzeugnisse\n  * Soja und Sojaerzeugnisse\n  * Milcheiweiß\, Milch
  und Milcherzeugnisse (einschließlich Laktose)\n  * Sesam und Sesamerzeug
 nisse\n\nNudelbox:\n- Nudelbox\, Fruchtige Tomatensoße verfeinert mit Kr
 äutern\n  * Gluten-Weizen\n  * Hühnereiweiß\, Eier und Eierzeugnisse\n 
  * Sellerie und Sellerieerzeugnisse\n\nKaiser to go:\n- Kaiserschmarrn ohn
 e Rosinen\, Apfelmus\n  * Gluten-Weizen\n  * Hühnereiweiß\, Eier und Eie
 rzeugnisse\n  * Milcheiweiß\, Milch und Milcherzeugnisse (einschließlich
  Laktose)\n  * vegetarisch\n  * Antioxidationsmittel\n\nSalami-Käse-Bague
 tte:\n- Salami-Käse-Baguette\n  * Gluten\n  * glutenhaltiges Getreide\n  
 * Gluten-Weizen\n  * Soja und Sojaerzeugnisse\n  * Milcheiweiß\, Milch un
 d Milcherzeugnisse (einschließlich Laktose)\n  * Sesam und Sesamerzeugnis
 se\n  * Antioxidationsmittel\n  * Konservierungsstoff\n  * Stabilisatoren\
 n  * geschwärzt\n\nSchinken-Käse-Baguette:\n- Schinken-Käse-Baguette\n 
  * Gluten\n  * glutenhaltiges Getreide\n  * Gluten-Weizen\n  * Soja und So
 jaerzeugnisse\n  * Milcheiweiß\, Milch und Milcherzeugnisse (einschließl
 ich Laktose)\n  * Sesam und Sesamerzeugnisse\n  * Antioxidationsmittel\n  
 * Konservierungsstoff\n  * Stabilisatoren\n  * Verdickungsmittel\n\nKäse-
 Baguette:\n- Käse-Baguette\n  * Gluten\n  * glutenhaltiges Getreide\n  * 
 Gluten-Weizen\n  * Milcheiweiß\, Milch und Milcherzeugnisse (einschließl
 ich Laktose)\n\nLaugenbreze mit Käse überbacken:\n- Laugenbreze mit Käs
 e überbacken\n  * Gluten\n  * glutenhaltiges Getreide\n  * Gluten-Weizen\
 n  * Gluten-Gerste\n  * Milcheiweiß\, Milch und Milcherzeugnisse (einschl
 ießlich Laktose)\n  * Säuerungsmittel / Säurungsregulatoren\n\nTomate-M
 ozzarella-Baguette:\n- Tomate-Mozzarella-Baguette\n  * Gluten-Weizen\n  * 
 Soja und Sojaerzeugnisse\n  * Milcheiweiß\, Milch und Milcherzeugnisse (e
 inschließlich Laktose)\n  * Sesam und Sesamerzeugnisse\n  * Tomatenproduk
 te\n  * Säuerungsmittel / Säurungsregulatoren\n\nCookie:\n- Cookie\n  * 
 Gluten\n  * Hühnereiweiß\, Eier und Eierzeugnisse\n  * Soja und Sojaerze
 ugnisse\n  * Milcheiweiß\, Milch und Milcherzeugnisse (einschließlich La
 ktose)\n  * Emulgatoren\n\n
SUMMARY:Gymnasium Herzogenaurach
END:VEVENT
BEGIN:VEVENT
DTSTAMP:20260424T023333Z
UID:1675101
DTSTART;VALUE=DATE:20260430
DTEND;VALUE=DATE:20260430
DESCRIPTION:Menü 1:\n- Schaschlikpfanne (gewürfeltes Schweinefleisch in p
 ikanter Tomatensoße mit Zwiebeln\, Speck und Paprika)\, Langkornreis\n  *
  Sellerie und Sellerieerzeugnisse\n  * Schweinefleisch\n  * Nitritpökelsa
 lz und Nitrat\n  * vegetarisch\n\nMenü 2:\n- Quarkkeulchen\, aus gekochte
 n Kartoffeln\, Quark und Eiern\, ohne Rosinen\, Apfelmus\n  * Gluten-Weize
 n\n  * Hühnereiweiß\, Eier und Eierzeugnisse\n  * Milcheiweiß\, Milch u
 nd Milcherzeugnisse (einschließlich Laktose)\n  * vegetarisch\n  * Antiox
 idationsmittel\n\nNachtisch:\n- Donut\n  * Gluten\n  * Hühnereiweiß\, Ei
 er und Eierzeugnisse\n  * Milcheiweiß\, Milch und Milcherzeugnisse (einsc
 hließlich Laktose)\n  * Schalenfrüchte und Schalenfrüchteerzeugnisse\n 
  * Antioxidationsmittel\n  * Emulgatoren\n  * Farbstoff\n  * Stabilisatore
 n\n\nNachtisch alternativ:\n- Wackelpudding 001\n  * Farbstoff\n  * Säuer
 ungsmittel / Säurungsregulatoren\n\nSchnitzelsandwich:\n- Schnitzelsandwi
 ch\n  * Gluten\n  * Gluten-Weizen\n  * Hühnereiweiß\, Eier und Eierzeugn
 isse\n  * Soja und Sojaerzeugnisse\n  * Milcheiweiß\, Milch und Milcherze
 ugnisse (einschließlich Laktose)\n  * Sesam und Sesamerzeugnisse\n\nNudel
 box:\n- Nudelbox\, Rinderhackfleischsoße "Bologneser Art" verfeinert mit 
 Karotten- u. Selleriewürfeln\n  * Gluten-Weizen\n  * Hühnereiweiß\, Eie
 r und Eierzeugnisse\n  * Sellerie und Sellerieerzeugnisse\n  * mit Rindfle
 isch\n\nKaiser to go:\n- Kaiserschmarrn ohne Rosinen\, Apfelmus\n  * Glute
 n-Weizen\n  * Hühnereiweiß\, Eier und Eierzeugnisse\n  * Milcheiweiß\, 
 Milch und Milcherzeugnisse (einschließlich Laktose)\n  * vegetarisch\n  *
  Antioxidationsmittel\n\nSalami-Käse-Baguette:\n- Salami-Käse-Baguette\n
   * Gluten\n  * glutenhaltiges Getreide\n  * Gluten-Weizen\n  * Soja und S
 ojaerzeugnisse\n  * Milcheiweiß\, Milch und Milcherzeugnisse (einschließ
 lich Laktose)\n  * Sesam und Sesamerzeugnisse\n  * Antioxidationsmittel\n 
  * Konservierungsstoff\n  * Stabilisatoren\n  * geschwärzt\n\nSchinken-K
 äse-Baguette:\n- Schinken-Käse-Baguette\n  * Gluten\n  * glutenhaltiges 
 Getreide\n  * Gluten-Weizen\n  * Soja und Sojaerzeugnisse\n  * Milcheiwei
 ß\, Milch und Milcherzeugnisse (einschließlich Laktose)\n  * Sesam und S
 esamerzeugnisse\n  * Antioxidationsmittel\n  * Konservierungsstoff\n  * St
 abilisatoren\n  * Verdickungsmittel\n\nKäse-Baguette:\n- Käse-Baguette\n
   * Gluten\n  * glutenhaltiges Getreide\n  * Gluten-Weizen\n  * Milcheiwei
 ß\, Milch und Milcherzeugnisse (einschließlich Laktose)\n\nLaugenbreze m
 it Käse überbacken:\n- Laugenbreze mit Käse überbacken\n  * Gluten\n  
 * glutenhaltiges Getreide\n  * Gluten-Weizen\n  * Gluten-Gerste\n  * Milch
 eiweiß\, Milch und Milcherzeugnisse (einschließlich Laktose)\n  * Säuer
 ungsmittel / Säurungsregulatoren\n\nTomate-Mozzarella-Baguette:\n- Tomate
 -Mozzarella-Baguette\n  * Gluten-Weizen\n  * Soja und Sojaerzeugnisse\n  *
  Milcheiweiß\, Milch und Milcherzeugnisse (einschließlich Laktose)\n  * 
 Sesam und Sesamerzeugnisse\n  * Tomatenprodukte\n  * Säuerungsmittel / S
 äurungsregulatoren\n\nCookie:\n- Cookie\n  * Gluten\n  * Hühnereiweiß\,
  Eier und Eierzeugnisse\n  * Soja und Sojaerzeugnisse\n  * Milcheiweiß\, 
 Milch und Milcherzeugnisse (einschließlich Laktose)\n  * Emulgatoren\n\n
SUMMARY:Gymnasium Herzogenaurach
END:VEVENT
END:VCALENDAR
