BEGIN:VCALENDAR
VERSION:2.0
PRODID:openmensa.org
CALSCALE:GREGORIAN
METHOD:PUBLISH
URL;VALUE=URI:https://openmensa.org/ical/1803/gymnasium-hoechstadt-a-d-aisc
 h.ics
BEGIN:VEVENT
DTSTAMP:20260424T021909Z
UID:1675139
DTSTART;VALUE=DATE:20260427
DTEND;VALUE=DATE:20260427
DESCRIPTION:Menü 1:\n- Penne al Pomodoro: Nudeln mit italienischer Kräute
 r-Tomatensoße\, mit Käse bestreut\n  * Gluten\n  * Gluten-Weizen\n  * Mi
 lcheiweiß\, Milch und Milcherzeugnisse (einschließlich Laktose)\n  * Sel
 lerie und Sellerieerzeugnisse\n  * Senf und Senferzeugnisse\n  * Sesam und
  Sesamerzeugnisse\n  * vegetarisch\n\nMenü 2:\n- Zwei Frikadellen in herz
 hafter Soße\, Apfelrotkohl und Kartoffelpüree\n  * Gluten-Weizen\n  * H
 ühnereiweiß\, Eier und Eierzeugnisse\n  * Milcheiweiß\, Milch und Milch
 erzeugnisse (einschließlich Laktose)\n  * Sellerie und Sellerieerzeugniss
 e\n\nBeilagensalat:\n- Beilagensalat\n\nNudelbox:\n- Nudelbox\n  * Gluten-
 Weizen\n  * Hühnereiweiß\, Eier und Eierzeugnisse\n  * Sellerie und Sell
 erieerzeugnisse\n\nSalatteller:\n- Salat Schinken/Käse\n  * Hühnereiwei
 ß\, Eier und Eierzeugnisse\n  * Milcheiweiß\, Milch und Milcherzeugnisse
  (einschließlich Laktose)\n  * Schalenfrüchte und Schalenfrüchteerzeugn
 isse\n  * Senf und Senferzeugnisse\n  * Schweinefleisch\n  * Tomatenproduk
 te\n  * Antioxidationsmittel\n  * Konservierungsstoff\n  * Säuerungsmitte
 l / Säurungsregulatoren\n  * Stabilisatoren\n  * Verdickungsmittel\n\nSch
 nitzelsandwich:\n- Schnitzelsandwich\n  * Gluten\n  * Gluten-Weizen\n  * H
 ühnereiweiß\, Eier und Eierzeugnisse\n  * Soja und Sojaerzeugnisse\n  * 
 Milcheiweiß\, Milch und Milcherzeugnisse (einschließlich Laktose)\n  * S
 esam und Sesamerzeugnisse\n\nWedges / Pommes:\n- 1 Portion Pommes Frites o
 der 1 Portion Kartoffelwedges\n\nPizza:\n- Holzofenpizza Salami\, belegt m
 it Tomatensoße\, Mozzarella\, Salami und Gouda-Käse\n  * Gluten-Weizen\n
   * Milcheiweiß\, Milch und Milcherzeugnisse (einschließlich Laktose)\n 
  * Antioxidationsmittel\n  * Nitritpökelsalz und Nitrat\n\nPizza vegetari
 sch:\n- Holzofenpizza Tomate-Mozzarella\, belegt mit Tomatensoße\, Mozzar
 ella\, Cherrytomaten und Pesto Genovese\n  * Gluten-Weizen\n  * Milcheiwei
 ß\, Milch und Milcherzeugnisse (einschließlich Laktose)\n\nFrühlingsrol
 len:\n- asiatische Frühlingsröllchen gefüllt\, Beilage: hausgemachte Ch
 ili-Marmelade\n  * Gluten\n  * glutenhaltiges Getreide\n  * Gluten-Weizen\
 n  * Soja und Sojaerzeugnisse\n  * Sesam und Sesamerzeugnisse\n\nKaiser to
  go:\n- KAISER TO GO\n\nNachtisch Obst:\n- Obst\n\n
SUMMARY:Gymnasium Höchstadt a.d.Aisch
END:VEVENT
BEGIN:VEVENT
DTSTAMP:20260424T021909Z
UID:1675140
DTSTART;VALUE=DATE:20260428
DTEND;VALUE=DATE:20260428
DESCRIPTION:Menü 1:\n- Milchreis\, Sauerkirschen\n  * Milcheiweiß\, Milch
  und Milcherzeugnisse (einschließlich Laktose)\n  * vegetarisch\n\nMenü 
 3:\n- Gegrillter Putenbraten in Bratensoße\, Apfelrotkohl und Serviettenk
 nödel\n  * Gluten-Weizen\n  * Hühnereiweiß\, Eier und Eierzeugnisse\n  
 * Milcheiweiß\, Milch und Milcherzeugnisse (einschließlich Laktose)\n  *
  Sellerie und Sellerieerzeugnisse\n\nMittagsgericht glutenfrei Petsch:\n- 
 Einzelportionsschale\n\nBeilagensalat:\n- Beilagensalat\n\nNudelbox:\n- Nu
 delbox\n  * Gluten-Weizen\n  * Hühnereiweiß\, Eier und Eierzeugnisse\n  
 * Sellerie und Sellerieerzeugnisse\n\nSalatteller:\n- Salat Griechischer A
 rt\n  * Milcheiweiß\, Milch und Milcherzeugnisse (einschließlich Laktose
 )\n  * Tomatenprodukte\n  * vegetarisch\n  * Stabilisatoren\n  * geschwär
 zt\n\nSchnitzelsandwich:\n- Schnitzelsandwich\n  * Gluten\n  * Gluten-Weiz
 en\n  * Hühnereiweiß\, Eier und Eierzeugnisse\n  * Soja und Sojaerzeugni
 sse\n  * Milcheiweiß\, Milch und Milcherzeugnisse (einschließlich Laktos
 e)\n  * Sesam und Sesamerzeugnisse\n\nWedges / Pommes:\n- 1 Portion Pommes
  Frites oder 1 Portion Kartoffelwedges\n\nPizza:\n- Holzofenpizza Salami\,
  belegt mit Tomatensoße\, Mozzarella\, Salami und Gouda-Käse\n  * Gluten
 -Weizen\n  * Milcheiweiß\, Milch und Milcherzeugnisse (einschließlich La
 ktose)\n  * Antioxidationsmittel\n  * Nitritpökelsalz und Nitrat\n\nPizza
  vegetarisch:\n- Holzofenpizza Tomate-Mozzarella\, belegt mit Tomatensoße
 \, Mozzarella\, Cherrytomaten und Pesto Genovese\n  * Gluten-Weizen\n  * M
 ilcheiweiß\, Milch und Milcherzeugnisse (einschließlich Laktose)\n\nFrü
 hlingsrollen:\n- asiatische Frühlingsröllchen gefüllt\, Beilage: hausge
 machte Chili-Marmelade\n  * Gluten\n  * glutenhaltiges Getreide\n  * Glute
 n-Weizen\n  * Soja und Sojaerzeugnisse\n  * Sesam und Sesamerzeugnisse\n\n
 Kaiser to go:\n- KAISER TO GO\n\nNachtisch Obst:\n- Obst\n\n
SUMMARY:Gymnasium Höchstadt a.d.Aisch
END:VEVENT
BEGIN:VEVENT
DTSTAMP:20260424T021909Z
UID:1675141
DTSTART;VALUE=DATE:20260429
DTEND;VALUE=DATE:20260429
DESCRIPTION:Menü 1:\n- Chicken Crossies in knuspriger Panade\, aus Hähnch
 enbruststücken\, Pommes frites (Backofenfrites\, Wellenschnitt)\n  * Glut
 en\n  * Gluten-Weizen\n  * vegetarisch\n\nMenü 2:\n- Rahmschnitzel vom Sc
 hwein\, grüne Bohnen\, Salzkartoffeln\n  * Milcheiweiß\, Milch und Milch
 erzeugnisse (einschließlich Laktose)\n  * Sellerie und Sellerieerzeugniss
 e\n  * Schweinefleisch\n\nBeilagensalat:\n- Beilagensalat\n\nNudelbox:\n- 
 Nudelbox\n  * Gluten-Weizen\n  * Hühnereiweiß\, Eier und Eierzeugnisse\n
   * Sellerie und Sellerieerzeugnisse\n\nSalatteller:\n- Salat Italia\n  * 
 Milcheiweiß\, Milch und Milcherzeugnisse (einschließlich Laktose)\n  * T
 omatenprodukte\n  * vegetarisch\n  * Säuerungsmittel / Säurungsregulator
 en\n\nSchnitzelsandwich:\n- Schnitzelsandwich\n  * Gluten\n  * Gluten-Weiz
 en\n  * Hühnereiweiß\, Eier und Eierzeugnisse\n  * Soja und Sojaerzeugni
 sse\n  * Milcheiweiß\, Milch und Milcherzeugnisse (einschließlich Laktos
 e)\n  * Sesam und Sesamerzeugnisse\n\nWedges / Pommes:\n- 1 Portion Pommes
  Frites oder 1 Portion Kartoffelwedges\n\nPizza:\n- Holzofenpizza Salami\,
  belegt mit Tomatensoße\, Mozzarella\, Salami und Gouda-Käse\n  * Gluten
 -Weizen\n  * Milcheiweiß\, Milch und Milcherzeugnisse (einschließlich La
 ktose)\n  * Antioxidationsmittel\n  * Nitritpökelsalz und Nitrat\n\nPizza
  vegetarisch:\n- Holzofenpizza Tomate-Mozzarella\, belegt mit Tomatensoße
 \, Mozzarella\, Cherrytomaten und Pesto Genovese\n  * Gluten-Weizen\n  * M
 ilcheiweiß\, Milch und Milcherzeugnisse (einschließlich Laktose)\n\nFrü
 hlingsrollen:\n- asiatische Frühlingsröllchen gefüllt\, Beilage: hausge
 machte Chili-Marmelade\n  * Gluten\n  * glutenhaltiges Getreide\n  * Glute
 n-Weizen\n  * Soja und Sojaerzeugnisse\n  * Sesam und Sesamerzeugnisse\n\n
 Kaiser to go:\n- KAISER TO GO\n\nNachtisch Obst:\n- Obst\n\n
SUMMARY:Gymnasium Höchstadt a.d.Aisch
END:VEVENT
BEGIN:VEVENT
DTSTAMP:20260424T021909Z
UID:1675142
DTSTART;VALUE=DATE:20260430
DTEND;VALUE=DATE:20260430
DESCRIPTION:Menü 1:\n- Rindfleisch-Frikadalle\, Langkorn-Reis\, Grüne Boh
 ne "naturell" fein gewürzt\, Bratensoße vom Rind\n  * Gluten\n  * Gluten
 -Weizen\n  * Hühnereiweiß\, Eier und Eierzeugnisse\n  * vegetarisch\n  *
  glutenhaltiges Getreide\n  * Sellerie und Sellerieerzeugnisse\n\nMenü 3:
 \n- Nougat-Palatschinken mit einer cremigen Nougat-Füllung\n  * Gluten-We
 izen\n  * Hühnereiweiß\, Eier und Eierzeugnisse\n  * Milcheiweiß\, Milc
 h und Milcherzeugnisse (einschließlich Laktose)\n  * Haselnuss\n\nMittags
 gericht glutenfrei Petsch:\n- Einzelportionsschale\n\nBeilagensalat:\n- Be
 ilagensalat\n\nNudelbox:\n- Nudelbox\n  * Gluten-Weizen\n  * Hühnereiwei
 ß\, Eier und Eierzeugnisse\n  * Sellerie und Sellerieerzeugnisse\n\nSalat
 teller:\n- Salat Mexico\n  * Tomatenprodukte\n  * vegetarisch\n\nSchnitzel
 sandwich:\n- Schnitzelsandwich\n  * Gluten\n  * Gluten-Weizen\n  * Hühner
 eiweiß\, Eier und Eierzeugnisse\n  * Soja und Sojaerzeugnisse\n  * Milche
 iweiß\, Milch und Milcherzeugnisse (einschließlich Laktose)\n  * Sesam u
 nd Sesamerzeugnisse\n\nWedges / Pommes:\n- 1 Portion Pommes Frites oder 1 
 Portion Kartoffelwedges\n\nPizza:\n- Holzofenpizza Salami\, belegt mit Tom
 atensoße\, Mozzarella\, Salami und Gouda-Käse\n  * Gluten-Weizen\n  * Mi
 lcheiweiß\, Milch und Milcherzeugnisse (einschließlich Laktose)\n  * Ant
 ioxidationsmittel\n  * Nitritpökelsalz und Nitrat\n\nPizza vegetarisch:\n
 - Holzofenpizza Tomate-Mozzarella\, belegt mit Tomatensoße\, Mozzarella\,
  Cherrytomaten und Pesto Genovese\n  * Gluten-Weizen\n  * Milcheiweiß\, M
 ilch und Milcherzeugnisse (einschließlich Laktose)\n\nFrühlingsrollen:\n
 - asiatische Frühlingsröllchen gefüllt\, Beilage: hausgemachte Chili-Ma
 rmelade\n  * Gluten\n  * glutenhaltiges Getreide\n  * Gluten-Weizen\n  * S
 oja und Sojaerzeugnisse\n  * Sesam und Sesamerzeugnisse\n\nKaiser to go:\n
 - KAISER TO GO\n\nNachtisch Obst:\n- Obst\n\n
SUMMARY:Gymnasium Höchstadt a.d.Aisch
END:VEVENT
END:VCALENDAR
