BEGIN:VCALENDAR
VERSION:2.0
PRODID:openmensa.org
CALSCALE:GREGORIAN
METHOD:PUBLISH
URL;VALUE=URI:https://openmensa.org/ical/1802/georg-hartmann-realschule-for
 chheim.ics
BEGIN:VEVENT
DTSTAMP:20260424T023211Z
UID:1675199
DTSTART;VALUE=DATE:20260427
DTEND;VALUE=DATE:20260427
DESCRIPTION:Mittagsgericht:\n- Alaska-Seelachsfiletschnitte paniert gebacke
 n\, Kartoffelpüree\n  * Gluten\n  * Gluten-Weizen\n  * Fisch und Fischerz
 eugnisse\n  * Milcheiweiß\, Milch und Milcherzeugnisse (einschließlich L
 aktose)\n  * vegetarisch\n\nKaiser to go:\n- KAISER TO GO\n\nBratwurstbrö
 tchen:\n- Brötchen mit 3 Rostbratwürstchen\n  * Gluten-Weizen\n  * Glute
 n-Gerste\n  * Soja und Sojaerzeugnisse\n  * Milcheiweiß\, Milch und Milch
 erzeugnisse (einschließlich Laktose)\n  * Sesam und Sesamerzeugnisse\n\nS
 alatteller:\n- Salat Italia\n  * Milcheiweiß\, Milch und Milcherzeugnisse
  (einschließlich Laktose)\n  * Tomatenprodukte\n  * vegetarisch\n  * Säu
 erungsmittel / Säurungsregulatoren\n\nObst der Saison:\n- Obst\n\nSchnitz
 elsandwich Hähnchen:\n- Schnitzelsandwich Hähnchen\n  * Gluten-Weizen\n 
  * Gluten-Roggen\n  * Hühnereiweiß\, Eier und Eierzeugnisse\n  * Soja un
 d Sojaerzeugnisse\n  * Milcheiweiß\, Milch und Milcherzeugnisse (einschli
 eßlich Laktose)\n  * Senf und Senferzeugnisse\n  * Sesam und Sesamerzeugn
 isse\n  * Tomatenprodukte\n  * Antioxidationsmittel\n\nWedges:\n- 1 Portio
 n Pommes Frites oder 1 Portion Kartoffelwedges\n\nSnackpizza Salami:\n- Sn
 ackpizza Salami\n  * Gluten\n  * Gluten-Weizen\n  * Hühnereiweiß\, Eier 
 und Eierzeugnisse\n  * Fisch und Fischerzeugnisse\n  * Soja und Sojaerzeug
 nisse\n  * Milcheiweiß\, Milch und Milcherzeugnisse (einschließlich Lakt
 ose)\n  * Senf und Senferzeugnisse\n\nSnackpizza 4 Käse:\n- Snackpizza vi
 er Käse\n  * Gluten\n  * Gluten-Weizen\n  * Hühnereiweiß\, Eier und Eie
 rzeugnisse\n  * Fisch und Fischerzeugnisse\n  * Soja und Sojaerzeugnisse\n
   * Milcheiweiß\, Milch und Milcherzeugnisse (einschließlich Laktose)\n 
  * Senf und Senferzeugnisse\n\nFlammkuchenbaguette:\n- Flammkuchenbaguette
 \n  * Gluten-Weizen\n  * Milcheiweiß\, Milch und Milcherzeugnisse (einsch
 ließlich Laktose)\n  * Senf und Senferzeugnisse\n  * Schweinefleisch\n  *
  Antioxidationsmittel\n  * Emulgatoren\n  * Konservierungsstoff\n\nBreze m
 it Butter:\n- Laugenbreze mit Butter\n  * Gluten-Weizen\n  * Gluten-Gerste
 \n  * Milcheiweiß\, Milch und Milcherzeugnisse (einschließlich Laktose)\
 n  * vegetarisch\n  * Säuerungsmittel / Säurungsregulatoren\n\nMuffin:\n
 - Muffin\n  * Gluten-Weizen\n  * Hühnereiweiß\, Eier und Eierzeugnisse\n
   * Soja und Sojaerzeugnisse\n  * Milcheiweiß\, Milch und Milcherzeugniss
 e (einschließlich Laktose)\n  * Sesam und Sesamerzeugnisse\n  * Lupinen u
 nd Lupinenerzeugnisse\n  * Emulgatoren\n  * Verdickungsmittel\n\nCookie:\n
 - Cookie\n  * Gluten\n  * Hühnereiweiß\, Eier und Eierzeugnisse\n  * Soj
 a und Sojaerzeugnisse\n  * Milcheiweiß\, Milch und Milcherzeugnisse (eins
 chließlich Laktose)\n  * Emulgatoren\n\nDonut:\n- Donut\n  * Gluten\n  * 
 Hühnereiweiß\, Eier und Eierzeugnisse\n  * Milcheiweiß\, Milch und Milc
 herzeugnisse (einschließlich Laktose)\n  * Schalenfrüchte und Schalenfr
 üchteerzeugnisse\n  * Antioxidationsmittel\n  * Emulgatoren\n  * Farbstof
 f\n  * Stabilisatoren\n\n
SUMMARY:Georg-Hartmann-Realschule Forchheim
END:VEVENT
BEGIN:VEVENT
DTSTAMP:20260424T023211Z
UID:1675200
DTSTART;VALUE=DATE:20260428
DTEND;VALUE=DATE:20260428
DESCRIPTION:Mittagsgericht:\n- Rigatoni al forno: italienische Nudeln mit R
 indfleisch-Gemüsebolognese\, mit Käse überbacken\n  * Gluten\n  * Glute
 n-Weizen\n  * Milcheiweiß\, Milch und Milcherzeugnisse (einschließlich L
 aktose)\n  * Sellerie und Sellerieerzeugnisse\n  * mit Rindfleisch\n\nKais
 er to go:\n- KAISER TO GO\n\nBratwurstbrötchen:\n- Brötchen mit 3 Rostbr
 atwürstchen\n  * Gluten-Weizen\n  * Gluten-Gerste\n  * Soja und Sojaerzeu
 gnisse\n  * Milcheiweiß\, Milch und Milcherzeugnisse (einschließlich Lak
 tose)\n  * Sesam und Sesamerzeugnisse\n\nSalatteller:\n- Salat Italia\n  *
  Milcheiweiß\, Milch und Milcherzeugnisse (einschließlich Laktose)\n  * 
 Tomatenprodukte\n  * vegetarisch\n  * Säuerungsmittel / Säurungsregulato
 ren\n\nObst der Saison:\n- Obst\n\nSchnitzelsandwich Hähnchen:\n- Schnitz
 elsandwich Hähnchen\n  * Gluten-Weizen\n  * Gluten-Roggen\n  * Hühnereiw
 eiß\, Eier und Eierzeugnisse\n  * Soja und Sojaerzeugnisse\n  * Milcheiwe
 iß\, Milch und Milcherzeugnisse (einschließlich Laktose)\n  * Senf und S
 enferzeugnisse\n  * Sesam und Sesamerzeugnisse\n  * Tomatenprodukte\n  * A
 ntioxidationsmittel\n\nWedges:\n- 1 Portion Pommes Frites oder 1 Portion K
 artoffelwedges\n\nSnackpizza Salami:\n- Snackpizza Salami\n  * Gluten\n  *
  Gluten-Weizen\n  * Hühnereiweiß\, Eier und Eierzeugnisse\n  * Fisch und
  Fischerzeugnisse\n  * Soja und Sojaerzeugnisse\n  * Milcheiweiß\, Milch 
 und Milcherzeugnisse (einschließlich Laktose)\n  * Senf und Senferzeugnis
 se\n\nSnackpizza 4 Käse:\n- Snackpizza vier Käse\n  * Gluten\n  * Gluten
 -Weizen\n  * Hühnereiweiß\, Eier und Eierzeugnisse\n  * Fisch und Fische
 rzeugnisse\n  * Soja und Sojaerzeugnisse\n  * Milcheiweiß\, Milch und Mil
 cherzeugnisse (einschließlich Laktose)\n  * Senf und Senferzeugnisse\n\nF
 lammkuchenbaguette:\n- Flammkuchenbaguette\n  * Gluten-Weizen\n  * Milchei
 weiß\, Milch und Milcherzeugnisse (einschließlich Laktose)\n  * Senf und
  Senferzeugnisse\n  * Schweinefleisch\n  * Antioxidationsmittel\n  * Emulg
 atoren\n  * Konservierungsstoff\n\nBreze mit Butter:\n- Laugenbreze mit Bu
 tter\n  * Gluten-Weizen\n  * Gluten-Gerste\n  * Milcheiweiß\, Milch und M
 ilcherzeugnisse (einschließlich Laktose)\n  * vegetarisch\n  * Säuerungs
 mittel / Säurungsregulatoren\n\nMuffin:\n- Muffin\n  * Gluten-Weizen\n  *
  Hühnereiweiß\, Eier und Eierzeugnisse\n  * Soja und Sojaerzeugnisse\n  
 * Milcheiweiß\, Milch und Milcherzeugnisse (einschließlich Laktose)\n  *
  Sesam und Sesamerzeugnisse\n  * Lupinen und Lupinenerzeugnisse\n  * Emulg
 atoren\n  * Verdickungsmittel\n\nCookie:\n- Cookie\n  * Gluten\n  * Hühne
 reiweiß\, Eier und Eierzeugnisse\n  * Soja und Sojaerzeugnisse\n  * Milch
 eiweiß\, Milch und Milcherzeugnisse (einschließlich Laktose)\n  * Emulga
 toren\n\nDonut:\n- Donut\n  * Gluten\n  * Hühnereiweiß\, Eier und Eierze
 ugnisse\n  * Milcheiweiß\, Milch und Milcherzeugnisse (einschließlich La
 ktose)\n  * Schalenfrüchte und Schalenfrüchteerzeugnisse\n  * Antioxidat
 ionsmittel\n  * Emulgatoren\n  * Farbstoff\n  * Stabilisatoren\n\n
SUMMARY:Georg-Hartmann-Realschule Forchheim
END:VEVENT
BEGIN:VEVENT
DTSTAMP:20260424T023211Z
UID:1675201
DTSTART;VALUE=DATE:20260429
DTEND;VALUE=DATE:20260429
DESCRIPTION:Mittagsgericht:\n- Rinderragout (gewürfeltes Rindfleisch in sa
 hniger Tomatensoße)\, Langkorn-Reis\n  * Milcheiweiß\, Milch und Milcher
 zeugnisse (einschließlich Laktose)\n  * Sellerie und Sellerieerzeugnisse\
 n  * ohne Schweinefleisch\n  * mit Rindfleisch\n  * vegetarisch\n\nKaiser 
 to go:\n- KAISER TO GO\n\nBratwurstbrötchen:\n- Brötchen mit 3 Rostbratw
 ürstchen\n  * Gluten-Weizen\n  * Gluten-Gerste\n  * Soja und Sojaerzeugni
 sse\n  * Milcheiweiß\, Milch und Milcherzeugnisse (einschließlich Laktos
 e)\n  * Sesam und Sesamerzeugnisse\n\nSalatteller:\n- Salat Italia\n  * Mi
 lcheiweiß\, Milch und Milcherzeugnisse (einschließlich Laktose)\n  * Tom
 atenprodukte\n  * vegetarisch\n  * Säuerungsmittel / Säurungsregulatoren
 \n\nObst der Saison:\n- Obst\n\nSchnitzelsandwich Hähnchen:\n- Schnitzels
 andwich Hähnchen\n  * Gluten-Weizen\n  * Gluten-Roggen\n  * Hühnereiwei
 ß\, Eier und Eierzeugnisse\n  * Soja und Sojaerzeugnisse\n  * Milcheiwei
 ß\, Milch und Milcherzeugnisse (einschließlich Laktose)\n  * Senf und Se
 nferzeugnisse\n  * Sesam und Sesamerzeugnisse\n  * Tomatenprodukte\n  * An
 tioxidationsmittel\n\nWedges:\n- 1 Portion Pommes Frites oder 1 Portion Ka
 rtoffelwedges\n\nSnackpizza Salami:\n- Snackpizza Salami\n  * Gluten\n  * 
 Gluten-Weizen\n  * Hühnereiweiß\, Eier und Eierzeugnisse\n  * Fisch und 
 Fischerzeugnisse\n  * Soja und Sojaerzeugnisse\n  * Milcheiweiß\, Milch u
 nd Milcherzeugnisse (einschließlich Laktose)\n  * Senf und Senferzeugniss
 e\n\nSnackpizza 4 Käse:\n- Snackpizza vier Käse\n  * Gluten\n  * Gluten-
 Weizen\n  * Hühnereiweiß\, Eier und Eierzeugnisse\n  * Fisch und Fischer
 zeugnisse\n  * Soja und Sojaerzeugnisse\n  * Milcheiweiß\, Milch und Milc
 herzeugnisse (einschließlich Laktose)\n  * Senf und Senferzeugnisse\n\nFl
 ammkuchenbaguette:\n- Flammkuchenbaguette\n  * Gluten-Weizen\n  * Milcheiw
 eiß\, Milch und Milcherzeugnisse (einschließlich Laktose)\n  * Senf und 
 Senferzeugnisse\n  * Schweinefleisch\n  * Antioxidationsmittel\n  * Emulga
 toren\n  * Konservierungsstoff\n\nBreze mit Butter:\n- Laugenbreze mit But
 ter\n  * Gluten-Weizen\n  * Gluten-Gerste\n  * Milcheiweiß\, Milch und Mi
 lcherzeugnisse (einschließlich Laktose)\n  * vegetarisch\n  * Säuerungsm
 ittel / Säurungsregulatoren\n\nMuffin:\n- Muffin\n  * Gluten-Weizen\n  * 
 Hühnereiweiß\, Eier und Eierzeugnisse\n  * Soja und Sojaerzeugnisse\n  *
  Milcheiweiß\, Milch und Milcherzeugnisse (einschließlich Laktose)\n  * 
 Sesam und Sesamerzeugnisse\n  * Lupinen und Lupinenerzeugnisse\n  * Emulga
 toren\n  * Verdickungsmittel\n\nCookie:\n- Cookie\n  * Gluten\n  * Hühner
 eiweiß\, Eier und Eierzeugnisse\n  * Soja und Sojaerzeugnisse\n  * Milche
 iweiß\, Milch und Milcherzeugnisse (einschließlich Laktose)\n  * Emulgat
 oren\n\nDonut:\n- Donut\n  * Gluten\n  * Hühnereiweiß\, Eier und Eierzeu
 gnisse\n  * Milcheiweiß\, Milch und Milcherzeugnisse (einschließlich Lak
 tose)\n  * Schalenfrüchte und Schalenfrüchteerzeugnisse\n  * Antioxidati
 onsmittel\n  * Emulgatoren\n  * Farbstoff\n  * Stabilisatoren\n\n
SUMMARY:Georg-Hartmann-Realschule Forchheim
END:VEVENT
BEGIN:VEVENT
DTSTAMP:20260424T023211Z
UID:1675202
DTSTART;VALUE=DATE:20260430
DTEND;VALUE=DATE:20260430
DESCRIPTION:Mittagsgericht:\n- Chrispy-Chicken-Patty\, Hamburgerbrötchen\,
  Gebackene Kartoffelspalten mit Meersalz\, Pfeffer gewürzt\n  * Gluten\n 
  * Gluten-Weizen\n  * Gluten-Gerste\n  * Hühnereiweiß\, Eier und Eierzeu
 gnisse\n  * Soja und Sojaerzeugnisse\n  * Milcheiweiß\, Milch und Milcher
 zeugnisse (einschließlich Laktose)\n  * Sellerie und Sellerieerzeugnisse\
 n  * Senf und Senferzeugnisse\n  * Sesam und Sesamerzeugnisse\n\nKaiser to
  go:\n- KAISER TO GO\n\nBratwurstbrötchen:\n- Brötchen mit 3 Rostbratwü
 rstchen\n  * Gluten-Weizen\n  * Gluten-Gerste\n  * Soja und Sojaerzeugniss
 e\n  * Milcheiweiß\, Milch und Milcherzeugnisse (einschließlich Laktose)
 \n  * Sesam und Sesamerzeugnisse\n\nSalatteller:\n- Salat Italia\n  * Milc
 heiweiß\, Milch und Milcherzeugnisse (einschließlich Laktose)\n  * Tomat
 enprodukte\n  * vegetarisch\n  * Säuerungsmittel / Säurungsregulatoren\n
 \nObst der Saison:\n- Obst\n\nSchnitzelsandwich Hähnchen:\n- Schnitzelsan
 dwich Hähnchen\n  * Gluten-Weizen\n  * Gluten-Roggen\n  * Hühnereiweiß\
 , Eier und Eierzeugnisse\n  * Soja und Sojaerzeugnisse\n  * Milcheiweiß\,
  Milch und Milcherzeugnisse (einschließlich Laktose)\n  * Senf und Senfer
 zeugnisse\n  * Sesam und Sesamerzeugnisse\n  * Tomatenprodukte\n  * Antiox
 idationsmittel\n\nWedges:\n- 1 Portion Pommes Frites oder 1 Portion Kartof
 felwedges\n\nSnackpizza Salami:\n- Snackpizza Salami\n  * Gluten\n  * Glut
 en-Weizen\n  * Hühnereiweiß\, Eier und Eierzeugnisse\n  * Fisch und Fisc
 herzeugnisse\n  * Soja und Sojaerzeugnisse\n  * Milcheiweiß\, Milch und M
 ilcherzeugnisse (einschließlich Laktose)\n  * Senf und Senferzeugnisse\n\
 nSnackpizza 4 Käse:\n- Snackpizza vier Käse\n  * Gluten\n  * Gluten-Weiz
 en\n  * Hühnereiweiß\, Eier und Eierzeugnisse\n  * Fisch und Fischerzeug
 nisse\n  * Soja und Sojaerzeugnisse\n  * Milcheiweiß\, Milch und Milcherz
 eugnisse (einschließlich Laktose)\n  * Senf und Senferzeugnisse\n\nFlammk
 uchenbaguette:\n- Flammkuchenbaguette\n  * Gluten-Weizen\n  * Milcheiweiß
 \, Milch und Milcherzeugnisse (einschließlich Laktose)\n  * Senf und Senf
 erzeugnisse\n  * Schweinefleisch\n  * Antioxidationsmittel\n  * Emulgatore
 n\n  * Konservierungsstoff\n\nBreze mit Butter:\n- Laugenbreze mit Butter\
 n  * Gluten-Weizen\n  * Gluten-Gerste\n  * Milcheiweiß\, Milch und Milche
 rzeugnisse (einschließlich Laktose)\n  * vegetarisch\n  * Säuerungsmitte
 l / Säurungsregulatoren\n\nMuffin:\n- Muffin\n  * Gluten-Weizen\n  * Hüh
 nereiweiß\, Eier und Eierzeugnisse\n  * Soja und Sojaerzeugnisse\n  * Mil
 cheiweiß\, Milch und Milcherzeugnisse (einschließlich Laktose)\n  * Sesa
 m und Sesamerzeugnisse\n  * Lupinen und Lupinenerzeugnisse\n  * Emulgatore
 n\n  * Verdickungsmittel\n\nCookie:\n- Cookie\n  * Gluten\n  * Hühnereiwe
 iß\, Eier und Eierzeugnisse\n  * Soja und Sojaerzeugnisse\n  * Milcheiwei
 ß\, Milch und Milcherzeugnisse (einschließlich Laktose)\n  * Emulgatoren
 \n\nDonut:\n- Donut\n  * Gluten\n  * Hühnereiweiß\, Eier und Eierzeugnis
 se\n  * Milcheiweiß\, Milch und Milcherzeugnisse (einschließlich Laktose
 )\n  * Schalenfrüchte und Schalenfrüchteerzeugnisse\n  * Antioxidationsm
 ittel\n  * Emulgatoren\n  * Farbstoff\n  * Stabilisatoren\n\n
SUMMARY:Georg-Hartmann-Realschule Forchheim
END:VEVENT
END:VCALENDAR
