BEGIN:VCALENDAR
VERSION:2.0
PRODID:openmensa.org
CALSCALE:GREGORIAN
METHOD:PUBLISH
URL;VALUE=URI:https://openmensa.org/ical/1800/dr-theo-schoeller-mittelschul
 e.ics
BEGIN:VEVENT
DTSTAMP:20260424T021910Z
UID:1675089
DTSTART;VALUE=DATE:20260427
DTEND;VALUE=DATE:20260427
DESCRIPTION:Normal:\n- Ravioli mit Truthahnfüllung in Tomatenrahmsoße\, P
 udding\n  * Gluten\n  * Gluten-Weizen\n  * Hühnereiweiß\, Eier und Eierz
 eugnisse\n  * Soja und Sojaerzeugnisse\n  * Milcheiweiß\, Milch und Milch
 erzeugnisse (einschließlich Laktose)\n  * Sellerie und Sellerieerzeugniss
 e\n  * Emulgatoren\n  * Verdickungsmittel\n\nAlternativ:\n- Gemüsemaultas
 chen mit Spinat-Karottenfüllung in fruchtiger Tomatensoße\, Pudding\n  *
  Gluten\n  * Gluten-Weizen\n  * Hühnereiweiß\, Eier und Eierzeugnisse\n 
  * Milcheiweiß\, Milch und Milcherzeugnisse (einschließlich Laktose)\n  
 * Sellerie und Sellerieerzeugnisse\n  * Senf und Senferzeugnisse\n  * Sesa
 m und Sesamerzeugnisse\n  * vegetarisch\n  * Emulgatoren\n  * Verdickungsm
 ittel\n\n
SUMMARY:Dr.-Theo-Schöller-Mittelschule
END:VEVENT
BEGIN:VEVENT
DTSTAMP:20260424T021910Z
UID:1675090
DTSTART;VALUE=DATE:20260428
DTEND;VALUE=DATE:20260428
DESCRIPTION:Normal:\n- Kartoffelcremesuppe\, Kaiserschmarrn ohne Rosinen (z
 erkleinerter\, goldgelb gebackener Eierpfannkuchen)\, Apfelmus\n  * Milche
 iweiß\, Milch und Milcherzeugnisse (einschließlich Laktose)\n  * Selleri
 e und Sellerieerzeugnisse\n  * Gluten\n  * Gluten-Weizen\n  * Hühnereiwei
 ß\, Eier und Eierzeugnisse\n  * vegetarisch\n  * Antioxidationsmittel\n\n
 Alternativ:\n- Kartoffelcremesuppe\, Kaiserschmarrn ohne Rosinen (zerklein
 erter\, goldgelb gebackener Eierpfannkuchen)\, Apfelmus\n  * Milcheiweiß\
 , Milch und Milcherzeugnisse (einschließlich Laktose)\n  * Sellerie und S
 ellerieerzeugnisse\n  * Gluten\n  * Gluten-Weizen\n  * Hühnereiweiß\, Ei
 er und Eierzeugnisse\n  * vegetarisch\n  * Antioxidationsmittel\n\n
SUMMARY:Dr.-Theo-Schöller-Mittelschule
END:VEVENT
BEGIN:VEVENT
DTSTAMP:20260424T021910Z
UID:1675091
DTSTART;VALUE=DATE:20260429
DTEND;VALUE=DATE:20260429
DESCRIPTION:Normal:\n- Curryhuhn "India Style" Hähnchenbruststreifen mit G
 rillgemüse in Currysoße\, Basmati-Reis aromatisch-duftender Reis\, klein
 er Nachtisch\n  * Milcheiweiß\, Milch und Milcherzeugnisse (einschließli
 ch Laktose)\n  * vegetarisch\n\nAlternativ:\n- Pfannkuchen Florentin (gef
 üllt mit Blattspinat- Sahnemischung\, garniert mit Käse\, dazu Tomatenso
 ße)\, kleiner Nachtisch\n\n
SUMMARY:Dr.-Theo-Schöller-Mittelschule
END:VEVENT
BEGIN:VEVENT
DTSTAMP:20260424T021910Z
UID:1675092
DTSTART;VALUE=DATE:20260430
DTEND;VALUE=DATE:20260430
DESCRIPTION:Normal:\n- Fischnuggets\, Alaska-Seelachsstücke paniert und vo
 rgebacken\, Bratkartoffeln mit Zwiebeln\, Rohkost\n  * Gluten\n  * Gluten-
 Weizen\n  * Fisch und Fischerzeugnisse\n  * vegetarisch\n\nAlternativ:\n- 
 Rührei\, Bratkartoffeln mit Zwiebeln\, Rohkost\n  * Hühnereiweiß\, Eier
  und Eierzeugnisse\n  * Milcheiweiß\, Milch und Milcherzeugnisse (einschl
 ießlich Laktose)\n  * vegetarisch\n\n
SUMMARY:Dr.-Theo-Schöller-Mittelschule
END:VEVENT
END:VCALENDAR
