BEGIN:VCALENDAR
VERSION:2.0
PRODID:openmensa.org
CALSCALE:GREGORIAN
METHOD:PUBLISH
URL;VALUE=URI:https://openmensa.org/ical/1799/loehe-mensa.ics
BEGIN:VEVENT
DTSTAMP:20260424T021626Z
UID:1671304
DTSTART;VALUE=DATE:20260424
DTEND;VALUE=DATE:20260424
DESCRIPTION:Menü 1:\n- Veganes Gemüse-Kartoffelgulasch\, Dessertauswahl\n
   * Sellerie und Sellerieerzeugnisse\n  * Milch und Milcherzeugnisse (eins
 chließlich Laktose)\n\nMenü 2:\n- Backfisch mit Butterkartoffeln und Sau
 errahm Dip\, Dessertauswahl\n  * Glutenhaltiges Getreide\n  * Eier und Eie
 rzeugnisse\n  * Fisch und Fischerzeugnisse\n  * Milch und Milcherzeugnisse
  (einschließlich Laktose)\n  * Senf und Senferzeugnisse\n\n
SUMMARY:Löhe-Mensa
END:VEVENT
BEGIN:VEVENT
DTSTAMP:20260424T021626Z
UID:1679804
DTSTART;VALUE=DATE:20260427
DTEND;VALUE=DATE:20260427
DESCRIPTION:Menü 1:\n- Kartoffeltaschen mit Frischkäsefüllung und Tomate
 nragout\, Obst\n  * Milch und Milcherzeugnisse (einschließlich Laktose)\n
 \nMenü 2:\n- Kaiserschmarrn mit Apfelmus\, Obst\n  * Glutenhaltiges Getre
 ide\n  * Eier und Eierzeugnisse\n  * mit Süßungsmittel\n\n
SUMMARY:Löhe-Mensa
END:VEVENT
BEGIN:VEVENT
DTSTAMP:20260424T021626Z
UID:1679805
DTSTART;VALUE=DATE:20260428
DTEND;VALUE=DATE:20260428
DESCRIPTION:Menü 1:\n- Salat mit klarem Dressing\, Buntes Gemüserisotto\n
   * Senf und Senferzeugnisse\n  * Milch und Milcherzeugnisse (einschließl
 ich Laktose)\n  * Sellerie und Sellerieerzeugnisse\n\nMenü 2:\n- Salat mi
 t klarem Dressing\, Schweineschnitzel "natur"gebraten mit Paprikasoße und
  Bratkartoffeln\n  * Senf und Senferzeugnisse\n  * Sellerie und Sellerieer
 zeugnisse\n\n
SUMMARY:Löhe-Mensa
END:VEVENT
BEGIN:VEVENT
DTSTAMP:20260424T021626Z
UID:1679806
DTSTART;VALUE=DATE:20260429
DTEND;VALUE=DATE:20260429
DESCRIPTION:Menü 1:\n- Kartoffelauflauf mit Gemüse\, Fruchtjoghurt\n  * M
 ilch und Milcherzeugnisse (einschließlich Laktose)\n  * Sellerie und Sell
 erieerzeugnisse\n\nMenü 2:\n- Farfalle mit Schinken-Sahnesoße\, Fruchtjo
 ghurt\n  * Glutenhaltiges Getreide\n  * Milch und Milcherzeugnisse (einsch
 ließlich Laktose)\n  * mit Antioxidationsmittel\n  * mit Phosphat\n  * mi
 t Nitritpökelsalz\n\n
SUMMARY:Löhe-Mensa
END:VEVENT
BEGIN:VEVENT
DTSTAMP:20260424T021626Z
UID:1679807
DTSTART;VALUE=DATE:20260430
DTEND;VALUE=DATE:20260430
DESCRIPTION:Menü 1:\n- Spätzle mit Broccoli Kräutersoße\, Pudding\n  * 
 Glutenhaltiges Getreide\n  * Eier und Eierzeugnisse\n  * Milch und Milcher
 zeugnisse (einschließlich Laktose)\n\nMenü 2:\n- Hähnchenkebab mit Toma
 tenreis und Dip\, Pudding\n  * Milch und Milcherzeugnisse (einschließlich
  Laktose)\n\n
SUMMARY:Löhe-Mensa
END:VEVENT
END:VCALENDAR
