BEGIN:VCALENDAR
VERSION:2.0
PRODID:openmensa.org
CALSCALE:GREGORIAN
METHOD:PUBLISH
URL;VALUE=URI:https://openmensa.org/ical/1793/mensa-th-owl-lemgo.ics
BEGIN:VEVENT
DTSTAMP:20260424T021827Z
UID:1681684
DTSTART;VALUE=DATE:20260424
DTEND;VALUE=DATE:20260424
DESCRIPTION:Mensa klassisch:\n- Seelachsfilet in Eihülle mit Remoulade (2\
 ,10 €\, 5\,10 €\, 5\,35 €)\n  * A20) Gluten\n  * A20.1) Weizen\n  * 
 A22) Ei\n  * A23) Fisch\n  * A26) Milch/Milchprodukte und Laktose\n  * A30
 ) Senf\n  * Beilagen siehe unten\n  * Fisch\n  * Z3) mit Antioxidationsmit
 tel\n  * Z8) mit Phosphat\n  * Z9) mit Süßungsmittel\n  * B: Klimafreund
 lich - niedrige CO₂e‑Werte.\n\nMensa vegetarisch:\n- Kartoffeltaschen 
 "Frischkäse" und Schnittlauch Quark-Dip (1\,60 €\, 4\,30 €\, 4\,50 
 €)\n  * A26) Milch/Milchprodukte und Laktose\n  * Beilagen siehe unten\n
   * Vegan\n  * Vegetarisch\n  * B: Klimafreundlich - niedrige CO₂e‑Wer
 te.\n\nMensa Beilagen A:\n- Suppe des Tages (0\,50 €\, 1\,45 €\, 1\,50
  €)\n  * Vegetarisch\n  * E: Nicht klimafreundlich - sehr hohe CO₂e‑
 Werte.\n- Salzkartoffeln (0\,50 €\, 1\,45 €\, 1\,50 €)\n  * A31) Sch
 wefeldioxid\n  * Vegan\n  * Z2) mit Konservierungsstoff\n  * A: Sehr klima
 freundlich - sehr niedrige CO₂e‑Werte.\n- Spiralnudeln (0\,50 €\, 1\
 ,45 €\, 1\,50 €)\n  * A20) Gluten\n  * A20.1) Weizen\n  * Vegan\n  * A
 : Sehr klimafreundlich - sehr niedrige CO₂e‑Werte.\n- Bunte Karottensc
 heiben (0\,50 €\, 1\,45 €\, 1\,50 €)\n  * Vegan\n  * A: Sehr klimafr
 eundlich - sehr niedrige CO₂e‑Werte.\n- Buntes Mischgemüse (0\,50 €
 \, 1\,45 €\, 1\,50 €)\n  * Vegan\n  * A: Sehr klimafreundlich - sehr n
 iedrige CO₂e‑Werte.\n- Salat "Bauernmix" (0\,50 €\, 1\,45 €\, 1\,5
 0 €)\n  * Vegan\n  * A: Sehr klimafreundlich - sehr niedrige CO₂e‑We
 rte.\n- Gesüßter Joghurt (0\,50 €\, 1\,45 €\, 1\,50 €)\n  * A26) M
 ilch/Milchprodukte und Laktose\n  * Vegetarisch\n  * C: Ausgewogen - mittl
 ere CO₂e‑Werte.\n\nMensa Salat:\n- Salate\, Gemüse\, Toppings\, Dress
 ing (0\,90 €\, 1\,50 €\, 1\,58 €)\n  * Stellen Sie sich Ihre eigene\
 , gesunde Bowl zusammen. Preis pro 100 g\n\n
SUMMARY:Mensa TH OWL\, Lemgo
END:VEVENT
BEGIN:VEVENT
DTSTAMP:20260424T021827Z
UID:1685810
DTSTART;VALUE=DATE:20260427
DTEND;VALUE=DATE:20260427
DESCRIPTION:Mensa klassisch:\n- Hacksteak "Kroatia" mit Ratatouille-Tomaten
 soße (2\,10 €\, 5\,50 €\, 5\,80 €)\n  * A20) Gluten\n  * A20.1) Wei
 zen\n  * A22) Ei\n  * A26) Milch/Milchprodukte und Laktose\n  * Beilagen s
 iehe unten\n  * C: Ausgewogen - mittlere CO₂e‑Werte.\n  * Schweineflei
 sch\n\nMensa vegetarisch:\n- Grieß Käse Tasche mit Kräutersoße (1\,80 
 €\, 4\,70 €\, 4\,95 €)\n  * A20) Gluten\n  * A20.1) Weizen\n  * A20.
 4) Hafer\n  * A22) Ei\n  * A26) Milch/Milchprodukte und Laktose\n  * A: Se
 hr klimafreundlich - sehr niedrige CO₂e‑Werte.\n  * Beilagen siehe unt
 en\n  * Vegan\n  * Vegetarisch\n\nMensa Beilagen A:\n- Suppe des Tages (0\
 ,50 €\, 1\,45 €\, 1\,50 €)\n  * E: Nicht klimafreundlich - sehr hohe
  CO₂e‑Werte.\n  * Vegetarisch\n- Bunte Spiralnudeln (0\,50 €\, 1\,45
  €\, 1\,50 €)\n  * A20) Gluten\n  * A20.1) Weizen\n  * A: Sehr klimafr
 eundlich - sehr niedrige CO₂e‑Werte.\n  * Vegan\n- Brechbohnen (0\,50 
 €\, 1\,45 €\, 1\,50 €)\n  * A: Sehr klimafreundlich - sehr niedrige 
 CO₂e‑Werte.\n  * Vegan\n- Kaisergemüse (0\,50 €\, 1\,45 €\, 1\,50
  €)\n  * A: Sehr klimafreundlich - sehr niedrige CO₂e‑Werte.\n  * Ve
 gan\n- Salat mit Möhren (0\,50 €\, 1\,45 €\, 1\,50 €)\n  * B: Klima
 freundlich - niedrige CO₂e‑Werte.\n  * Vegan\n- Schokoladenpudding (0\
 ,50 €\, 1\,45 €\, 1\,50 €)\n  * A26) Milch/Milchprodukte und Laktose
 \n  * C: Ausgewogen - mittlere CO₂e‑Werte.\n  * Vegetarisch\n\nMensa B
 eilagen B:\n- Pommes Frites (0\,70 €\, 1\,70 €\, 1\,80 €)\n  * A: Se
 hr klimafreundlich - sehr niedrige CO₂e‑Werte.\n  * Vegan\n\nMensa Sal
 at:\n- Salate\, Gemüse\, Toppings\, Dressing (0\,90 €\, 1\,50 €\, 1\,
 58 €)\n  * Stellen Sie sich Ihre eigene\, gesunde Bowl zusammen. Preis p
 ro 100 g\n\n
SUMMARY:Mensa TH OWL\, Lemgo
END:VEVENT
BEGIN:VEVENT
DTSTAMP:20260424T021827Z
UID:1685811
DTSTART;VALUE=DATE:20260428
DTEND;VALUE=DATE:20260428
DESCRIPTION:Mensa klassisch:\n- Cordon Bleu mit Champignonsoße (2\,10 €\
 , 5\,35 €\, 5\,60 €)\n  * A20) Gluten\n  * A20.1) Weizen\n  * A26) Mil
 ch/Milchprodukte und Laktose\n  * Beilagen siehe unten\n  * C: Ausgewogen 
 - mittlere CO₂e‑Werte.\n  * Schweinefleisch\n  * Z2) mit Konservierung
 sstoff\n  * Z3) mit Antioxidationsmittel\n\nMensa vegetarisch:\n- Blumenko
 hl-Käse-Medaillon mit Champignonsoße (1\,60 €\, 4\,55 €\, 4\,80 €)
 \n  * A20) Gluten\n  * A20.1) Weizen\n  * A22) Ei\n  * A26) Milch/Milchpro
 dukte und Laktose\n  * A: Sehr klimafreundlich - sehr niedrige CO₂e‑We
 rte.\n  * Beilagen siehe unten\n  * Vegan\n  * Vegetarisch\n\nMensa Suppe/
 Eintopf:\n- Erbseneintopf (2\,00 €\, 4\,00 €\, 4\,20 €)\n  * A20) Gl
 uten\n  * A20.1) Weizen\n  * A28) Sellerie\n  * A31) Schwefeldioxid\n  * A
 : Sehr klimafreundlich - sehr niedrige CO₂e‑Werte.\n  * Vegan\n  * Z1)
  mit Farbstoff\n  * Z2) mit Konservierungsstoff\n\nMensa Beilagen A:\n- Su
 ppe des Tages (0\,50 €\, 1\,45 €\, 1\,50 €)\n  * E: Nicht klimafreun
 dlich - sehr hohe CO₂e‑Werte.\n  * Vegetarisch\n- Kartoffelpüree (0\,
 50 €\, 1\,45 €\, 1\,50 €)\n  * A26) Milch/Milchprodukte und Laktose\
 n  * A31) Schwefeldioxid\n  * A: Sehr klimafreundlich - sehr niedrige CO
 ₂e‑Werte.\n  * Vegetarisch\n  * Z2) mit Konservierungsstoff\n- Langkor
 nreis (0\,50 €\, 1\,45 €\, 1\,50 €)\n  * A: Sehr klimafreundlich - s
 ehr niedrige CO₂e‑Werte.\n  * Vegan\n- Blumenkohl (0\,50 €\, 1\,45 
 €\, 1\,50 €)\n  * A: Sehr klimafreundlich - sehr niedrige CO₂e‑Wer
 te.\n  * Vegan\n- Fingermöhren (0\,50 €\, 1\,45 €\, 1\,50 €)\n  * A
 : Sehr klimafreundlich - sehr niedrige CO₂e‑Werte.\n  * Vegan\n- Salat
  "Bückeburg" (0\,50 €\, 1\,45 €\, 1\,50 €)\n  * A: Sehr klimafreund
 lich - sehr niedrige CO₂e‑Werte.\n  * Vegan\n- Dickmilch mit Kirschkom
 pott (0\,50 €\, 1\,45 €\, 1\,50 €)\n  * A26) Milch/Milchprodukte und
  Laktose\n  * B: Klimafreundlich - niedrige CO₂e‑Werte.\n  * Vegetaris
 ch\n  * Z1) mit Farbstoff\n\nMensa Salat:\n- Salate\, Gemüse\, Toppings\,
  Dressing (0\,90 €\, 1\,50 €\, 1\,58 €)\n  * Stellen Sie sich Ihre e
 igene\, gesunde Bowl zusammen. Preis pro 100 g\n\n
SUMMARY:Mensa TH OWL\, Lemgo
END:VEVENT
BEGIN:VEVENT
DTSTAMP:20260424T021827Z
UID:1685812
DTSTART;VALUE=DATE:20260429
DTEND;VALUE=DATE:20260429
DESCRIPTION:Mensa klassisch:\n- Putengeschnetzeltes "Asia" (1\,60 €\, 4\,
 40 €\, 4\,60 €)\n  * B: Klimafreundlich - niedrige CO₂e‑Werte.\n  
 * Beilagen siehe unten\n  * Geflügel\n\nMensa vegetarisch:\n- Panierter H
 irtenkäse mit Tomatensoße (2\,10 €\, 5\,30 €\, 5\,55 €)\n  * A20) 
 Gluten\n  * A20.1) Weizen\n  * A26) Milch/Milchprodukte und Laktose\n  * B
 : Klimafreundlich - niedrige CO₂e‑Werte.\n  * Beilagen siehe unten\n  
 * Vegan\n  * Vegetarisch\n\nMensa Aktionstheke:\n- Veganer Burger am Grill
  (5\,55 €\, 13\,85 €\, 14\,55 €)\n  * A20) Gluten\n  * A20.1) Weizen
 \n  * A30) Senf\n  * A: Sehr klimafreundlich - sehr niedrige CO₂e‑Wert
 e.\n  * Vegan\n  * Z13) mit Zuckerart(en) und Süßungsmittel(n)\n  * Z3) 
 mit Antioxidationsmittel\n- Burger am Grill (5\,55 €\, 14\,10 €\, 14\,
 80 €)\n  * A20) Gluten\n  * A20.1) Weizen\n  * A22) Ei\n  * A30) Senf\n 
  * B: Klimafreundlich - niedrige CO₂e‑Werte.\n  * Rind\n  * Z13) mit Z
 uckerart(en) und Süßungsmittel(n)\n  * Z3) mit Antioxidationsmittel\n  *
  Z8) mit Phosphat\n\nMensa Beilagen A:\n- Suppe des Tages (0\,50 €\, 1\,
 45 €\, 1\,50 €)\n  * E: Nicht klimafreundlich - sehr hohe CO₂e‑Wer
 te.\n  * Vegetarisch\n- Wildreis (0\,50 €\, 1\,45 €\, 1\,50 €)\n  * 
 A: Sehr klimafreundlich - sehr niedrige CO₂e‑Werte.\n  * Vegan\n- Kohl
 rabistreifen (0\,50 €\, 1\,45 €\, 1\,50 €)\n  * A: Sehr klimafreundl
 ich - sehr niedrige CO₂e‑Werte.\n  * Vegan\n- Leipziger Allerlei (0\,5
 0 €\, 1\,45 €\, 1\,50 €)\n  * A: Sehr klimafreundlich - sehr niedrig
 e CO₂e‑Werte.\n  * Vegan\n- Salat "Hansamix" (0\,50 €\, 1\,45 €\, 
 1\,50 €)\n  * B: Klimafreundlich - niedrige CO₂e‑Werte.\n  * Vegan\n
 - Gesüßter Joghurt (0\,50 €\, 1\,45 €\, 1\,50 €)\n  * A26) Milch/M
 ilchprodukte und Laktose\n  * C: Ausgewogen - mittlere CO₂e‑Werte.\n  
 * Vegetarisch\n\nMensa Beilagen B:\n- Spätzle (0\,70 €\, 1\,70 €\, 1\
 ,80 €)\n  * A20) Gluten\n  * A20.1) Weizen\n  * A22) Ei\n  * A: Sehr kli
 mafreundlich - sehr niedrige CO₂e‑Werte.\n  * Vegetarisch\n\nMensa Sal
 at:\n- Salate\, Gemüse\, Toppings\, Dressing (0\,90 €\, 1\,50 €\, 1\,
 58 €)\n  * Stellen Sie sich Ihre eigene\, gesunde Bowl zusammen. Preis p
 ro 100 g\n\n
SUMMARY:Mensa TH OWL\, Lemgo
END:VEVENT
BEGIN:VEVENT
DTSTAMP:20260424T021828Z
UID:1685813
DTSTART;VALUE=DATE:20260430
DTEND;VALUE=DATE:20260430
DESCRIPTION:Mensa klassisch:\n- Hähnchenbrustfilet "Tomate-Mozzarella" mit
  Schnittlauchsoße (1\,80 €\, 4\,80 €\, 5\,05 €)\n  * A20) Gluten\n 
  * A20.1) Weizen\n  * A22) Ei\n  * A26) Milch/Milchprodukte und Laktose\n 
  * Beilagen siehe unten\n  * C: Ausgewogen - mittlere CO₂e‑Werte.\n  *
  Geflügel\n  * Z2) mit Konservierungsstoff\n\nMensa vegan:\n- Gemüsekrok
 etten mit Schnittlauchsoße (1\,60 €\, 4\,50 €\, 4\,75 €)\n  * A20) 
 Gluten\n  * A20.1) Weizen\n  * A28) Sellerie\n  * A: Sehr klimafreundlich 
 - sehr niedrige CO₂e‑Werte.\n  * Beilagen siehe unten\n  * Vegan\n\nMe
 nsa Suppe/Eintopf:\n- Erbseneintopf (2\,00 €\, 4\,00 €\, 4\,20 €)\n 
  * A20) Gluten\n  * A20.1) Weizen\n  * A28) Sellerie\n  * A31) Schwefeldio
 xid\n  * A: Sehr klimafreundlich - sehr niedrige CO₂e‑Werte.\n  * Vega
 n\n  * Z1) mit Farbstoff\n  * Z2) mit Konservierungsstoff\n\nMensa Beilage
 n A:\n- Suppe des Tages (0\,50 €\, 1\,45 €\, 1\,50 €)\n  * E: Nicht 
 klimafreundlich - sehr hohe CO₂e‑Werte.\n  * Vegan\n- Kartoffeln (0\,5
 0 €\, 1\,45 €\, 1\,50 €)\n  * A31) Schwefeldioxid\n  * A: Sehr klima
 freundlich - sehr niedrige CO₂e‑Werte.\n  * Vegan\n  * Z2) mit Konserv
 ierungsstoff\n- Spaghetti (0\,50 €\, 1\,45 €\, 1\,50 €)\n  * A20) Gl
 uten\n  * A20.1) Weizen\n  * A: Sehr klimafreundlich - sehr niedrige CO₂
 e‑Werte.\n  * Vegan\n- Brokkoli (0\,50 €\, 1\,45 €\, 1\,50 €)\n  *
  A: Sehr klimafreundlich - sehr niedrige CO₂e‑Werte.\n  * Vegan\n- Bun
 tes Mischgemüse (0\,50 €\, 1\,45 €\, 1\,50 €)\n  * A: Sehr klimafre
 undlich - sehr niedrige CO₂e‑Werte.\n  * Vegan\n- Salat "Bückeburg" (
 0\,50 €\, 1\,45 €\, 1\,50 €)\n  * B: Klimafreundlich - niedrige CO
 ₂e‑Werte.\n  * Vegan\n- Haselnusspudding (0\,50 €\, 1\,45 €\, 1\,5
 0 €)\n  * A25) Soja\n  * A: Sehr klimafreundlich - sehr niedrige CO₂e
 ‑Werte.\n  * Vegan\n- Himbeerquark (0\,50 €\, 1\,45 €\, 1\,50 €)\n
   * A26) Milch/Milchprodukte und Laktose\n  * C: Ausgewogen - mittlere CO
 ₂e‑Werte.\n  * Vegetarisch\n\nMensa Salat:\n- Salate\, Gemüse\, Toppi
 ngs\, Dressing (0\,90 €\, 1\,50 €\, 1\,58 €)\n  * Stellen Sie sich I
 hre eigene\, gesunde Bowl zusammen. Preis pro 100 g\n\n
SUMMARY:Mensa TH OWL\, Lemgo
END:VEVENT
END:VCALENDAR
