BEGIN:VCALENDAR
VERSION:2.0
PRODID:openmensa.org
CALSCALE:GREGORIAN
METHOD:PUBLISH
URL;VALUE=URI:https://openmensa.org/ical/1747/hamburg-mensa-bucerius-law-sc
 hool.ics
BEGIN:VEVENT
DTSTAMP:20260424T021911Z
UID:1682519
DTSTART;VALUE=DATE:20260424
DTEND;VALUE=DATE:20260424
DESCRIPTION:Pottkieker:\n- Sojageschnetzeltes in Currysoße (Sojaprotein) (
 So\,Sl\,Sf\,GlW)\, Reis (2\,20 €\, 3\,50 €\, 4\,80 €)\n  * Vegan\n  
 * enthält keine laktosehaltigen Lebensmittel\n\nCampusKlassiker:\n- Omele
 tte \, Blattspinat \, hausgemachtes Kartoffelpüree (3\,60 €\, 4\,90 €
 \, 6\,20 €)\n  * Ei und Eierzeugnisse\n  * Milch und Milcherzeugnisse (e
 inschließlich Laktose)\n  * Schwefeldioxid und Sulfite (Konzentration ü
 ber 10mg/kg oder 10mg/l)\n  * Vegetarisch\n\nCampusSpezial:\n- Veganes Knu
 sperschnitzel (GlW)\, Bratkartoffeln\, Gurkensalat\, Zitrone (4\,90 €\, 
 6\,20 €\, 7\,50 €)\n  * Vegan\n  * enthält keine laktosehaltigen Lebe
 nsmittel\n\nPastabar:\n- Penne in Tomaten Paprikacreme mit Käse gebacken 
 (Ei\,Mi\,Sw\,GlW) (0\,90 €\, 1\,15 €\, 1\,40 €)\n  * Vegetarisch\n\n
 Gemüsebar:\n- Brechbohne\, Cajun Gemüse \, spanisches Kartoffelgemüse \
 , gebratene Paprika \, rote-Beete-Pilaw (0\,90 €\, 1\,15 €\, 1\,40 €
 )\n  * Geschwefelt\n  * Schwefeldioxid und Sulfite (Konzentration über 1
 0mg/kg oder 10mg/l)\n  * Sellerie und Sellerieerzeugnisse\n  * Vegan\n  * 
 enthält keine laktosehaltigen Lebensmittel\n  * mit Farbstoff\n  * mit S
 üßungsmittel\n\n
SUMMARY:Hamburg\, Mensa Bucerius Law School 🆕
END:VEVENT
BEGIN:VEVENT
DTSTAMP:20260424T021911Z
UID:1685189
DTSTART;VALUE=DATE:20260427
DTEND;VALUE=DATE:20260427
DESCRIPTION:Pottkieker:\n- Kohlrabi Kokos Suppe mit Erdnuss- Minz Topping (
 2\,20 €\, 3\,50 €\, 4\,80 €)\n  * Erdnüsse und Erdnusserzeugnisse\n
   * Schwefeldioxid und Sulfite (Konzentration über 10mg/kg oder 10mg/l)\
 n  * Senf und Senferzeugnisse\n  * Vegan\n  * enthält keine laktosehaltig
 en Lebensmittel\n  * mit Antioxidationsmittel\n\nCampusKlassiker:\n- Rostb
 ratwurst \, Sauerkraut (vegan) \, hausgemachtes Kartoffelpüree (3\,80 €
 \, 5\,10 €\, 6\,40 €)\n  * Milch und Milcherzeugnisse (einschließlich
  Laktose)\n  * Neu\n  * Rind\n  * Schwein\n  * Sellerie und Sellerieerzeug
 nisse\n  * Senf und Senferzeugnisse\n  * mit Geschmacksverstärker\n  * mi
 t Phosphat\n\nCampusWorld:\n- Bibimbap Bowl mit Sonnenblumenhack (Sonnenbl
 umenprotein) und Champignons (2\,3\,5\,En\,So\,Sl\,Sf\,Se\,Sw\,GlW) (5\,20
  €\, 6\,50 €\, 7\,80 €)\n  * Vegan\n  * enthält keine laktosehaltig
 en Lebensmittel\n\nPastabar:\n- Conchiglie (GlW)\, Broccoli in einer Gorgo
 nzola- Sahnesoße (0\,90 €\, 1\,15 €\, 1\,40 €)\n  * Milch und Milch
 erzeugnisse (einschließlich Laktose)\n\nGemüsebar:\n- Blattspinat mit ve
 ganem Hirtenkäse \, Blumenkohl mit gebräunten Bröseln (1\,GlW)\, Alte G
 emüse: Pastinake- Sellerie- Karotte- Topinambur \, Nusskartoffeln (0\,90 
 €\, 1\,15 €\, 1\,40 €)\n  * Schwefeldioxid und Sulfite (Konzentratio
 n über 10mg/kg oder 10mg/l)\n  * Sellerie und Sellerieerzeugnisse\n  * V
 egan\n  * enthält keine laktosehaltigen Lebensmittel\n\n
SUMMARY:Hamburg\, Mensa Bucerius Law School 🆕
END:VEVENT
BEGIN:VEVENT
DTSTAMP:20260424T021911Z
UID:1685190
DTSTART;VALUE=DATE:20260428
DTEND;VALUE=DATE:20260428
DESCRIPTION:Pottkieker:\n- Cassoulet- Bohneneintopf mit Räuchertofu (2\,20
  €\, 3\,50 €\, 4\,80 €)\n  * Sellerie und Sellerieerzeugnisse\n  * S
 enf und Senferzeugnisse\n  * Soja und Sojaerzeugnisse\n  * Vegan\n  * enth
 ält keine laktosehaltigen Lebensmittel\n\nCampusVital:\n- Bowl mit Karott
 en Wakame Salat\, Röstinchen und orientalischer rote Beete (1\,2\,3\,5\,S
 o\,Sl\,Se\,Sw\,GlW)\, Kirschtomaten-Konfit \, Erbsen-Dip (4\,60 €\, 5\,9
 0 €\, 7\,20 €)\n  * Geschwefelt\n  * Schwefeldioxid und Sulfite (Konze
 ntration über 10mg/kg oder 10mg/l)\n  * Senf und Senferzeugnisse\n  * So
 ja und Sojaerzeugnisse\n  * Vegan\n  * enthält keine laktosehaltigen Lebe
 nsmittel\n  * mit Antioxidationsmittel\n  * mit Farbstoff\n  * mit Konserv
 ierungsstoff\n\nCampusSpezial:\n- Dönerteller Geflügel mit Rotkrautsalat
  \, Tzatziki \, Pommes Frites (6\,35 €\, 7\,65 €\, 8\,95 €)\n  * Gef
 lügel\n  * Milch und Milcherzeugnisse (einschließlich Laktose)\n  * Schw
 efeldioxid und Sulfite (Konzentration über 10mg/kg oder 10mg/l)\n  * Sen
 f und Senferzeugnisse\n  * mit Geschmacksverstärker\n\nPastabar:\n- Stroz
 zapreti (GlW)\, Tomaten- Kräuter- Gemüsesoße (0\,90 €\, 1\,15 €\, 1
 \,40 €)\n  * Schwefeldioxid und Sulfite (Konzentration über 10mg/kg od
 er 10mg/l)\n  * Vegan\n  * enthält keine laktosehaltigen Lebensmittel\n\n
 Gemüsebar:\n- Gelbe und Grüne Zucchini mit Cherrytomaten und Oliven \, F
 enchelgemüse \, Süßkartoffelwürfel gebacken\, gerösteter Broccoli (0\
 ,90 €\, 1\,15 €\, 1\,40 €)\n  * Geschwärzt\n  * Sellerie und Seller
 ieerzeugnisse\n  * Vegan\n  * enthält keine laktosehaltigen Lebensmittel\
 n\n
SUMMARY:Hamburg\, Mensa Bucerius Law School 🆕
END:VEVENT
BEGIN:VEVENT
DTSTAMP:20260424T021911Z
UID:1685536
DTSTART;VALUE=DATE:20260429
DTEND;VALUE=DATE:20260429
DESCRIPTION:Pottkieker:\n- Möhren-Tajine mit Soja-Joghurt (2\,20 €\, 3\,
 50 €\, 4\,80 €)\n  * Schwefeldioxid und Sulfite (Konzentration über 
 10mg/kg oder 10mg/l)\n  * Sellerie und Sellerieerzeugnisse\n  * Soja und S
 ojaerzeugnisse\n  * Vegan\n  * enthält keine laktosehaltigen Lebensmittel
 \n\nCampusVital:\n- All in one pot: Vollkornreis\, Tandoori Chicken\, Avoc
 ado\, Linsen\, Cranberries\, Chia (1\,2\,3\,So\,Mi\,Sl\,Sf\,Sw\,GlW) (4\,6
 0 €\, 5\,90 €\, 7\,20 €)\n  * Geflügel\n\nCampusWorld:\n- Gebackene
 r Gnocchi-Blumenkohl-Auflauf mit Bärlauch (Mi\,Sf\,GlW) (3\,50 €\, 4\,8
 0 €\, 6\,10 €)\n  * Vegetarisch\n\nPastabar:\n- Eliche (GlW)\, Rindfle
 ischstreifen und Pilzen in Sahnesoße (3\,Mi\,Sl\,GlW\,GlG) (0\,90 €\, 1
 \,15 €\, 1\,40 €)\n  * Rind\n\nGemüsebar:\n- Ratatouille \, Karotten 
 \, Prinzessbohnen\, Gnocchi (0\,90 €\, 1\,15 €\, 1\,40 €)\n  * Schwe
 feldioxid und Sulfite (Konzentration über 10mg/kg oder 10mg/l)\n  * Sell
 erie und Sellerieerzeugnisse\n  * Vegan\n  * enthält keine laktosehaltige
 n Lebensmittel\n  * mit Farbstoff\n\n
SUMMARY:Hamburg\, Mensa Bucerius Law School 🆕
END:VEVENT
BEGIN:VEVENT
DTSTAMP:20260424T021911Z
UID:1685726
DTSTART;VALUE=DATE:20260430
DTEND;VALUE=DATE:20260430
DESCRIPTION:Pottkieker:\n- Indische Tomaten-Linsensuppe (Sf\,Sw\,GlW) (2\,2
 0 €\, 3\,50 €\, 4\,80 €)\n  * Vegan\n  * enthält keine laktosehalti
 gen Lebensmittel\n\nCampusSpezial:\n- Linsen Hirsebällchen (GlW\,GlH)\, B
 ulgur Tomaten Salat (3\,5\,Sw\,GlW)\, Petersilienpesto \, Rucola (4\,90 
 €\, 6\,20 €\, 7\,50 €)\n  * Schwefeldioxid und Sulfite (Konzentratio
 n über 10mg/kg oder 10mg/l)\n  * Vegan\n  * enthält keine laktosehaltig
 en Lebensmittel\n\nCampusWorld:\n- Hähnchen Crossies (GlW)\, Gemüsepfann
 e in pikanter Tandoorisoße (Sl\,Sf\,GlW)\, Reis (6\,15 €\, 7\,45 €\, 
 8\,75 €)\n  * Geflügel\n  * enthält keine laktosehaltigen Lebensmittel
 \n\nPastabar:\n- Bunte Fusilli (GlW)\, Tomatensoße mit Paprika\, getrockn
 ete Tomaten und geröstete Haselnüsse (Sl\,Sw\,NHa) (0\,90 €\, 1\,15 
 €\, 1\,40 €)\n  * Vegan\n  * enthält keine laktosehaltigen Lebensmitt
 el\n\nGemüsebar:\n- Knoblauch Champignons aus dem Ofen (1\,2\,5\,So\,Sw\,
 GlW)\, Frühlingsgemüse \, Spitzkohl in Creme \, Petersilienkartoffeln (0
 \,90 €\, 1\,15 €\, 1\,40 €)\n  * Soja und Sojaerzeugnisse\n  * Vegan
 \n  * enthält keine laktosehaltigen Lebensmittel\n  * mit Farbstoff\n\n
SUMMARY:Hamburg\, Mensa Bucerius Law School 🆕
END:VEVENT
END:VCALENDAR
