BEGIN:VCALENDAR
VERSION:2.0
PRODID:openmensa.org
CALSCALE:GREGORIAN
METHOD:PUBLISH
URL;VALUE=URI:https://openmensa.org/ical/1719/mensa-adenauerring.ics
BEGIN:VEVENT
DTSTAMP:20260424T021701Z
UID:1677904
DTSTART;VALUE=DATE:20260424
DTEND;VALUE=DATE:20260424
DESCRIPTION:Linie 1 Gut & Günstig:\n- Geschmälzte Maultaschen (3\,60 €)
 \n  * zu jedem Gericht reichen wir ein Dessert\, Salat oder Obst\nHausgema
 chter Kartoffelsalat\n\nLinie 2 Vegane Linie:\n- Geschmälzte Vegane Mault
 aschen (3\,60 €)\n  * zu jedem Gericht reichen wir ein Dessert\, Salat o
 der Obst\nHausgemachter Kartoffelsalat\n\nLinie 3:\n- Schwäbische Spätzl
 epfanne mit Gemüse und Champignons (2\,95 €)\n- Blattsalat (0\,90 €)\
 n  * \nPikanter Chinakohlsalat\n- Früchtequark (0\,85 €)\n\nLinie 4:\n-
  Hausgemachte Gnocchi (3\,85 €)\n- Blattsalat (0\,90 €)\n  * \nPikante
 r Chinakohlsalat\n- Früchtequark (0\,85 €)\n\nLinie 5:\n- Hokifilet in 
 der Zitronenpanade (3\,90 €)\n  * \ndazu Korianderschmand\n- Karottengem
 üse (1\,05 €)\n- Blattsalat (0\,90 €)\n  * \nPikanter Chinakohlsalat\
 n- Früchtequark (0\,85 €)\n- Kräuterkartoffeln (0\,85 €)\n- Tagessup
 pe (0\,55 €)\n\nSchnitzelbar:\n- Schweine- und Hähnchenschnitzel\, vege
 tarische Leckereien\, Salatbuffet und Pommes (1\,10 €)\n  * \nSalatbuffe
 t und Pommes - alles zur Wahl zu einem Preis je 100 gramm\n- Verschiedene 
 Desserts im Portionsbecher (0\,65 €)\n\nLinie 6:\n- Bunter Salatbowl (2\
 ,80 €)\n- Badisches Buffet\, Preis je 100g (1\,10 €)\n- Buntes Anti Pa
 sti Buffet\, Preis je 100g (1\,10 €)\n- Salatbuffet mit frischer Rohkost
 \, Blattsalate und hausgemachten Dressings\, Preis je 100g (1\,10 €)\n\n
 Spätausgabe und Abendessen:\n- Spätausgabe 14:00 bis 14:30 an der Linie 
 2 (3\,20 €)\n  * \nInfo zum Speisenangebot direkt an der Ausgabe\n\n[kœ
 ri]werk 11-14 Uhr:\n- Reine Kalbsbratwurst mit Currysoße (2\,60 €)\n  *
  Baguette\n- Vegane Bratwurst auf Basis von Erbsen und Weizenprotein mit C
 urrysoße (2\,40 €)\n  * Baguette\n- koerifrites (1\,50 €)\n  * Baguet
 te\n\nCafeteria 11-14 Uhr:\n- Hähnchenschnitzel mit Brötchen (3\,20 €)
 \n- Börek mit Spinatfüllung (2\,20 €)\n\n[pizza]werk Pizza 11-14 Uhr:\
 n- Pizza Hawaii - italienischer gekochter Schinken\, Mozzarella und Ananas
  (5\,45 €)\n- Pizza Funghi - frische Champignons\, Frühlingszwiebeln (5
 \,25 €)\n- Pizza Funghi vegan - frische Champignons\, Frühlingszwiebeln
  und vegane Käsealternative (5\,25 €)\n- Pizza Margherita vegetarisch -
  frische Cocktailtomaten\, Mozzarella\, Basilikumpesto (5\,15 €)\n- Pizz
 a Margherita vegan - frische Cocktailtomaten\, vegane Käsealternative\, B
 asilikumpesto (5\,15 €)\n\n[pizza]werk Salate / Vorspeisen:\n- Insalata 
 piccola - kleiner Blattsalat mit Tomate\, Gurke und Ei (2\,00 €)\n- Insa
 lata - Salatschale mit Blattsalat\, Tomate\, Gurke\, Radieschen und Pepero
 ni (2\,00 €)\n\n
SUMMARY:Mensa Adenauerring
END:VEVENT
BEGIN:VEVENT
DTSTAMP:20260424T021701Z
UID:1679495
DTSTART;VALUE=DATE:20260425
DTEND;VALUE=DATE:20260425
DESCRIPTION:
SUMMARY:Mensa Adenauerring
END:VEVENT
BEGIN:VEVENT
DTSTAMP:20260424T021701Z
UID:1680508
DTSTART;VALUE=DATE:20260426
DTEND;VALUE=DATE:20260426
DESCRIPTION:
SUMMARY:Mensa Adenauerring
END:VEVENT
BEGIN:VEVENT
DTSTAMP:20260424T021701Z
UID:1681769
DTSTART;VALUE=DATE:20260427
DTEND;VALUE=DATE:20260427
DESCRIPTION:Linie 1 Gut & Günstig:\n- Kokos-Curry mit Hähnchenstreifen un
 d Karotten-Reis (3\,60 €)\n  * zu jedem Gericht reichen wir ein Dessert\
 , Salat oder Obst\n- Kokos-Curry mit Sojastreifen und Karotten-Reis (3\,60
  €)\n  * zu jedem Gericht reichen wir ein Dessert\, Salat oder Obst\n\nL
 inie 2 Vegane Linie:\n- Grillkartoffeln mit Marktgemüse und hausgemachtem
  Paprikadip (3\,50 €)\n  * zu jedem Gericht reichen wir ein Dessert oder
  Obst\n\nLinie 3:\n- Nasi Goreng mit Geflügelstreifen (3\,75 €)\n- Blat
 tsalat (0\,90 €)\n  * \nPaprikasalat\n- Pudding Latte Macchiato (0\,85 
 €)\n\nLinie 4:\n- Hausgemachte Gnocchi (3\,85 €)\n  * \nin pikanter To
 matensauce mit Speck\n- Blattsalat (0\,90 €)\n  * \nPaprikasalat\n- Pudd
 ing Latte Macchiato (0\,85 €)\n\nLinie 5:\n- Bifteki (3\,55 €)\n  * \n
 mit hausgemachtem Tsatsiki\n- Kaisergemüse (1\,05 €)\n- Blattsalat (0\,
 90 €)\n  * \nPaprikasalat\n- Pudding Latte Macchiato (0\,85 €)\n- Toma
 ten Bulgur (0\,85 €)\n- Tagessuppe (0\,55 €)\n\nSchnitzelbar:\n- Schwe
 ine- und Hähnchenschnitzel\, vegetarische Leckereien\, Salatbuffet und Po
 mmes (1\,10 €)\n  * \nSalatbuffet und Pommes - alles zur Wahl zu einem P
 reis je 100 gramm\n- Verschiedene Desserts im Portionsbecher (0\,65 €)\n
 \nLinie 6:\n- Bunter Salatbowl (2\,80 €)\n- Badisches Buffet\, Preis je 
 100g (1\,10 €)\n- Schweinekammsteak\, Preis je 100g (1\,10 €)\n- Bunte
 s Anti Pasti Buffet\, Preis je 100g (1\,10 €)\n- Salatbuffet mit frische
 r Rohkost\, Blattsalate und hausgemachten Dressings\, Preis je 100g (1\,10
  €)\n\nSpätausgabe und Abendessen:\n- Spätausgabe 14:00 bis 14:30 an d
 er Linie 2 (3\,20 €)\n  * \nInfo zum Speisenangebot direkt an der Ausgab
 e\n\n[kœri]werk 11-14 Uhr:\n- Reine Kalbsbratwurst mit Currysoße (2\,60 
 €)\n  * Baguette\n- Vegane Bratwurst auf Basis von Erbsen und Weizenprot
 ein mit Currysoße (2\,40 €)\n  * Baguette\n- koerifrites (1\,50 €)\n 
  * Baguette\n\nCafeteria 11-14 Uhr:\n- Frikadelle mit Brötchen (3\,00 €
 )\n- Käse Mozzarella Fächer (1\,90 €)\n\n[pizza]werk Pizza 11-14 Uhr:\
 n- Pizza Finocchio - Fenchelsalami mit Kirschtomaten und Mozzarella (5\,45
  €)\n- Pizza Mykonos - Hirtenkäse\, Paprika\, Oliven\, rote Zwiebeln un
 d Mais (5\,25 €)\n- Pizza Mykonos vegan - Paprika\, Oliven\, rote Zwiebe
 ln\, vegane Käsealternative und Mais (5\,25 €)\n- Pizza Margherita vege
 tarisch - frische Tomaten\, Mozzarella\, Basilikumpesto (5\,15 €)\n- Piz
 za Margherita vegan - frische Tomaten\, vegane Käsealternative\, Basiliku
 mpesto (5\,15 €)\n\n[pizza]werk Salate / Vorspeisen:\n- Insalata piccola
  - kleiner Blattsalat mit Hirtenkäse\, Oliven und Peperoni (2\,00 €)\n-
  Insalata - Salatschale mit Blattsalat\, Tomate\, Gurke\, Radieschen und P
 eperoni (2\,00 €)\n\n
SUMMARY:Mensa Adenauerring
END:VEVENT
BEGIN:VEVENT
DTSTAMP:20260424T021701Z
UID:1681960
DTSTART;VALUE=DATE:20260428
DTEND;VALUE=DATE:20260428
DESCRIPTION:Linie 1 Gut & Günstig:\n- Pasta con tonno e peperoni - fruchti
 ge Tomatensoße mit Thunfisch und Paprika (3\,60 €)\n  * zu jedem Gerich
 t reichen wir ein Dessert\, Salat oder Obst\n- Pasta in Tomatensoße mit p
 lanted vegane Hähnchen-Alternative und geräucherter Paprika (3\,60 €)\
 n  * zu jedem Gericht reichen wir ein Dessert\, Salat oder Obst\n\nLinie 2
  Vegane Linie:\n- Brokkoli-Chili-Erdnuss Gumbo mit Risoleekartoffeln (3\,5
 0 €)\n  * zu jedem Gericht reichen wir frisches Obst oder Salat\n\nLinie
  3:\n- Schweizer Älplermagronen (3\,45 €)\n- Blattsalat (0\,90 €)\n  
 * \nKarottensalat\n- Creme mit Karamellgeschmack (0\,85 €)\n\nLinie 4:\n
 - Hausgemachte Gnocchi (3\,85 €)\n  * \nin Käsesauce\n- Blattsalat (0\,
 90 €)\n  * \nKarottensalat\n- Creme mit Karamellgeschmack (0\,85 €)\n\
 nLinie 5:\n- Dönerteller mit Hähnchenfleisch (4\,30 €)\n  * \nKnoblauc
 hdip\n- Blumenkohlgemüse (1\,05 €)\n- Blattsalat (0\,90 €)\n  * \nKar
 ottensalat\n- Creme mit Karamellgeschmack (0\,85 €)\n- Gemüsereis (0\,8
 5 €)\n- Tagessuppe (0\,55 €)\n\nSchnitzelbar:\n- Schweine- und Hähnch
 enschnitzel\, vegetarische Leckereien\, Salatbuffet und Pommes (1\,10 €)
 \n  * \nSalatbuffet und Pommes - alles zur Wahl zu einem Preis je 100 gram
 m\n- Verschiedene Desserts im Portionsbecher (0\,65 €)\n\nLinie 6:\n- Bu
 nte Salatbowl (3\,20 €)\n- Kartoffel - Hähnchen - Auflauf\, Preis je 10
 0g (1\,10 €)\n- Badisches Buffet\, Preis je 100g (1\,10 €)\n- Buntes A
 nti Pasti Buffet\, Preis je 100g (1\,10 €)\n- Salatbuffet mit frischer R
 ohkost\, Blattsalate und hausgemachten Dressings\, Preis je 100g (1\,10 
 €)\n\nSpätausgabe und Abendessen:\n- Spätausgabe 14:00 bis 14:30 an de
 r Linie 2 (3\,20 €)\n  * \nInfo zum Speisenangebot direkt an der Ausgabe
 \n\n[kœri]werk 11-14 Uhr:\n- Reine Kalbsbratwurst mit Currysoße (2\,60 
 €)\n  * Baguette\n- Vegane Bratwurst auf Basis von Erbsen und Weizenprot
 ein mit Currysoße (2\,40 €)\n  * Baguette\n- koerifrites (1\,50 €)\n 
  * Baguette\n\nCafeteria 11-14 Uhr:\n- Geflügelfrikadelle mit Brötchen (
 3\,20 €)\n- Börek mit Spinatfüllung (2\,20 €)\n\n[pizza]werk Pizza 1
 1-14 Uhr:\n- Pizza Finocchio - Fenchelsalami mit Kirschtomaten und Mozzare
 lla (5\,45 €)\n- Pizza Mykonos - Hirtenkäse\, Paprika\, Oliven\, rote Z
 wiebeln und Mais (5\,25 €)\n- Pizza Mykonos vegan - Paprika\, Oliven\, r
 ote Zwiebeln\, vegane Käsealternative und Mais (5\,25 €)\n- Pizza Margh
 erita vegetarisch - frische Cocktailtomaten\, Mozzarella\, Basilikumpesto 
 (5\,15 €)\n- Pizza Margherita vegan - frische Cocktailtomaten\, vegane K
 äsealternative\, Basilikumpesto (5\,15 €)\n\n[pizza]werk Salate / Vorsp
 eisen:\n- Insalata piccola - kleiner Blattsalat mit Hirtenkäse\, Oliven u
 nd Peperoni (2\,00 €)\n- Insalata - Salatschale mit Blattsalat\, Tomate\
 , Gurke\, Radieschen und Peperoni (2\,00 €)\n\n
SUMMARY:Mensa Adenauerring
END:VEVENT
BEGIN:VEVENT
DTSTAMP:20260424T021701Z
UID:1682353
DTSTART;VALUE=DATE:20260429
DTEND;VALUE=DATE:20260429
DESCRIPTION:Linie 1 Gut & Günstig:\n- Erbseneintopf mit Bockwurst (3\,60 
 €)\n  * zu jedem Gericht reichen wir ein Dessert\, Salat oder Obst\nund 
 ein Baguettebrötchen\n- Erbseneintopf mit veganer Soja-Wurst (3\,60 €)\
 n  * zu jedem Gericht reichen wir ein Dessert\, Salat oder Obst\nund ein B
 aguettebrötchen\n\nLinie 2 Vegane Linie:\n- Karotten-Bohnen-Paprika-Curry
  mit Chilikartoffeln (3\,50 €)\n  * zu jedem Gericht reichen wir ein Des
 sert oder Obst\n\nLinie 3:\n- KRITHARAKI - Griechische Reisnudelpfanne mit
  Grillgemüse und Hähnchen (4\,25 €)\n- Blattsalat (0\,90 €)\n  * \nG
 urkensalat\n- Pudding Vanille (0\,85 €)\n\nLinie 4:\n- Hausgemachte Gnoc
 chi (3\,85 €)\n  * \nin Tomatensauce mit Meeresfrüchten\n- Blattsalat (
 0\,90 €)\n  * \nGurkensalat\n- Pudding Vanille (0\,85 €)\n\nLinie 5:\n
 - Cordon bleu vom Schwein (3\,55 €)\n  * \nBratensoße\n- Eierspätzle (
 1\,10 €)\n- Karottengemüse (1\,05 €)\n- Blattsalat (0\,90 €)\n  * \
 nGurkensalat\n- Pudding Vanille (0\,85 €)\n- Tagessuppe (0\,55 €)\n\nS
 chnitzelbar:\n- Schweine- und Hähnchenschnitzel\, vegetarische Leckereien
 \, Salatbuffet und Pommes (1\,10 €)\n  * \nSalatbuffet und Pommes - alle
 s zur Wahl zu einem Preis je 100 gramm\n- Verschiedene Desserts im Portion
 sbecher (0\,65 €)\n\nLinie 6:\n- Bunte Salatbowl (3\,20 €)\n- Badische
 s Buffet\, Preis je 100g (1\,10 €)\n- Salatbuffet mit frischer Rohkost\,
  Blattsalate und hausgemachten Dressings\, Preis je 100g (1\,10 €)\n- Da
 l - Curry von Roten Linsen\, Preis je 100g (1\,10 €)\n\nSpätausgabe und
  Abendessen:\n- Spätausgabe 14:00 bis 14:30 an der Linie 5 (3\,20 €)\n 
  * \nInfo zum Speisenangebot direkt an der Ausgabe\n\n[kœri]werk 11-14 Uh
 r:\n- Reine Kalbsbratwurst mit Currysoße (2\,60 €)\n  * Baguette\n- Veg
 ane Bratwurst auf Basis von Erbsen und Weizenprotein mit Currysoße (2\,40
  €)\n  * Baguette\n- koerifrites (1\,50 €)\n  * Baguette\n\nCafeteria 
 11-14 Uhr:\n- Pizzafleischkäse im Brötchen (2\,60 €)\n- Börekschnecke
  mit Käse (2\,30 €)\n\n[pizza]werk Pizza 11-14 Uhr:\n- Pizza Finocchio 
 - Fenchelsalami mit Kirschtomaten und Mozzarella (5\,45 €)\n- Pizza Myko
 nos - Hirtenkäse\, Paprika\, Oliven\, rote Zwiebeln und Mais (5\,25 €)\
 n- Pizza Mykonos vegan - Paprika\, Oliven\, rote Zwiebeln\, vegane Käseal
 ternative und Mais (5\,25 €)\n- Pizza Margherita vegetarisch - frische C
 ocktailtomaten\, Mozzarella\, Basilikumpesto (5\,15 €)\n- Pizza Margheri
 ta vegan - frische Cocktailtomaten\, vegane Käsealternative\, Basilikumpe
 sto (5\,15 €)\n\n[pizza]werk Salate / Vorspeisen:\n- Insalata piccola - 
 kleiner Blattsalat mit Hirtenkäse\, Oliven und Peperoni (2\,00 €)\n- In
 salata - Salatschale mit Blattsalat\, Tomate\, Gurke\, Radieschen und Pepe
 roni (2\,00 €)\n\n
SUMMARY:Mensa Adenauerring
END:VEVENT
BEGIN:VEVENT
DTSTAMP:20260424T021701Z
UID:1682587
DTSTART;VALUE=DATE:20260430
DTEND;VALUE=DATE:20260430
DESCRIPTION:Linie 1 Gut & Günstig:\n- Spaghetti Bolognese (3\,60 €)\n  *
  zu jedem Gericht reichen wir ein Dessert\, Salat oder Obst\n- Spaghetti m
 it Grünkernbolognese (3\,60 €)\n  * zu jedem Gericht reichen wir ein De
 ssert\, Salat oder Obst\n\nLinie 2 Vegane Linie:\n- Kichererbsen-Bohnen-Pf
 anne mit Paprika-\, Zucchini-\, und Auberginenwürfel (3\,80 €)\n  * zu 
 jedem Gericht reichen wir frisches Obst oder Salat\nSesamduftreis\n\nLinie
  3:\n- Solidaritätsessen: (2\,55 €)\n  * \nWeizenrisotto Pfanne Piri Pi
 ri\n- Blattsalat (0\,90 €)\n  * \nGärtnerinsalat\n- Mangoquark (0\,85 
 €)\n\nLinie 4:\n- Hausgemachte Gnocchi (3\,85 €)\n  * \nin Tomatensauc
 e mit Schweinefleisch\n- Blattsalat (0\,90 €)\n  * \nGärtnerinsalat\n- 
 Mangoquark (0\,85 €)\n\nLinie 5:\n- Hähnchenbrust im Knuspermantel (3\,
 50 €)\n  * \nPfefferrahmsoße\n- Broccoligemüse (1\,05 €)\n- Blattsal
 at (0\,90 €)\n  * \nGärtnerinsalat\n- Mangoquark (0\,85 €)\n- Rosmari
 nkartoffeln (0\,85 €)\n- Tagessuppe (0\,55 €)\n\nSchnitzelbar:\n- Schw
 eine- und Hähnchenschnitzel\, vegetarische Leckereien\, Salatbuffet und P
 ommes (1\,10 €)\n  * \nSalatbuffet und Pommes - alles zur Wahl zu einem 
 Preis je 100 gramm\n- Verschiedene Desserts im Portionsbecher (0\,65 €)\
 n\nLinie 6:\n- Wurstsalat (3\,20 €)\n- Frikadelle Hausfrauen Art mit Pfe
 fferrahmsauce\, Preis je 100g (1\,10 €)\n- Badisches Buffet\, Preis je 1
 00g (1\,10 €)\n- Salatbuffet mit frischer Rohkost\, Blattsalate und ausg
 emachten Dressings\, Preis je 100 g (1\,10 €)\n\nSpätausgabe und Abende
 ssen:\n- Spätausgabe 14:00 bis 14:30 an der Linie 2 (3\,20 €)\n  * \nIn
 fo zum Speisenangebot direkt an der Ausgabe\n\n[kœri]werk 11-14 Uhr:\n- R
 eine Kalbsbratwurst mit Currysoße (2\,60 €)\n  * Baguette\n- Vegane Bra
 twurst auf Basis von Erbsen und Weizenprotein mit Currysoße (2\,40 €)\n
   * Baguette\n- koerifrites (1\,50 €)\n  * Baguette\n\nCafeteria 11-14 U
 hr:\n- Fleischkäse im Brötchen (2\,20 €)\n- Dinkelschiffchen (2\,20 
 €)\n\n[pizza]werk Pizza 11-14 Uhr:\n- Pizza Finocchio - Fenchelsalami mi
 t Kirschtomaten und Mozzarella (5\,45 €)\n- Pizza Mykonos - Hirtenkäse\
 , Paprika\, Oliven\, rote Zwiebeln und Mais (5\,25 €)\n- Pizza Mykonos v
 egan - Paprika\, Oliven\, rote Zwiebeln\, vegane Käsealternative und Mais
  (5\,25 €)\n- Pizza Margherita vegetarisch - frische Cocktailtomaten\, M
 ozzarella\, Basilikumpesto (5\,15 €)\n- Pizza Margherita vegan - frische
  Cocktailtomaten\, vegane Käsealternative\, Basilikumpesto (5\,15 €)\n\
 n[pizza]werk Salate / Vorspeisen:\n- Insalata piccola - kleiner Blattsalat
  mit Hirtenkäse\, Oliven und Peperoni (2\,00 €)\n- Insalata - Salatscha
 le mit Blattsalat\, Tomate\, Gurke\, Radieschen und Peperoni (2\,00 €)\n
 \n
SUMMARY:Mensa Adenauerring
END:VEVENT
END:VCALENDAR
